BEGIN:VCALENDAR
VERSION:2.0
PRODID:-//Notorious Jazz - ECPv6.15.17//NONSGML v1.0//EN
CALSCALE:GREGORIAN
METHOD:PUBLISH
X-ORIGINAL-URL:https://notoriousjazz.com
X-WR-CALDESC:Events for Notorious Jazz
REFRESH-INTERVAL;VALUE=DURATION:PT1H
X-Robots-Tag:noindex
X-PUBLISHED-TTL:PT1H
BEGIN:VTIMEZONE
TZID:America/New_York
BEGIN:DAYLIGHT
TZOFFSETFROM:-0500
TZOFFSETTO:-0400
TZNAME:EDT
DTSTART:20220313T070000
END:DAYLIGHT
BEGIN:STANDARD
TZOFFSETFROM:-0400
TZOFFSETTO:-0500
TZNAME:EST
DTSTART:20221106T060000
END:STANDARD
BEGIN:DAYLIGHT
TZOFFSETFROM:-0500
TZOFFSETTO:-0400
TZNAME:EDT
DTSTART:20230312T070000
END:DAYLIGHT
BEGIN:STANDARD
TZOFFSETFROM:-0400
TZOFFSETTO:-0500
TZNAME:EST
DTSTART:20231105T060000
END:STANDARD
BEGIN:DAYLIGHT
TZOFFSETFROM:-0500
TZOFFSETTO:-0400
TZNAME:EDT
DTSTART:20240310T070000
END:DAYLIGHT
BEGIN:STANDARD
TZOFFSETFROM:-0400
TZOFFSETTO:-0500
TZNAME:EST
DTSTART:20241103T060000
END:STANDARD
END:VTIMEZONE
BEGIN:VEVENT
DTSTART;TZID=America/New_York:20230217T190000
DTEND;TZID=America/New_York:20230217T230000
DTSTAMP:20260422T070944
CREATED:20230210T020309Z
LAST-MODIFIED:20230210T020358Z
UID:34117-1676660400-1676674800@notoriousjazz.com
SUMMARY:LOSTON HARRIS TRIO
DESCRIPTION:Meet Loston Harris. His piano playing has been described as “percussive” with “incredibly fluid”. His vocals noted as “suave.” Loston himself will tell you he has worked hard during his career but knows he’s been blessed with the opportunities to play the music closest to his heart\, jazz. \nFor more than a decade Loston has headlined at a “home” that shares his passion for timeless music. The Legendary Bemelmans Bar located in The Carlyle in Manhattan’s storied Upper East Side\, has a legacy of hosting great cabaret and jazz greats from the likes of Bobby Short\, Eartha Kitt\, Elaine Stritch\, John Pizzarelli and the Modern Jazz Quartet (MJQ). \nThe innate and dazzling talent of Loston is a beacon of quality in a cacophonous world. He is contemporary\, stylish\, joyful\, playful\, powerful\, soulful and an immensely satisfying musician. Simply put\, his music is a combination of humanity and genius.— MICHAEL FEINSTEIN \nLoston Harris – piano & vocals | Gianluca Renzi – acoustic bass | Mike Lee – tenor saxophone 
URL:https://notoriousjazz.com/event/loston-harris-trio
LOCATION:South\, 600 N. Broad Street\, Philadelphia\, PA\, 19130\, United States
CATEGORIES:Club
ATTACH;FMTTYPE=image/png:https://notoriousjazz.com/wp-content/uploads/2023/02/LOSTON-HARRIS.png
END:VEVENT
BEGIN:VEVENT
DTSTART;TZID=America/New_York:20230217T190000
DTEND;TZID=America/New_York:20230219T230000
DTSTAMP:20260422T070944
CREATED:20230103T212547Z
LAST-MODIFIED:20230104T185826Z
UID:33571-1676660400-1676847600@notoriousjazz.com
SUMMARY:GEORGE COLEMAN w/ EMMET COHEN\, JOHN WEBBER & JOE FARNSWORTH
DESCRIPTION:No tenor saxophonist better epitomizes the robust muscularity of that heavyweight instrument of jazz expression than George Coleman.  With brilliant technique and a deeply soulful tone firmly rooted in his hometown of Memphis\, George has performed with many of jazz’ most legendary figures and influenced countless saxophonists during his half century in music. \nGrowing up in Memphis’ rich musical environment of the late ‘40s and early ‘50s\, alongside such notables as Booker Little\, Harold Mabern\, Frank Strozier\, Jamil Nasser\, Hank Crawford\, Phineas Newborn Jr.\, and blues immortal B.B. King\, Coleman began to teach himself to play the alto saxophone. For two years George was a member of that groundbreaking quintet with Herbie Hancock\, Ron Carter and Tony Williams\, recording four classic albums – Seven Steps to Heaven\, My Funny Valentine\, Four and Miles Davis in Europe – before departing to pursue other projects\, leaving that highly visible position to Wayne Shorter. \nFor the past 30 years George has also been a major force in jazz education.  In addition to his private teaching of advanced jazz techniques\, he has also been a consultant and teacher at the New School University\, Long Island University\, New York University and Mannes School of Music\, and has conducted workshops\, seminars and master classes at universities all over the U.S. At 76 years old\, George is still in full motion. His latest CD\, Four Generations of Miles with Ron Carter\, Jimmy Cobb and Mike Stern was released on Chesky Records in October 2002. \nMultifaceted American jazz pianist and composer Emmet Cohen is one of his generation’s pivotal figures in music and the related arts. Downbeat praised the “nimble touch\, measured stride and warm harmonic vocabulary” he employs to communicate with other musicians and audiences at what he terms “the deepest level of humanity and individuality.” Leader of the “Emmet Cohen Trio” and creator of the “Masters Legacy Series\,” Cohen is an internationally acclaimed jazz artist and dedicated music educator. \nJohn Webber is an American jazz double-bassist. In 1987\, John moved to NYC and began performing with Bill Hardman and Junior Cook; he played on Juniors last record date ‘You Leave Me Breathless.’ His career has included long-running collaborations with Johnny Griffin\, George Coleman\, Eric Alexander and Jimmy Cobbs Mob as well as freelance work with Etta Jones\, Horace Silver\, Ryan Kisor\, Lou Donaldson\, Milt Jackson\, Benny Greene\, Barry Harris. Brad Mehidau and many\, many others. \nOne of the most highly regarded jazz drummers on the scene today\, Joe Farnsworth is known for his blazing speed\, precision\, musical\, and melodic playing. Joseph’s career includes recording over 100 CD’s as leader and side-man\, jazz festivals and world tours with Pharaoh Sanders\, Horace Silver\, Harold Mabern\, McCoy Tyner & more. He is currently the drummer for McCoy Tyner and a member of the Pharaoh Sanders Quartet\, Harold Mabern Trio\, and is a founding member of the renowned One for All Quintet. \nShowtimes: Friday & Saturday ~ 7:00pm | 9:30pm \nSunday ~ 5:00pm & 7:30pm \nStream @ 5:00pm & 7:00pm Only | $10.00
URL:https://notoriousjazz.com/event/george-coleman-w-emmet-cohen-john-webber-joe-farnsworth
LOCATION:Keystone Korner Baltimore\, 1350 Lancaster Street\, Baltimore\, MD\, 21231\, United States
CATEGORIES:Club
ATTACH;FMTTYPE=image/png:https://notoriousjazz.com/wp-content/uploads/2023/01/GEORGE-COLEMAN.png
END:VEVENT
END:VCALENDAR