BEGIN:VCALENDAR
VERSION:2.0
PRODID:-//Notorious Jazz - ECPv6.15.17//NONSGML v1.0//EN
CALSCALE:GREGORIAN
METHOD:PUBLISH
X-WR-CALNAME:Notorious Jazz
X-ORIGINAL-URL:https://notoriousjazz.com
X-WR-CALDESC:Events for Notorious Jazz
REFRESH-INTERVAL;VALUE=DURATION:PT1H
X-Robots-Tag:noindex
X-PUBLISHED-TTL:PT1H
BEGIN:VTIMEZONE
TZID:America/Los_Angeles
BEGIN:DAYLIGHT
TZOFFSETFROM:-0800
TZOFFSETTO:-0700
TZNAME:PDT
DTSTART:20220313T100000
END:DAYLIGHT
BEGIN:STANDARD
TZOFFSETFROM:-0700
TZOFFSETTO:-0800
TZNAME:PST
DTSTART:20221106T090000
END:STANDARD
BEGIN:DAYLIGHT
TZOFFSETFROM:-0800
TZOFFSETTO:-0700
TZNAME:PDT
DTSTART:20230312T100000
END:DAYLIGHT
BEGIN:STANDARD
TZOFFSETFROM:-0700
TZOFFSETTO:-0800
TZNAME:PST
DTSTART:20231105T090000
END:STANDARD
BEGIN:DAYLIGHT
TZOFFSETFROM:-0800
TZOFFSETTO:-0700
TZNAME:PDT
DTSTART:20240310T100000
END:DAYLIGHT
BEGIN:STANDARD
TZOFFSETFROM:-0700
TZOFFSETTO:-0800
TZNAME:PST
DTSTART:20241103T090000
END:STANDARD
END:VTIMEZONE
BEGIN:VEVENT
DTSTART;TZID=America/Los_Angeles:20231019T190000
DTEND;TZID=America/Los_Angeles:20231021T230000
DTSTAMP:20260421T181048
CREATED:20231008T185537Z
LAST-MODIFIED:20231008T190327Z
UID:37349-1697742000-1697929200@notoriousjazz.com
SUMMARY:WAYNE ESCOFFERY QUARTET
DESCRIPTION:Playing music from the saxophonist’s latest release “Like Minds”\n\nWayne Escoffery is a 2014 & 2021 Downbeat Critics Poll Winner for both the tenor and soprano saxophones and a Grammy Award-winning musician. He is considered one of the jazz world’s most talented saxophonists and in-demand sidemen. Escoffery leads his groups\, which tour internationally and has made several highly acclaimed studio recordings with said groups. \nHis current working quartet features pianist David Kikoski\, bassist Ugonna Okegwo\, and drummer Mark Whitfield Jr.\, who took over for the late great Ralph Peterson Jr. \nThe band’s 2020 album The Humble Warrior on the Smoke Sessions Records label has gotten rave reviews and received four stars in the June 2020 issue of Downbeat Magazine. Full band lineup: Wayne Escoffery: Tenor Saxophone | David Kikoski: Piano | Ugonna Okegwo: Bass | Marvin “Smitty” Smith: Drums
URL:https://notoriousjazz.com/event/wayne-escoffery-quartet
LOCATION:Black Cat\, 400 Eddy Street\, San Francisco\, CA\, 94109\, United States
CATEGORIES:Club
ATTACH;FMTTYPE=image/jpeg:https://notoriousjazz.com/wp-content/uploads/2023/10/WAYNE-ESCOFFERY.jpeg
END:VEVENT
END:VCALENDAR