BEGIN:VCALENDAR
VERSION:2.0
PRODID:-//Notorious Jazz - ECPv6.15.17//NONSGML v1.0//EN
CALSCALE:GREGORIAN
METHOD:PUBLISH
X-WR-CALNAME:Notorious Jazz
X-ORIGINAL-URL:https://notoriousjazz.com
X-WR-CALDESC:Events for Notorious Jazz
REFRESH-INTERVAL;VALUE=DURATION:PT1H
X-Robots-Tag:noindex
X-PUBLISHED-TTL:PT1H
BEGIN:VTIMEZONE
TZID:Asia/Tokyo
BEGIN:STANDARD
TZOFFSETFROM:+0900
TZOFFSETTO:+0900
TZNAME:JST
DTSTART:20230101T000000
END:STANDARD
END:VTIMEZONE
BEGIN:VEVENT
DTSTART;TZID=Asia/Tokyo:20240719T191500
DTEND;TZID=Asia/Tokyo:20240719T204500
DTSTAMP:20260420T214239
CREATED:20240713T142934Z
LAST-MODIFIED:20240713T142934Z
UID:41671-1721416500-1721421900@notoriousjazz.com
SUMMARY:YASUKO NAKAMURA
DESCRIPTION:Live @ Alfie’s CD release party!!! Seventh in a series of popular live recordings set at Alfie’s\, a long-established jazz club in Roppongi\, Yasuko Nakamura is an authentic jazz singer reminiscent of Ella Fitzgerald and Billie Holiday. Her voice is rich in expression as she expresses the emotions of the moments in which she lives\, and we hope you will listen to her fascinating live performances where her personality is on full display. \nTrack List: 1. But Beautiful | 2. Round Midnight | 3. For All We Know | 4. Body and Soul | 5. When October Goes | 6. House is Not a Home | 7. At Last | 8. Day In Day Out  | 9. PS I Love You \nThe Performers: Yasuko Nakamura ~ vocal | Lynn Heitetsu ~ piano | Yutaka Yoshida ~ bass | Hiroshi Murakami ~ drums \nCover: ¥4950
URL:https://notoriousjazz.com/event/yasuko-nakamura
LOCATION:Jazz House Alfie\, 6-2-35 Roppongi\, Minato-Ku\, Tokyo\, Japan
CATEGORIES:Club
ATTACH;FMTTYPE=image/jpeg:https://notoriousjazz.com/wp-content/uploads/2024/07/YASUKO-NAKAMURA.jpg
END:VEVENT
END:VCALENDAR