BEGIN:VCALENDAR
VERSION:2.0
PRODID:-//Notorious Jazz - ECPv6.15.17//NONSGML v1.0//EN
CALSCALE:GREGORIAN
METHOD:PUBLISH
X-WR-CALNAME:Notorious Jazz
X-ORIGINAL-URL:https://notoriousjazz.com
X-WR-CALDESC:Events for Notorious Jazz
REFRESH-INTERVAL;VALUE=DURATION:PT1H
X-Robots-Tag:noindex
X-PUBLISHED-TTL:PT1H
BEGIN:VTIMEZONE
TZID:America/New_York
BEGIN:DAYLIGHT
TZOFFSETFROM:-0500
TZOFFSETTO:-0400
TZNAME:EDT
DTSTART:20230312T070000
END:DAYLIGHT
BEGIN:STANDARD
TZOFFSETFROM:-0400
TZOFFSETTO:-0500
TZNAME:EST
DTSTART:20231105T060000
END:STANDARD
BEGIN:DAYLIGHT
TZOFFSETFROM:-0500
TZOFFSETTO:-0400
TZNAME:EDT
DTSTART:20240310T070000
END:DAYLIGHT
BEGIN:STANDARD
TZOFFSETFROM:-0400
TZOFFSETTO:-0500
TZNAME:EST
DTSTART:20241103T060000
END:STANDARD
BEGIN:DAYLIGHT
TZOFFSETFROM:-0500
TZOFFSETTO:-0400
TZNAME:EDT
DTSTART:20250309T070000
END:DAYLIGHT
BEGIN:STANDARD
TZOFFSETFROM:-0400
TZOFFSETTO:-0500
TZNAME:EST
DTSTART:20251102T060000
END:STANDARD
END:VTIMEZONE
BEGIN:VEVENT
DTSTART;TZID=America/New_York:20240905T190000
DTEND;TZID=America/New_York:20240908T230000
DTSTAMP:20260422T094603
CREATED:20240825T232541Z
LAST-MODIFIED:20240825T232655Z
UID:42254-1725562800-1725836400@notoriousjazz.com
SUMMARY:WAYNE ESCOFFERY
DESCRIPTION:The saxophone is presenting his new West Coast Album Release of Alone. \nGrammy Award-winning saxophonist Wayne Escoffery is an electrifying force in the jazz world. A two-time Downbeat Critics Poll Winner (2014 & 2021) for both tenor and soprano saxophones\, he is a powerhouse talent and one of the most sought-after sidemen in the game. \nLeading his own cutting-edge ensembles\, Escoffery commands the global stage with jaw-dropping performances that push the boundaries of jazz. His current quartet featuring virtuoso pianist David Kikoski\, dynamic bassist Ugonna Okegwo\, and the explosive Mark Whitfield Jr. on drums\, has been making waves\, taking over after the legendary Ralph Peterson Jr. \nThe group’s 2020 release\, The Humble Warrior  on Smoke Sessions Records\, has been setting the scene on fire with rave reviews and a glowing four-star rating in Downbeat Magazine’s June 2020 issue. This is a band that’s redefining the sound of modern jazz. \nBand lineup: Wayne Escoffery\, tenor saxophone | Orrin Evans\, piano | Ugonna Okegwo\, bass | Carl Allen\, drums
URL:https://notoriousjazz.com/event/wayne-escoffery-2
LOCATION:Black Cat\, 400 Eddy Street\, San Francisco\, CA\, 94109\, United States
CATEGORIES:Club
ATTACH;FMTTYPE=image/jpeg:https://notoriousjazz.com/wp-content/uploads/2024/08/WAYNE-ESCOFFERY.jpg
END:VEVENT
BEGIN:VEVENT
DTSTART;TZID=America/New_York:20240906T193000
DTEND;TZID=America/New_York:20240906T230000
DTSTAMP:20260422T094603
CREATED:20240825T230008Z
LAST-MODIFIED:20240825T230008Z
UID:42248-1725651000-1725663600@notoriousjazz.com
SUMMARY:KIMMIE HORNE
DESCRIPTION:Kimmie Horne is an international jazz vocalist\, model\, and actress and a native Detroiter\, descendant of the legendary songstress and actor Lena Horne\, and niece of the late great singer/songwriter Cleveland Horne of the Fantastic Four. She has left her mark in areas around the world\, including\, Detroit\, Chicago\, Las Vegas\, Atlantic City\, LA\, San Francisco\, Jamaica\, Ontario\, Toronto\, Puerto Rico\, London\, Tokyo\, Kyoto\, Osaka\, and more. \nIn addition to live performances\, she touts her cds High Standards\, Loving This Jazz\, and Live in Las Vegas. Her 2018 release of her new video\, As Long as I Live\, viewed by thousands\, has received critical praise. Her songs\, I Hope You Dance\, and special arrangement of\, I Will Survive\, demonstrate her blend of talent and sophistication.
URL:https://notoriousjazz.com/event/kimmie-horne
LOCATION:Cliff Bell’s\, 2030 Park Avenue\, Detroit\, MI\, 48226\, United States
CATEGORIES:Club
ATTACH;FMTTYPE=image/jpeg:https://notoriousjazz.com/wp-content/uploads/2024/08/KIMMIE-HORNE.jpg
END:VEVENT
END:VCALENDAR