BEGIN:VCALENDAR
VERSION:2.0
PRODID:-//Notorious Jazz - ECPv6.15.17//NONSGML v1.0//EN
CALSCALE:GREGORIAN
METHOD:PUBLISH
X-WR-CALNAME:Notorious Jazz
X-ORIGINAL-URL:https://notoriousjazz.com
X-WR-CALDESC:Events for Notorious Jazz
REFRESH-INTERVAL;VALUE=DURATION:PT1H
X-Robots-Tag:noindex
X-PUBLISHED-TTL:PT1H
BEGIN:VTIMEZONE
TZID:America/New_York
BEGIN:DAYLIGHT
TZOFFSETFROM:-0500
TZOFFSETTO:-0400
TZNAME:EDT
DTSTART:20240310T070000
END:DAYLIGHT
BEGIN:STANDARD
TZOFFSETFROM:-0400
TZOFFSETTO:-0500
TZNAME:EST
DTSTART:20241103T060000
END:STANDARD
BEGIN:DAYLIGHT
TZOFFSETFROM:-0500
TZOFFSETTO:-0400
TZNAME:EDT
DTSTART:20250309T070000
END:DAYLIGHT
BEGIN:STANDARD
TZOFFSETFROM:-0400
TZOFFSETTO:-0500
TZNAME:EST
DTSTART:20251102T060000
END:STANDARD
BEGIN:DAYLIGHT
TZOFFSETFROM:-0500
TZOFFSETTO:-0400
TZNAME:EDT
DTSTART:20260308T070000
END:DAYLIGHT
BEGIN:STANDARD
TZOFFSETFROM:-0400
TZOFFSETTO:-0500
TZNAME:EST
DTSTART:20261101T060000
END:STANDARD
END:VTIMEZONE
BEGIN:VEVENT
DTSTART;TZID=America/New_York:20250708T190000
DTEND;TZID=America/New_York:20250712T235900
DTSTAMP:20260421T170641
CREATED:20250629T162020Z
LAST-MODIFIED:20250629T162020Z
UID:46339-1752001200-1752364740@notoriousjazz.com
SUMMARY:ANAT COHEN QUARTETINHO
DESCRIPTION:Following great success at some of the world’s great jazz festivals and venues with her Tentet\, Grammy-nominated clarinetist and composer Anat Cohen shifts her focus to an intimate group sound with her newest band\, the endlessly colorful Quartetinho (pronounced “quar-te-CHIN-yo\,” i.e.\, little quartet). \nThe group of New York-based international multi-instrumentalist-virtuosos are all drawn from the ranks of her aforementioned Tentet. The idea of instrumental doubling to achieve a wide stylistic range comes from the larger group\, and the spirit of this cross-cultural / stylistic ensemble ring true throughout their performances. They share a deep love for music in all its heterogeneity and it’s all amply represented in both recordings and the band’s own live show. The result is boundlessly melodic and lyrical\, with a wide array of timbres and subtle details of orchestration. \nThe Group:\nClarinet: Anat Cohen\nBass: Tal Mashiach\nPiano/Accordion: Vitor Gonçalves\nVibraphone/Percussion: James Shipp \nCover: $40.61 ~ $50.91
URL:https://notoriousjazz.com/event/anat-cohen-quartetinho
LOCATION:Birdland\, 315 W 44th Street\, #5402\, New York City\, NY\, 10036\, United States
CATEGORIES:Club
ATTACH;FMTTYPE=image/png:https://notoriousjazz.com/wp-content/uploads/2025/06/ANAT-COHEN-@-BIRDLAND.png
END:VEVENT
BEGIN:VEVENT
DTSTART;TZID=America/New_York:20250710T190000
DTEND;TZID=America/New_York:20250710T210000
DTSTAMP:20260421T170641
CREATED:20250707T023129Z
LAST-MODIFIED:20250707T023416Z
UID:46440-1752174000-1752181200@notoriousjazz.com
SUMMARY:SACHAL VASANDANI
DESCRIPTION:Sachal Vasandani is recognized for his singular voice\, with a tone and unique phrasing that mark him as one of the most compelling artists on the scene today. Thoroughly rooted in jazz\, Sachal has the swagger to front the most swinging big bands and the vulnerability to present definitive takes of classic ballads. His deeply creative approach to improvisation across lyrics\, melodic changes and time signatures is always soulful\, and he has come to be regarded as one of the eminent vocal improvisers of his generation. \nHis latest album\, Best Life Now\, produced by renowned drummer Nate Smith\, was released in early 2025\, following the success of his 2022 project Still Life with pianist Romain Collin. With a career spanning critically acclaimed albums such as Shadow Train and Slow Motion Miracles\, he has worked with a stellar lineup of musicians including Milton Nascimento\, Wynton Marsalis\, Bobby McFerrin\, and Jon Hendricks. \nCover: $30.00 ~ $35.00 + fee | Streaming: $15.00 +fee
URL:https://notoriousjazz.com/event/sachal-vasandani
LOCATION:Keystone Korner Baltimore\, 1350 Lancaster Street\, Baltimore\, MD\, 21231\, United States
CATEGORIES:Club
ATTACH;FMTTYPE=image/png:https://notoriousjazz.com/wp-content/uploads/2025/07/SACHAL-VASANDANI-@-KEYSTONE-KORNER.png
END:VEVENT
BEGIN:VEVENT
DTSTART;TZID=America/New_York:20250710T193000
DTEND;TZID=America/New_York:20250710T210000
DTSTAMP:20260421T170641
CREATED:20250629T141940Z
LAST-MODIFIED:20250629T142732Z
UID:46333-1752175800-1752181200@notoriousjazz.com
SUMMARY:KALEB KIRBY
DESCRIPTION:The band comes together for a vibrant tribute to the legendary John Scofield. From groove-heavy electric moments to intimate acoustic explorations\, the ensemble reimagines Scofield’s career-spanning work with deep respect and fearless creativity. \nDrawing from his collaborations with Miles Davis\, Medeski Martin & Wood\, and his own celebrated ensembles\, the program showcases the expressive range and rhythmic ingenuity that define Scofield’s voice—bridging tradition and innovation through bold interplay and dynamic sound. \n\nThe Band:\nKaleb Kirby | drums\nGreg Dallas | guitar\nChris Thomas | bass\nAustin Cebulski | tenor saxophone \nCover: Sold Out
URL:https://notoriousjazz.com/event/kaleb-kirby
LOCATION:Jazz St. Louis\, 3536 Washington Avenue\, St. Louis\, MO\, 63103\, United States
CATEGORIES:Club
ATTACH;FMTTYPE=image/png:https://notoriousjazz.com/wp-content/uploads/2025/06/KALEB-KIRBY-@-JAZZ-ST.-LOUIS.png
END:VEVENT
END:VCALENDAR