BEGIN:VCALENDAR
VERSION:2.0
PRODID:-//Notorious Jazz - ECPv6.15.17//NONSGML v1.0//EN
CALSCALE:GREGORIAN
METHOD:PUBLISH
X-WR-CALNAME:Notorious Jazz
X-ORIGINAL-URL:https://notoriousjazz.com
X-WR-CALDESC:Events for Notorious Jazz
REFRESH-INTERVAL;VALUE=DURATION:PT1H
X-Robots-Tag:noindex
X-PUBLISHED-TTL:PT1H
BEGIN:VTIMEZONE
TZID:America/New_York
BEGIN:DAYLIGHT
TZOFFSETFROM:-0500
TZOFFSETTO:-0400
TZNAME:EDT
DTSTART:20250309T070000
END:DAYLIGHT
BEGIN:STANDARD
TZOFFSETFROM:-0400
TZOFFSETTO:-0500
TZNAME:EST
DTSTART:20251102T060000
END:STANDARD
BEGIN:DAYLIGHT
TZOFFSETFROM:-0500
TZOFFSETTO:-0400
TZNAME:EDT
DTSTART:20260308T070000
END:DAYLIGHT
BEGIN:STANDARD
TZOFFSETFROM:-0400
TZOFFSETTO:-0500
TZNAME:EST
DTSTART:20261101T060000
END:STANDARD
BEGIN:DAYLIGHT
TZOFFSETFROM:-0500
TZOFFSETTO:-0400
TZNAME:EDT
DTSTART:20270314T070000
END:DAYLIGHT
BEGIN:STANDARD
TZOFFSETFROM:-0400
TZOFFSETTO:-0500
TZNAME:EST
DTSTART:20271107T060000
END:STANDARD
END:VTIMEZONE
BEGIN:VEVENT
DTSTART;TZID=America/New_York:20260415T194500
DTEND;TZID=America/New_York:20260415T211500
DTSTAMP:20260422T054446
CREATED:20260402T012743Z
LAST-MODIFIED:20260402T012743Z
UID:49262-1776282300-1776287700@notoriousjazz.com
SUMMARY:GRACE KELLY
DESCRIPTION:You loved her before\, so we’re bringing her back.  Grace Kelly is an unequivocal musical prodigy\, singer-saxophonist-songwriter-composer\, and band leader. She has rocked the jazz world with her joyous sold-out concerts\, acclaimed albums and a resume that includes performing at the Hollywood Bowl and as part of the house band for “The Late Show with Stephen Colbert” – all before reaching her mid-twenties. \nKelly has performed and recorded with renowned artists including Lin Manuel- Miranda\, Dave Brubeck\, Phil Woods\, Huey Lewis\, Harry Connick Jr.\, Gloria Estefan\, Questlove\, and Wynton Marsalis. It will be an evening of joy-filled jazz! \nTickets: $76.70
URL:https://notoriousjazz.com/event/grace-kelly
LOCATION:Amaturo Theater At The Broward Center For The Performing Arts\, 201 SW 5th Avenue\, Ft. Lauderdale\, FL\, 33312\, United States
CATEGORIES:Concert
ATTACH;FMTTYPE=image/png:https://notoriousjazz.com/wp-content/uploads/2026/04/GRACE-KELLY-@-AMATURO-THEATER.png
END:VEVENT
END:VCALENDAR