BEGIN:VCALENDAR
VERSION:2.0
PRODID:-//Notorious Jazz - ECPv6.15.17//NONSGML v1.0//EN
CALSCALE:GREGORIAN
METHOD:PUBLISH
X-ORIGINAL-URL:https://notoriousjazz.com
X-WR-CALDESC:Events for Notorious Jazz
REFRESH-INTERVAL;VALUE=DURATION:PT1H
X-Robots-Tag:noindex
X-PUBLISHED-TTL:PT1H
BEGIN:VTIMEZONE
TZID:America/New_York
BEGIN:DAYLIGHT
TZOFFSETFROM:-0500
TZOFFSETTO:-0400
TZNAME:EDT
DTSTART:20210314T070000
END:DAYLIGHT
BEGIN:STANDARD
TZOFFSETFROM:-0400
TZOFFSETTO:-0500
TZNAME:EST
DTSTART:20211107T060000
END:STANDARD
BEGIN:DAYLIGHT
TZOFFSETFROM:-0500
TZOFFSETTO:-0400
TZNAME:EDT
DTSTART:20220313T070000
END:DAYLIGHT
BEGIN:STANDARD
TZOFFSETFROM:-0400
TZOFFSETTO:-0500
TZNAME:EST
DTSTART:20221106T060000
END:STANDARD
BEGIN:DAYLIGHT
TZOFFSETFROM:-0500
TZOFFSETTO:-0400
TZNAME:EDT
DTSTART:20230312T070000
END:DAYLIGHT
BEGIN:STANDARD
TZOFFSETFROM:-0400
TZOFFSETTO:-0500
TZNAME:EST
DTSTART:20231105T060000
END:STANDARD
END:VTIMEZONE
BEGIN:VTIMEZONE
TZID:Europe/Zurich
BEGIN:DAYLIGHT
TZOFFSETFROM:+0100
TZOFFSETTO:+0200
TZNAME:CEST
DTSTART:20210328T010000
END:DAYLIGHT
BEGIN:STANDARD
TZOFFSETFROM:+0200
TZOFFSETTO:+0100
TZNAME:CET
DTSTART:20211031T010000
END:STANDARD
BEGIN:DAYLIGHT
TZOFFSETFROM:+0100
TZOFFSETTO:+0200
TZNAME:CEST
DTSTART:20220327T010000
END:DAYLIGHT
BEGIN:STANDARD
TZOFFSETFROM:+0200
TZOFFSETTO:+0100
TZNAME:CET
DTSTART:20221030T010000
END:STANDARD
BEGIN:DAYLIGHT
TZOFFSETFROM:+0100
TZOFFSETTO:+0200
TZNAME:CEST
DTSTART:20230326T010000
END:DAYLIGHT
BEGIN:STANDARD
TZOFFSETFROM:+0200
TZOFFSETTO:+0100
TZNAME:CET
DTSTART:20231029T010000
END:STANDARD
END:VTIMEZONE
BEGIN:VTIMEZONE
TZID:America/Chicago
BEGIN:DAYLIGHT
TZOFFSETFROM:-0600
TZOFFSETTO:-0500
TZNAME:CDT
DTSTART:20210314T080000
END:DAYLIGHT
BEGIN:STANDARD
TZOFFSETFROM:-0500
TZOFFSETTO:-0600
TZNAME:CST
DTSTART:20211107T070000
END:STANDARD
BEGIN:DAYLIGHT
TZOFFSETFROM:-0600
TZOFFSETTO:-0500
TZNAME:CDT
DTSTART:20220313T080000
END:DAYLIGHT
BEGIN:STANDARD
TZOFFSETFROM:-0500
TZOFFSETTO:-0600
TZNAME:CST
DTSTART:20221106T070000
END:STANDARD
BEGIN:DAYLIGHT
TZOFFSETFROM:-0600
TZOFFSETTO:-0500
TZNAME:CDT
DTSTART:20230312T080000
END:DAYLIGHT
BEGIN:STANDARD
TZOFFSETFROM:-0500
TZOFFSETTO:-0600
TZNAME:CST
DTSTART:20231105T070000
END:STANDARD
END:VTIMEZONE
BEGIN:VEVENT
DTSTART;TZID=America/New_York:20221001T190000
DTEND;TZID=America/New_York:20221002T230000
DTSTAMP:20260422T084521
CREATED:20220704T165603Z
LAST-MODIFIED:20220919T233110Z
UID:30836-1664650800-1664751600@notoriousjazz.com
SUMMARY:THE YELLOWJACKETS
DESCRIPTION:The Yellowjackets formed in the late 1970’s as the backup band for guitarist Robben Ford. They recorded their first album together in 1980. Shortly after that recording\, however\, Ford decided to part ways and go in a different musical direction. As a result\, the modern day Yellowjackets were formed — a trio with Russell Ferrante\, Jimmy Haslip and Ricky Lawson. Since then\, and with the addition of Bob Mintzer\, the Yellowjackets have gained and maintained prominence as one of jazz’s most influential and loved groups. \nThe most recent addition to the band adds Australian bass player Dane Alderson in to the mix. With his exceptional rhythmic sensibility and natural disposition toward groove\, Dane brings a new energy to the band and adds a youthful approach to the music. \nShowtimes: \n7:00 pm | Sat ~ $40.00\, Sun ~ $30.00 \n9:00 pm | Sat ~ $40.00\, Sun ~ $20.00 \n$15 food/beverage minimum per person not included in ticket price.
URL:https://notoriousjazz.com/event/the-yellowjackets
LOCATION:Blues Alley\, 1073 Wisconsin Avenue NW\, Washington\, DC\, 20007\, United States
CATEGORIES:Club
ATTACH;FMTTYPE=image/jpeg:https://notoriousjazz.com/wp-content/uploads/2022/07/THE-YELLOWJACKETS.jpg
END:VEVENT
BEGIN:VEVENT
DTSTART;TZID=America/New_York:20221007T193000
DTEND;TZID=America/New_York:20221009T233000
DTSTAMP:20260422T084521
CREATED:20220929T233426Z
LAST-MODIFIED:20220929T233426Z
UID:31909-1665171000-1665358200@notoriousjazz.com
SUMMARY:STRAIGHT AHEAD
DESCRIPTION:The Group:  \nGayelynn McKinney ~ Drums\nAlina Morr ~ Piano\nMarion Hayden ~ Bass\nKymberli Wright ~ Vocals \nShowtimes: 7:30pm & 9:30pm
URL:https://notoriousjazz.com/event/straight-ahead
LOCATION:Cliff Bell’s\, 2030 Park Avenue\, Detroit\, MI\, 48226\, United States
CATEGORIES:Club
ATTACH;FMTTYPE=image/jpeg:https://notoriousjazz.com/wp-content/uploads/2022/09/STRAIGHT-AHEAD.jpg
END:VEVENT
BEGIN:VEVENT
DTSTART;TZID=America/New_York:20221012T193000
DTEND;TZID=America/New_York:20221012T230000
DTSTAMP:20260422T084521
CREATED:20221013T124136Z
LAST-MODIFIED:20221016T000533Z
UID:32138-1665603000-1665615600@notoriousjazz.com
SUMMARY:ROY HARGROVE BIRTHDAY TRIBUTE
DESCRIPTION:CELEBRATING THE CO-FOUNDER OF THE JAZZ GALLERY \nJaleel Shaw ~ saxophones\nGiveton Gelin – trumpet\nOrrin Evans -piano\nMimi Jones -bass\nJohnathan Blake –drums \nWith Special Guests\nRenee Neufville -vocals\nTadataka Unno -piano\nJustin Robinson –saxophone \nGuest MC: Lezlie Harrison \nSets at 7.30pm + 9.30pm ET\n$30/$10 members; cabaret seating: $40/$20 members; LIVESTREAM: $20/$5 members
URL:https://notoriousjazz.com/event/roy-hargrove-birthday-tribute
LOCATION:Jazz Gallery\, 1158 Broadway 5th Floor\, New York City\, NY\, 10001\, United States
CATEGORIES:Club
ATTACH;FMTTYPE=image/png:https://notoriousjazz.com/wp-content/uploads/2022/10/JALEEL-SHAW.png
END:VEVENT
BEGIN:VEVENT
DTSTART;TZID=Europe/Zurich:20221015T200000
DTEND;TZID=Europe/Zurich:20221015T213000
DTSTAMP:20260422T084521
CREATED:20221010T114312Z
LAST-MODIFIED:20221012T175116Z
UID:32083-1665864000-1665869400@notoriousjazz.com
SUMMARY:SNARKY PUPPY
DESCRIPTION:Snarky Puppy is an American instrumental ensemble led by bassist Michael League. Founded in 2004\, Snarky Puppy combines a variety of jazz idioms\, rock\, world music\, and funk and has won four Grammy Awards. The once Texan\, now New York-based quasi-collective Snarky Puppy has gone from the best-kept secret to one of the most respected names in instrumental music.
URL:https://notoriousjazz.com/event/snarky-puppy
LOCATION:Volkshaus\, Stauffacherstrasse 60\, 8004 Zurich\, Switzerland
CATEGORIES:Concert
ATTACH;FMTTYPE=image/jpeg:https://notoriousjazz.com/wp-content/uploads/2022/10/SNARKY-PUPPY.jpg
END:VEVENT
BEGIN:VEVENT
DTSTART;TZID=America/Chicago:20221028T193000
DTEND;TZID=America/Chicago:20221029T230000
DTSTAMP:20260422T084521
CREATED:20220920T210128Z
LAST-MODIFIED:20221012T174619Z
UID:31769-1666985400-1667084400@notoriousjazz.com
SUMMARY:TIA FULLER\, MIMI JONES & MATT WILSON
DESCRIPTION:Join saxophonist Tia Fuller\, bassist Mimi Jones\, and drummer Matt Wilson as they cap off their week in St. Louis with performances on the Ferring Jazz Bistro stage! Jazz St. Louis’s Artist Residency bands are one-of-a-kind groupings brought together for the specific purpose of securing the future of jazz through clinics\, masterclasses\, and in-school performances. Jazz St. Louis engages these artists for an entire week\, during which they visit area schools and conduct masterclasses and clinics for middle and high school students. \nValet Parking ~ $10.00 prepaid \nValet parking is available for all Jazz St. Louis performances. Discounted $10 valet parking may be purchased when ordering your tickets. Please make sure to select the correct date and time when adding parking to your cart with your tickets before purchasing. \nOctober 28 ~ 7:30pm | 9:30pm \nOctober 29 ~ 7:30pm | 9:30pm
URL:https://notoriousjazz.com/event/tia-fuller-mimi-jones-matt-wilson
LOCATION:Jazz St. Louis\, 3536 Washington Avenue\, St. Louis\, MO\, 63103\, United States
CATEGORIES:Club
ATTACH;FMTTYPE=image/jpeg:https://notoriousjazz.com/wp-content/uploads/2022/09/TIA-FULLER.jpg
END:VEVENT
END:VCALENDAR