BEGIN:VCALENDAR
VERSION:2.0
PRODID:-//Notorious Jazz - ECPv6.15.17//NONSGML v1.0//EN
CALSCALE:GREGORIAN
METHOD:PUBLISH
X-WR-CALNAME:Notorious Jazz
X-ORIGINAL-URL:https://notoriousjazz.com
X-WR-CALDESC:Events for Notorious Jazz
REFRESH-INTERVAL;VALUE=DURATION:PT1H
X-Robots-Tag:noindex
X-PUBLISHED-TTL:PT1H
BEGIN:VTIMEZONE
TZID:America/New_York
BEGIN:DAYLIGHT
TZOFFSETFROM:-0500
TZOFFSETTO:-0400
TZNAME:EDT
DTSTART:20220313T070000
END:DAYLIGHT
BEGIN:STANDARD
TZOFFSETFROM:-0400
TZOFFSETTO:-0500
TZNAME:EST
DTSTART:20221106T060000
END:STANDARD
BEGIN:DAYLIGHT
TZOFFSETFROM:-0500
TZOFFSETTO:-0400
TZNAME:EDT
DTSTART:20230312T070000
END:DAYLIGHT
BEGIN:STANDARD
TZOFFSETFROM:-0400
TZOFFSETTO:-0500
TZNAME:EST
DTSTART:20231105T060000
END:STANDARD
BEGIN:DAYLIGHT
TZOFFSETFROM:-0500
TZOFFSETTO:-0400
TZNAME:EDT
DTSTART:20240310T070000
END:DAYLIGHT
BEGIN:STANDARD
TZOFFSETFROM:-0400
TZOFFSETTO:-0500
TZNAME:EST
DTSTART:20241103T060000
END:STANDARD
END:VTIMEZONE
BEGIN:VTIMEZONE
TZID:America/Los_Angeles
BEGIN:DAYLIGHT
TZOFFSETFROM:-0800
TZOFFSETTO:-0700
TZNAME:PDT
DTSTART:20220313T100000
END:DAYLIGHT
BEGIN:STANDARD
TZOFFSETFROM:-0700
TZOFFSETTO:-0800
TZNAME:PST
DTSTART:20221106T090000
END:STANDARD
BEGIN:DAYLIGHT
TZOFFSETFROM:-0800
TZOFFSETTO:-0700
TZNAME:PDT
DTSTART:20230312T100000
END:DAYLIGHT
BEGIN:STANDARD
TZOFFSETFROM:-0700
TZOFFSETTO:-0800
TZNAME:PST
DTSTART:20231105T090000
END:STANDARD
BEGIN:DAYLIGHT
TZOFFSETFROM:-0800
TZOFFSETTO:-0700
TZNAME:PDT
DTSTART:20240310T100000
END:DAYLIGHT
BEGIN:STANDARD
TZOFFSETFROM:-0700
TZOFFSETTO:-0800
TZNAME:PST
DTSTART:20241103T090000
END:STANDARD
END:VTIMEZONE
BEGIN:VEVENT
DTSTART;TZID=America/New_York:20230913T183000
DTEND;TZID=America/New_York:20230913T214500
DTSTAMP:20260421T131941
CREATED:20230901T180638Z
LAST-MODIFIED:20230902T005323Z
UID:36882-1694629800-1694641500@notoriousjazz.com
SUMMARY:GWENYTH HAYES QUARTET
DESCRIPTION:Bassist and vocalist Gwenyth Hayes’ hybrid reinterpretations give due respect to classic songs and soul covers from many genres and eras. They center around her sultry voice\, groove-oriented bass lines and tight instrumental arrangements. This approach serves to reinvent popular soul\, jazz\, soft rock\, and blues standards with a sensual and contemporary feel. Gwenyth’s sound appeals to diverse audiences and is meant to be reminiscent to many generations.
URL:https://notoriousjazz.com/event/gwenyth-hayes-quartet
LOCATION:The Blue Llama\, 314 S Main Street\, Ann Arbor\, MI\, 48104\, United States
CATEGORIES:Club
ATTACH;FMTTYPE=image/jpeg:https://notoriousjazz.com/wp-content/uploads/2023/09/GWENYTH-HAYES.jpg
END:VEVENT
BEGIN:VEVENT
DTSTART;TZID=America/Los_Angeles:20230916T193000
DTEND;TZID=America/Los_Angeles:20230917T220000
DTSTAMP:20260421T131941
CREATED:20230910T031040Z
LAST-MODIFIED:20230910T031620Z
UID:36985-1694892600-1694988000@notoriousjazz.com
SUMMARY:THE JAZZ SYMBIOSIS QUINTET
DESCRIPTION:The music of Steve Swallow\, Clare Fischer\, Benny Golson\, A.C.Jobim\, McCoy Tyner\, Kenny Garrett\, Roland Kirk\, Dizzy Gillespie\, Mingus & Coltrane.\n\nScott FitzGibbon | flute\, saxophone\nKen Johnston | trumpet\, cornet\, flugelhorn\nGus Russell | piano\nRobert Lassila | bass\nJoe Kelner | drums
URL:https://notoriousjazz.com/event/the-jazz-symbiosis-quintet
LOCATION:The Jazz Station\, 124 W Broadway\, Eugene\, OR\, 97401\, United States
CATEGORIES:Club
ATTACH;FMTTYPE=image/jpeg:https://notoriousjazz.com/wp-content/uploads/2023/09/JAZZ-SYMBIOSIS-QUINTET.jpg
END:VEVENT
BEGIN:VEVENT
DTSTART;TZID=America/Los_Angeles:20230926T193000
DTEND;TZID=America/Los_Angeles:20230927T230000
DTSTAMP:20260421T131941
CREATED:20230808T175313Z
LAST-MODIFIED:20230808T181636Z
UID:36594-1695756600-1695855600@notoriousjazz.com
SUMMARY:CHRISTIAN MCBRIDE'S NEW JAWN
DESCRIPTION:Christian McBride’s New Jawn — trumpeter Josh Evans (Jackie McLean\, Cedar Walton\, Rasheid Ali)\, saxophonist and bass clarinetist Marcus Strickland (Roy Haynes\, Jeff “Tain” Watts\, Chris Dave\, Bilal\, Robert Glasper)\, and drummer Nasheet Waits (Jason Moran\, Joe Lovano\, John Medeski) — is back with their highly anticipated sophomore album\, Prime(02/2023)\, the follow-up from McBride’s Grammy-nominated group. Featuring original compositions from each band member as well as fresh takes on songs from Sonny Rollins\, Ornette Coleman and Larry Young\, this group offers an exhilarating space of exploration for the 8-time Grammy Award-winning McBride to stretch his veteran wings. \nNew Jawn is the new deal. Yes\, it is. The proof is in the music and there is plenty of that on their new release Prime; sure to be a fixture in best of 2023 lists. – All About Jazz \nBassist\, composer\, and bandleader\, McBride is also the Artistic Director of the historic Newport Jazz Festival\, New Jersey Performing Arts center (NJPAC) and the TD James Moody Jazz Festival\, and the National Jazz Museum in Harlem. Christian is also a respected educator and advocate as the Artistic Director of Jazz House KiDS\, and the Jazz Aspen Snowmass Summer Sessions. In addition to consistent touring\, McBride hosts NPR’s “Jazz Night in America” and “The Lowdown: Conversations With Christian” on SiriusXM. Whether behind the bass or away from it\, Christian McBride is always of the music. From jazz\, to R&B\, pop/rock\, hip-hop/neo-soul\, to classical\, he is a luminary with one hand ever reaching for new heights\, and the other extended in fellowship—and perhaps the hint of a challenge—inviting us to join him. \nThe Band: Christian McBride~bass\, Josh Evans~trumpet\, Marcus Strickland~saxophone and bass clarinet\, Nasheet Waits~drums
URL:https://notoriousjazz.com/event/christian-mcbrides-new-jawn-2
LOCATION:Dimitriou’s Jazz Alley\, 2033 6th Avenue\, Seattle\, WA\, 98121\, United States
CATEGORIES:Club
ATTACH;FMTTYPE=image/jpeg:https://notoriousjazz.com/wp-content/uploads/2023/08/CHRISTIAN-MCBRIDES-NEW-JAWN.jpg
END:VEVENT
END:VCALENDAR