BEGIN:VCALENDAR
VERSION:2.0
PRODID:-//Notorious Jazz - ECPv6.15.17//NONSGML v1.0//EN
CALSCALE:GREGORIAN
METHOD:PUBLISH
X-ORIGINAL-URL:https://notoriousjazz.com
X-WR-CALDESC:Events for Notorious Jazz
REFRESH-INTERVAL;VALUE=DURATION:PT1H
X-Robots-Tag:noindex
X-PUBLISHED-TTL:PT1H
BEGIN:VTIMEZONE
TZID:America/New_York
BEGIN:DAYLIGHT
TZOFFSETFROM:-0500
TZOFFSETTO:-0400
TZNAME:EDT
DTSTART:20230312T070000
END:DAYLIGHT
BEGIN:STANDARD
TZOFFSETFROM:-0400
TZOFFSETTO:-0500
TZNAME:EST
DTSTART:20231105T060000
END:STANDARD
BEGIN:DAYLIGHT
TZOFFSETFROM:-0500
TZOFFSETTO:-0400
TZNAME:EDT
DTSTART:20240310T070000
END:DAYLIGHT
BEGIN:STANDARD
TZOFFSETFROM:-0400
TZOFFSETTO:-0500
TZNAME:EST
DTSTART:20241103T060000
END:STANDARD
BEGIN:DAYLIGHT
TZOFFSETFROM:-0500
TZOFFSETTO:-0400
TZNAME:EDT
DTSTART:20250309T070000
END:DAYLIGHT
BEGIN:STANDARD
TZOFFSETFROM:-0400
TZOFFSETTO:-0500
TZNAME:EST
DTSTART:20251102T060000
END:STANDARD
END:VTIMEZONE
BEGIN:VEVENT
DTSTART;TZID=America/New_York:20241102T193000
DTEND;TZID=America/New_York:20241102T230000
DTSTAMP:20260420T091659
CREATED:20241027T161523Z
LAST-MODIFIED:20241027T161523Z
UID:43108-1730575800-1730588400@notoriousjazz.com
SUMMARY:JIVA
DESCRIPTION:The Sous Vide Trio opens the night of great music with a 30 minute set. This will be followed with the headliner consisting of the 10-piece Soul band JIVA returns with an amazing performance. They will be performing their unique blend of upbeat soul and Brazilian-inspired songs. \nCleveland Jones\, Lavahi and Chanda Leigh will be the singers on the show. \nCover Charge: $20.00 Adv | $25.00 at Door\nDoors @ 7:30pm | Show @ 8:00pm
URL:https://notoriousjazz.com/event/jiva
LOCATION:Red Light Cafe\, 553-1 Amsterdam Avenue NE\, Atlanta\, GA\, 30306\, United States
CATEGORIES:Club
ATTACH;FMTTYPE=image/png:https://notoriousjazz.com/wp-content/uploads/2024/10/JIVA.png
END:VEVENT
BEGIN:VEVENT
DTSTART;TZID=America/New_York:20241107T190000
DTEND;TZID=America/New_York:20241107T230000
DTSTAMP:20260420T091659
CREATED:20241103T175952Z
LAST-MODIFIED:20241103T180241Z
UID:43264-1731006000-1731020400@notoriousjazz.com
SUMMARY:JON COWHERD
DESCRIPTION:The pianist\, composer and arranger is best known as the co-founder and co-director of Brian Blade and the Fellowship Band. He has worked extensively as an arranger\, producer\, songwriter and accompanist with a vast range of artists\, such as Cassandra Wilson\, John Scofield and Lizz Wright to Joni Mitchell\, Brandi Carlile\, Rosanne Cash\, Norah Jones\, Glen Hansard and more. \nHe is also a leader in his own right having released three acclaimed albums of his own. For this night\, he performs in trio with an all-star rhythm section including drummer Brian Blade and bassist John Patitucci — the group from Cowherd’s most recent album Pride and Joy on Le Cowhich was named one of the year’s best by Downbeat critics\, NPR. \nThe Band: Jon Cowherd\, John Patitucci\, Brian Blade \nTickets: $40.00~$145.00
URL:https://notoriousjazz.com/event/jon-cowherd
LOCATION:Scullers Jazz Club\, 400 Soldiers Field Road\, Boston\, MA\, 02134\, United States
CATEGORIES:Club
ATTACH;FMTTYPE=image/jpeg:https://notoriousjazz.com/wp-content/uploads/2024/11/JON-COWHERD-JOHN-PATITUCCI-BRIAN-BLADE.jpg
END:VEVENT
BEGIN:VEVENT
DTSTART;TZID=America/New_York:20241108T190000
DTEND;TZID=America/New_York:20241108T210000
DTSTAMP:20260420T091659
CREATED:20241103T173750Z
LAST-MODIFIED:20241103T174019Z
UID:43259-1731092400-1731099600@notoriousjazz.com
SUMMARY:BEN WOLFE QUARTET
DESCRIPTION:RECORD RELEASE \n\nFollowing his acclaimed 2023 release Unjust\, which received accolades from DownBeat\, The Wall Street Journal\, NPR and more\, esteemed bassist and composer Ben Wolfe returns with The Understated. This project features a mix of new compositions and fresh takes on his earlier works\, with a notable emphasis on ballads\, showcasing Wolfe’s ability to transform the classic song form into a cohesive narrative. \n\n\nWolfe has always been drawn to finding beauty in subtlety. He perceives a certain tranquility and elegance in the Coltrane Quartet\, Louis Armstrong’s Hot Fives and Sevens\, the legendary Miles Davis bands and rhythm sections\, and the music of Charlie Parker. While he\, of course\, revels at the immense world-building energy of this music\, it’s the “other side” – the elusive\, magical aspect that endlessly captivates him – the understated. The composer draws inspiration most from the ensemble work of these hallmark jazz ensembles. Despite the individual parts being extraordinarily beautiful on their own\, the musicians in these archetypal ensembles play only what is needed to serve the music\, paying particular attention to the band-sound moreso\nthan their individual sound.\n\nThe Understated embodies this ethos with a tremendously impactful ensemble-oriented approach. The Understated is a testament to Wolfe’s dedication to finding beauty in subtlety and ensemble performance\, offering listeners a tranquil and elegant listening experience.\n\n\nThe Band: Ben Wolfe ~ Bass | Nicole Glover ~ Saxophone | Orrin Evans ~ Piano | Aaron Kimmel ~ Drums \n\nCover: $35.00 ~ $110.00
URL:https://notoriousjazz.com/event/ben-wolfe-quartet
LOCATION:Scullers Jazz Club\, 400 Soldiers Field Road\, Boston\, MA\, 02134\, United States
CATEGORIES:Club
ATTACH;FMTTYPE=image/jpeg:https://notoriousjazz.com/wp-content/uploads/2024/11/BEN-WOLFE.jpg
END:VEVENT
BEGIN:VEVENT
DTSTART;TZID=America/New_York:20241110T170000
DTEND;TZID=America/New_York:20241110T210000
DTSTAMP:20260420T091659
CREATED:20241110T012712Z
LAST-MODIFIED:20241110T013620Z
UID:43350-1731258000-1731272400@notoriousjazz.com
SUMMARY:BALTIMORE JAZZ COLLECTIVE
DESCRIPTION:Founded in 2019 at Keystone Korner Baltimore\, the Baltimore Jazz Collective is making its Homecoming Return! Music and spirituality have always been fully intertwined in the artistic vision of trumpeter\, bandleader\, composer\, educator and activist Sean Jones. With boundless passion\, energy\, and soul\, Baltimore Jazz Collective explores the inner and outer frontiers of melody\, harmony and time itself. \nSean Jones | Trumpet/Bandleader\nBrinae Ali | Keys\nTodd Marcus | Saxophone/Clarinet\nMarc Cary | Piano\nBlake Meister | Bass\nEric Kennedy | Drums \nCover: $35.00 ~ $45.00 + fee \nStreaming: $15.00 + fee
URL:https://notoriousjazz.com/event/baltimore-jazz-collective
LOCATION:Keystone Korner Baltimore\, 1350 Lancaster Street\, Baltimore\, MD\, 21231\, United States
CATEGORIES:Club
ATTACH;FMTTYPE=image/jpeg:https://notoriousjazz.com/wp-content/uploads/2024/11/BALTIMORE-JAZZ-COLLECTIVE.jpeg
END:VEVENT
BEGIN:VEVENT
DTSTART;TZID=America/New_York:20241115T190000
DTEND;TZID=America/New_York:20241115T223000
DTSTAMP:20260420T091659
CREATED:20241103T204906Z
LAST-MODIFIED:20241103T204906Z
UID:43273-1731697200-1731709800@notoriousjazz.com
SUMMARY:BRIAN BROMBERG\, PAUL BROWN & MICHAEL PAULO
DESCRIPTION:The Supergroup\, formed by the first letters of their first names\, as well as the term BPM stands for beats per minute\, the definition of the tempo in music. \nCollectively they are responsible for over 80 Billboard Smooth Jazz Number 1 Hits and many hundreds of thousands of record sales. Now together as BPM\, they share their success with Grammy wins\, nominations\, and bring over 100 years of experience to the stage and to the music. BPM is the new fresh voice of Contemporary and Smooth Jazz! \nTickets: $40.00~$150.00 \n 
URL:https://notoriousjazz.com/event/brian-bromberg-paul-brown-michael-paulo
LOCATION:Scullers Jazz Club\, 400 Soldiers Field Road\, Boston\, MA\, 02134\, United States
CATEGORIES:Club
ATTACH;FMTTYPE=image/jpeg:https://notoriousjazz.com/wp-content/uploads/2024/11/BRIAN-BROMBERG-PAUL-BROWN-MICHAEL-PAULO.jpg
END:VEVENT
BEGIN:VEVENT
DTSTART;TZID=America/New_York:20241116T190000
DTEND;TZID=America/New_York:20241116T203000
DTSTAMP:20260420T091659
CREATED:20241103T213126Z
LAST-MODIFIED:20241103T213230Z
UID:43276-1731783600-1731789000@notoriousjazz.com
SUMMARY:FIERY STRING SISTAS
DESCRIPTION:At the core of Firey String Sistas are three powerhouse women\, Nioka Workman (founder)\,Marlene Rice and Mala Waldron. Together they infuse world\, global funk\, ‘head bopping’ soul and Jazz music to produce a unique sound for violin\, cello\, bass\, piano and percussion. The Firey String Sistas extend from 3 to 5 members\, featuring cutting edge acoustic and electric musicians. The ‘Sistas’ presentations include tone portraits of the current times\, reflections of women’s culture and a celebration of family traditions. The ensemble’s first recording received overwhelming critical acclaim with the press saying; “ ….there’s enough energy in Firey StringSistas to fire up a constellation….deeply personal\, naturally expressive playing….whets the appetite for further releases.” – Raul da Gama (Jazz daGama ). “\,….eight fun and swingingoriginals. \nThe team literally shows pluck…a treat” -George Harris (Jazz Weekly) “ ….. a charming and delectable work by .. supremely talented musicians. It is simultaneously accessible and sophisticated\, poignant and erudite and\, as such\, should have a wide appeal. It certainly whets the appetite for more to come…..” -Hrayr Attarian (All About Jazz) . After the success of CD “That’s What She Said” \, the Firey String Sistas have begun to record their sophomore CD with dedications to icons\, Maxine Waters\, Michelle Obama and Mal Waldon This CD also includes surprise features of renowned Jazz artists sprinkled in. Firey String Sistas are recipients of the South Arts Jazz Tours 2023 for performances at Outpost Performing Center\, Albuquerque and SITE Museum\, Santa Fe Jazz Collective in New Mexico. \nTickets: $35.00~$110.00
URL:https://notoriousjazz.com/event/43276
LOCATION:Scullers Jazz Club\, 400 Soldiers Field Road\, Boston\, MA\, 02134\, United States
CATEGORIES:Club
ATTACH;FMTTYPE=image/jpeg:https://notoriousjazz.com/wp-content/uploads/2024/11/FIERY-STRING-SISTAS.jpg
END:VEVENT
BEGIN:VEVENT
DTSTART;TZID=America/New_York:20241129T190000
DTEND;TZID=America/New_York:20241129T233000
DTSTAMP:20260420T091659
CREATED:20241102T233128Z
LAST-MODIFIED:20241102T233128Z
UID:43222-1732906800-1732923000@notoriousjazz.com
SUMMARY:JULIAN VAUGHN
DESCRIPTION:A dynamic lead bass player from Kansas City\, bassist Julian Vaughn is rapidly becoming a major player in the contemporary jazz genre. Vaughn has made a name for himself as bassist in the smooth jazz genre which is dominated by saxophone players. \nVaughn grew up in the church where his grandfather pastored until turning over the reins to Vaughn’s father. Like other kids at the church\, he began his music career playing the drums\, but says\, “Trying to play the drums at church was like ten football players going after a fumble. Everyone wanted to play.” Years went by and the fight over the drums got old. At 15 Vaughn decided to try a different instrument. He picked up a bass guitar that another man in his church was playing and immediately fell in love. This was truly love at first sight. Vaughn taught himself how to play and soon realized he had the ability to play by ear. He soon discovered how to play songs and special techniques. When Vaughn was 19 his grandfather bought him a 6-string bass guitar. It was black with gold trim. He discovered the art of bass soloing and knew at that point it was more than just a hobby but was his life’s passion. “My friends use to get on me because I would stop playing the bass line and start soloing\,” he remembers. \nJulian Vaughn has toured all over the U.S. playing at some of the largest jazz festivals and abroad in places like Dubai\, Nairobi\, Italy\, and Germany. As an artist\, he debut on the scene in 2010 with his CD titled “The Purpose Project” an album that would later pave the way to his 2012 album “Breakthrough”. Vaughn has had 2 number ones on the Bilboards. \nCOVER: $53.50
URL:https://notoriousjazz.com/event/julian-vaughn
LOCATION:Blu Jazz+\, 47 E Market Street\, Akron\, OH\, 44308\, United States
CATEGORIES:Club
ATTACH;FMTTYPE=image/jpeg:https://notoriousjazz.com/wp-content/uploads/2024/11/JULIAN-VAUGHN.jpg
END:VEVENT
END:VCALENDAR