BEGIN:VCALENDAR
VERSION:2.0
PRODID:-//Notorious Jazz - ECPv6.15.17//NONSGML v1.0//EN
CALSCALE:GREGORIAN
METHOD:PUBLISH
X-ORIGINAL-URL:https://notoriousjazz.com
X-WR-CALDESC:Events for Notorious Jazz
REFRESH-INTERVAL;VALUE=DURATION:PT1H
X-Robots-Tag:noindex
X-PUBLISHED-TTL:PT1H
BEGIN:VTIMEZONE
TZID:America/New_York
BEGIN:DAYLIGHT
TZOFFSETFROM:-0500
TZOFFSETTO:-0400
TZNAME:EDT
DTSTART:20240310T070000
END:DAYLIGHT
BEGIN:STANDARD
TZOFFSETFROM:-0400
TZOFFSETTO:-0500
TZNAME:EST
DTSTART:20241103T060000
END:STANDARD
BEGIN:DAYLIGHT
TZOFFSETFROM:-0500
TZOFFSETTO:-0400
TZNAME:EDT
DTSTART:20250309T070000
END:DAYLIGHT
BEGIN:STANDARD
TZOFFSETFROM:-0400
TZOFFSETTO:-0500
TZNAME:EST
DTSTART:20251102T060000
END:STANDARD
BEGIN:DAYLIGHT
TZOFFSETFROM:-0500
TZOFFSETTO:-0400
TZNAME:EDT
DTSTART:20260308T070000
END:DAYLIGHT
BEGIN:STANDARD
TZOFFSETFROM:-0400
TZOFFSETTO:-0500
TZNAME:EST
DTSTART:20261101T060000
END:STANDARD
END:VTIMEZONE
BEGIN:VEVENT
DTSTART;TZID=America/New_York:20250114T190000
DTEND;TZID=America/New_York:20250114T230000
DTSTAMP:20260420T054917
CREATED:20250110T220725Z
LAST-MODIFIED:20250110T220725Z
UID:44199-1736881200-1736895600@notoriousjazz.com
SUMMARY:SULLIVAN FORTNER
DESCRIPTION:For the past decade\, Sullivan Fortner has been stretching deep-rooted talents as a pianist\, composer\, band leader and uncompromising individualist. The Grammy Award-winning artist out of New Orleans received international praise as both key player and producer for his collaborative work on The Window (Mack Avenue\, 2018)\, alongside multi-Grammy winner\, vocalist-composer Cecile McLorin Salvant. As a solo leader\, he has released Moments Preserved (Decca\, 2018) and Aria (Impulse!\, 2015) to critical acclaim\, and he’s only getting started. Now based in New York\, Fortner has earned recognition in multiple DownBeat Critics Poll categories\, winning first place in Rising Star Piano and Rising Star Jazz Artist. \nIn addition to associations with such diverse voices as Wynton Marsalis\, Paul Simon\, Diane Reeves\, Etienne Charles and John Scofield\, Fortner’s frequent and longtime collaborators have included Ambrose Akinmusire\, Dee Dee Bridgewater\, Stefon Harris\, Kassa Overall\, Tivon Pennicott\, Peter Bernstein\, Nicholas Payton\, Billy Hart\, Gary Bartz\, Christian Scott aTunde Adjuah\, Fred Hersch and the late Roy Hargrove. Recent collaborations include GRAMMY-nominated releases Dear Love (Empress Legacy) and Generations from leaders Jazzmeia Horn and The Baylor Project\, respectively. \nA highly-sought improviser\, Fortner has performed across the country and throughout the world at such cultural institutions as Snug Harbor\, New Orleans Center for the Creative Arts\, Sweet Lorraine’s and The Jazz Playhouse in New Orleans\, and Jazz at Lincoln Center\, Jazz Standard and Smalls Jazz Club in New York City. He’s appeared at celebrated festivals\, including Newport\, Monterey\, Discover\, Tri-C and Gillmore Keyboard\, among others. In 2019\, Fortner brought his band to the historic Village Vanguard for a week-long engagement he would reprise in 2020 as a virtual performance during lockdown. His notable studio contributions include work on Etienne Charles’s Kaiso (Culture Shock\, 2011)\, Donald Harrison’s Quantum Leap (FOMP\, 2010)\, and Theo Croker’s The Fundamentals (Left Sided Music\, 2007). \nThe Trio: Sullivan Fortner~Piano\, Yasushi Nakamura ~ bass and Kayvon Gordon ~ drums \nTickets: $37.00 fee included
URL:https://notoriousjazz.com/event/sullivan-fortner
LOCATION:Blues Alley\, 1073 Wisconsin Avenue NW\, Washington\, DC\, 20007\, United States
CATEGORIES:Club
ATTACH;FMTTYPE=image/png:https://notoriousjazz.com/wp-content/uploads/2025/01/SULLIVAN-FORTNER-@-BLUES-ALLEY.png
END:VEVENT
BEGIN:VEVENT
DTSTART;TZID=America/New_York:20250124T190000
DTEND;TZID=America/New_York:20250124T230000
DTSTAMP:20260420T054917
CREATED:20250110T044548Z
LAST-MODIFIED:20250110T044548Z
UID:44191-1737745200-1737759600@notoriousjazz.com
SUMMARY:THE HEADHUNTERS
DESCRIPTION:The Headhunters\, the legendary jazz-funk ensemble co-led by percussionist Bill Summers and drummer Mike Clark with NEA Jazz Master Donald Harrison on alto saxophone\, celebrated the band’s 50th anniversary in 2023\, having formed around Herbie Hancock’s classic recordings\, Head Hunters\, in 1973\, Thrust in 1974 and Man-Child in 1975. The band continued without Mr. Hancock and has released 8 albums under the Headhunters name starting with Survival of the Fittest in 1975 and on Straight from the Gate in 1977 (featuring the smash hit “God Make Me Funky” sampled on over 350 hip hop and pop songs)\, and most recently Speakers In the House in 2022 and Live From Brooklyn Bowl in 2023. The band’s new album The Stunt Man comes out October 11th\, 2024 on Ropeadope recorded at the legendary Hyde Street Studios. \nFew bands can boast a history as fortuitous and storied as The Headhunters. What each member brings to the table forged a history that most bands can only dream of. Their blend of jazz with funk and rock would go on to sell over a million albums worldwide\, while the band’s legacy would inspire musicians of every genre for years to come\, be sampled by hundreds of hip-hop artists throughout the ’80s and ’90s\, and influence countless musicians’ playing today. The Headhunters’ impact remains a global phenomenon\, and their time with Hancock proved to be a life changing experience. \nBill Summers – percussion\nMike Clark – drums\nDonald Harrison – saxophone\nChris Severin – bass\nKyle Roussel – piano \nCover Chaege: $25.00 – $50.00 + $3.50 fee
URL:https://notoriousjazz.com/event/the-headhunters-2
LOCATION:The Jazz Kitchen\, 5377 N College Avenue\, Indianapolis\, IN\, 46220\, United States
CATEGORIES:Club
ATTACH;FMTTYPE=image/png:https://notoriousjazz.com/wp-content/uploads/2025/01/HEADHUNTERS-@-JAZZ-KITCHEN.png
END:VEVENT
END:VCALENDAR