BEGIN:VCALENDAR
VERSION:2.0
PRODID:-//Notorious Jazz - ECPv6.15.17//NONSGML v1.0//EN
CALSCALE:GREGORIAN
METHOD:PUBLISH
X-WR-CALNAME:Notorious Jazz
X-ORIGINAL-URL:https://notoriousjazz.com
X-WR-CALDESC:Events for Notorious Jazz
REFRESH-INTERVAL;VALUE=DURATION:PT1H
X-Robots-Tag:noindex
X-PUBLISHED-TTL:PT1H
BEGIN:VTIMEZONE
TZID:America/New_York
BEGIN:DAYLIGHT
TZOFFSETFROM:-0500
TZOFFSETTO:-0400
TZNAME:EDT
DTSTART:20240310T070000
END:DAYLIGHT
BEGIN:STANDARD
TZOFFSETFROM:-0400
TZOFFSETTO:-0500
TZNAME:EST
DTSTART:20241103T060000
END:STANDARD
BEGIN:DAYLIGHT
TZOFFSETFROM:-0500
TZOFFSETTO:-0400
TZNAME:EDT
DTSTART:20250309T070000
END:DAYLIGHT
BEGIN:STANDARD
TZOFFSETFROM:-0400
TZOFFSETTO:-0500
TZNAME:EST
DTSTART:20251102T060000
END:STANDARD
BEGIN:DAYLIGHT
TZOFFSETFROM:-0500
TZOFFSETTO:-0400
TZNAME:EDT
DTSTART:20260308T070000
END:DAYLIGHT
BEGIN:STANDARD
TZOFFSETFROM:-0400
TZOFFSETTO:-0500
TZNAME:EST
DTSTART:20261101T060000
END:STANDARD
END:VTIMEZONE
BEGIN:VTIMEZONE
TZID:America/Los_Angeles
BEGIN:DAYLIGHT
TZOFFSETFROM:-0800
TZOFFSETTO:-0700
TZNAME:PDT
DTSTART:20240310T100000
END:DAYLIGHT
BEGIN:STANDARD
TZOFFSETFROM:-0700
TZOFFSETTO:-0800
TZNAME:PST
DTSTART:20241103T090000
END:STANDARD
BEGIN:DAYLIGHT
TZOFFSETFROM:-0800
TZOFFSETTO:-0700
TZNAME:PDT
DTSTART:20250309T100000
END:DAYLIGHT
BEGIN:STANDARD
TZOFFSETFROM:-0700
TZOFFSETTO:-0800
TZNAME:PST
DTSTART:20251102T090000
END:STANDARD
BEGIN:DAYLIGHT
TZOFFSETFROM:-0800
TZOFFSETTO:-0700
TZNAME:PDT
DTSTART:20260308T100000
END:DAYLIGHT
BEGIN:STANDARD
TZOFFSETFROM:-0700
TZOFFSETTO:-0800
TZNAME:PST
DTSTART:20261101T090000
END:STANDARD
END:VTIMEZONE
BEGIN:VEVENT
DTSTART;TZID=America/New_York:20250304T200000
DTEND;TZID=America/New_York:20250309T170000
DTSTAMP:20260420T022548
CREATED:20250223T164729Z
LAST-MODIFIED:20250302T153045Z
UID:44722-1741118400-1741539600@notoriousjazz.com
SUMMARY:ARTEMIS
DESCRIPTION:Fresh off their 2nd consecutive win for “Jazz Group of the Year” in the Downbeat Readers Poll\, Aretemis returns with their third Blue Note album Arboresque. The album and the group features the quintet helmed by pianist and musical director Renee Rosnes\, trumpeter Ingrid Jensen\, tenor saxophonist Nicole Glover\, bassist Noriko Ueda\, and drummer Allison Miller. \nA paean to the sheer joy of collaboration and creativity\, the album also explores a theme of natural and environmental beauty. This is the debut performance of Artemis and celebration of their album release at the legendary New York City venue. \nTickets: $40.00 + fee
URL:https://notoriousjazz.com/event/artemis-2
LOCATION:Village Vanguard\, 178 7th Avenue S\, New York City\, NY\, 10014\, United States
CATEGORIES:Club
ATTACH;FMTTYPE=image/jpeg:https://notoriousjazz.com/wp-content/uploads/2025/02/ARTEMIS-@-VILLLAGE-VANGUARD.jpeg
END:VEVENT
BEGIN:VEVENT
DTSTART;TZID=America/New_York:20250306T200000
DTEND;TZID=America/New_York:20250306T230000
DTSTAMP:20260420T022548
CREATED:20250217T040848Z
LAST-MODIFIED:20250303T053802Z
UID:44656-1741291200-1741302000@notoriousjazz.com
SUMMARY:LIFE\, LOVE & LENNY
DESCRIPTION:A Celebration of the life and music of Lenny White \nThe iconic Grammy-winning drummer\, who is among jazz music’s most prolific and celebrated artists\, producers\, composers and sidemen — will be fêted at a one-night-only celebration filled with music and memories at Jazz at Lincoln Center’s Frederick P. Rose Hall. \nPresented by Tzedakah 4 All\, the event will feature performances in multiple combinations – Return to Forever w/ Stanley Clarke\, Al DiMeola and orchestra conducted by Maestro Steve Mecurio\, Miles Davis Bitches Brew\, Red Clay\, Echoes of an Era\, as well as exploring material from his illustrious five + decade career. Laurence Fishburne will serve as emcee with appearances from fellow artists Buster Williams\, Omar Hakim\, Patrice Rushen\, Al Foster\, Mike Clark\, Billy Hart\, and Billy Drummond. \nTickets: $175.00~$250.00
URL:https://notoriousjazz.com/event/life-love-lenny
LOCATION:Rose Theater | Jazz At Lincoln Center\, 10 Columbus Circle\, New York City\, NY\, 10019\, United States
CATEGORIES:Concert
ATTACH;FMTTYPE=image/png:https://notoriousjazz.com/wp-content/uploads/2025/02/LENNY-WHITE-@-LINCOLN-CENTER.png
END:VEVENT
BEGIN:VEVENT
DTSTART;TZID=America/Los_Angeles:20250307T200000
DTEND;TZID=America/Los_Angeles:20250307T213000
DTSTAMP:20260420T022548
CREATED:20250224T033601Z
LAST-MODIFIED:20250228T170249Z
UID:44742-1741377600-1741383000@notoriousjazz.com
SUMMARY:CHUCK ISRAELS JAZZ ORCHESTRA
DESCRIPTION:Chuck Israels\, revered as one of the preeminent bassists in the world\, Grammy winner has performed and recorded with Billie Holiday\, Benny Goodman\, Herbie Hancock\, John Coltrane\, Bud Powell\, Coleman Hawkins\, Stan Getz\, Bill Evans\, J.J. Johnson\, Rosemary Clooney\, Tony Williams\, Eric Dolphy\, Jim Hall\, Patti Austin\, Gary Burton\, George Russell\, the Kronos String Quartet\, and countless others. \nAmong Chuck’s many recordings as a bassist\, some outstanding ones include: Coltrane Time\, with John Coltrane; My Point of View\, with Herbie Hancock;  Getz au Go-Go\, with Stan Getz; and many recordings with the Bill Evans Trio\, including The Town Hall Concert; The Second Trio; Trio ’65; Live at the Trident; and Time Remembered. In 2020 Chuck won a Grammy for his work with opera star Joyce DiDonato on her recording “Songplay” \nAs an acclaimed composer and arranger\, Chuck has written for Bill Evans\, John Coltrane\, Jazz at Lincoln Center Orchestra with Wynton Marsalis\, Berkshire Music Center\, Richard Stoltzman\, Eastman Jazz Ensemble\, Swedish Radio Jazz Orchestra\, West German Radio Jazz Orchestra\, North German Radio Jazz Orchestra\, Radio Denmark Jazz Orchestra\, Hannover Symphony Orchestra\, Metropole Orchestra\, and others. \nFeaturing:Chuck Israels: Bass | John Nastos: Alto saxophone | Dave Evans: Tenor saxophone | Joe Manis: Baritone saxophone | Paul Mazzio: Trumpet | John Moak: Trombone | Joe Bagg: Piano | Chris Brown: Drums \n\n\nTickets: $25.00~180.00
URL:https://notoriousjazz.com/event/44742
LOCATION:The Jack London Revue\, 529 SW 4th\, Portland\, OR\, 97204\, United States
CATEGORIES:Club
ATTACH;FMTTYPE=image/png:https://notoriousjazz.com/wp-content/uploads/2025/02/CHUCK-ISRAELS-@-JACK-LONDON-REVUE.png
END:VEVENT
BEGIN:VEVENT
DTSTART;TZID=America/New_York:20250313T190000
DTEND;TZID=America/New_York:20250313T203000
DTSTAMP:20260420T022548
CREATED:20250228T172210Z
LAST-MODIFIED:20250302T155332Z
UID:44801-1741892400-1741897800@notoriousjazz.com
SUMMARY:ARTEMIS
DESCRIPTION:ARTEMIS is a powerful ensemble of modern jazz masters\, founded in 2017 by pianist and musical director Renee Rosnes. In Real Time––the band’s second release on Blue Note Records––has been garnering universal acclaim. NPR wrote that “it further establishes their prowess both as individuals and as a collective…a femme fatale supergroup\,” and from the Times of London\, “robust voicings\, free-jazz diversions and searching modal patterns all feature in the intricate style of ARTEMIS…so distinctive is each voice and so striking is their sense of unity.” DownBeat hailed the music as “deep swinging” and a “stellar follow up” to the band’s debut album in 2020. Each musician is a bandleader and composer and every performance encompasses inspired arrangements of classics and originals. \nRenee Rosnes ~ piano & keyboard\nIngrid Jensen ~ trumpet\nNicole Glover ~ tenor saxophone\nNoriko Ueda ~ bass\nAllison Miller ~ drums \nTickets: $35.00 ~ $45.00 + fee | Streaming:  $15.00 + fee
URL:https://notoriousjazz.com/event/artemis-3
LOCATION:Keystone Korner Baltimore\, 1350 Lancaster Street\, Baltimore\, MD\, 21231\, United States
CATEGORIES:Club
ATTACH;FMTTYPE=image/png:https://notoriousjazz.com/wp-content/uploads/2025/02/ARTEMIS-@-KEYSTONE-KORNER.png
END:VEVENT
BEGIN:VEVENT
DTSTART;TZID=America/New_York:20250314T180000
DTEND;TZID=America/New_York:20250314T220000
DTSTAMP:20260420T022548
CREATED:20250228T173026Z
LAST-MODIFIED:20250302T155411Z
UID:44803-1741975200-1741989600@notoriousjazz.com
SUMMARY:50 SHADES OF O: ORRIN EVANS
DESCRIPTION:50 SHADES OF O: Orrin Evans’ 50th Birthday Celebration with the Orrin Evans Trio and special guest vocalist Ms. Lisa Fischer! Orrin Evans and his 2x Grammy-nominated Captain Black Big Band released and will be performing music from their new studio album\, Walk A Mile In My Shoe! \nFor more than two decades\, Yamaha pianist Orrin Evans has made an art form of the unexpected. With more than 25 albums to his credit without ever relying on the support of a major label\, Evans has become the model of a fiercely independent artist who’s made a habit of rattling the jazz world’s confining cages. That determination has paid off in accolades like topping the “Rising Star Pianist” category in the 2018 DownBeat Critics Poll and two Grammy nominations. As an adventurous composer he traverses stylistic boundaries with abandon\, drawing on full-throttle swing\, deep rooted blues\, expressive soul or bracing excursions into the avant-garde. \nAfter four decades of featured background singing with icons like Luther Vandross\, The Rolling Stones\, Chaka Khan\, Tina Turner\, and Nine Inch Nails\, Ms. Lisa Fischer set out to take center stage with her own humble\, heartfelt song. The 2013 Best Documentary Oscar winning film “Twenty Feet from Stardom” altered the course of Lisa’s musical journey\, telling her story\, with clips of her legendary duets with Sting or with Mick Jagger on “Gimme Shelter”\, left audiences eager to see and hear more. \nThe Lineup: \nMs. Lisa Fischer ~ vocals\nOrrin Evans ~ piano\nRobert Hurst ~ bass\nJeff “Tain” Watts ~ drums \nTickets: $45.00 ~ $55.00 + fee | Streaming: 6:00pm Only ~ $15.00 + fee
URL:https://notoriousjazz.com/event/50-shades-of-o-orrin-evans
LOCATION:Keystone Korner Baltimore\, 1350 Lancaster Street\, Baltimore\, MD\, 21231\, United States
CATEGORIES:Club
ATTACH;FMTTYPE=image/png:https://notoriousjazz.com/wp-content/uploads/2025/02/LISA-FISCHER-ORRIN-EVANS-@-KEYSTONE-KORNER.png
END:VEVENT
END:VCALENDAR