BEGIN:VCALENDAR
VERSION:2.0
PRODID:-//Notorious Jazz - ECPv6.15.17//NONSGML v1.0//EN
CALSCALE:GREGORIAN
METHOD:PUBLISH
X-ORIGINAL-URL:https://notoriousjazz.com
X-WR-CALDESC:Events for Notorious Jazz
REFRESH-INTERVAL;VALUE=DURATION:PT1H
X-Robots-Tag:noindex
X-PUBLISHED-TTL:PT1H
BEGIN:VTIMEZONE
TZID:America/Chicago
BEGIN:DAYLIGHT
TZOFFSETFROM:-0600
TZOFFSETTO:-0500
TZNAME:CDT
DTSTART:20240310T080000
END:DAYLIGHT
BEGIN:STANDARD
TZOFFSETFROM:-0500
TZOFFSETTO:-0600
TZNAME:CST
DTSTART:20241103T070000
END:STANDARD
BEGIN:DAYLIGHT
TZOFFSETFROM:-0600
TZOFFSETTO:-0500
TZNAME:CDT
DTSTART:20250309T080000
END:DAYLIGHT
BEGIN:STANDARD
TZOFFSETFROM:-0500
TZOFFSETTO:-0600
TZNAME:CST
DTSTART:20251102T070000
END:STANDARD
BEGIN:DAYLIGHT
TZOFFSETFROM:-0600
TZOFFSETTO:-0500
TZNAME:CDT
DTSTART:20260308T080000
END:DAYLIGHT
BEGIN:STANDARD
TZOFFSETFROM:-0500
TZOFFSETTO:-0600
TZNAME:CST
DTSTART:20261101T070000
END:STANDARD
END:VTIMEZONE
BEGIN:VTIMEZONE
TZID:America/New_York
BEGIN:DAYLIGHT
TZOFFSETFROM:-0500
TZOFFSETTO:-0400
TZNAME:EDT
DTSTART:20240310T070000
END:DAYLIGHT
BEGIN:STANDARD
TZOFFSETFROM:-0400
TZOFFSETTO:-0500
TZNAME:EST
DTSTART:20241103T060000
END:STANDARD
BEGIN:DAYLIGHT
TZOFFSETFROM:-0500
TZOFFSETTO:-0400
TZNAME:EDT
DTSTART:20250309T070000
END:DAYLIGHT
BEGIN:STANDARD
TZOFFSETFROM:-0400
TZOFFSETTO:-0500
TZNAME:EST
DTSTART:20251102T060000
END:STANDARD
BEGIN:DAYLIGHT
TZOFFSETFROM:-0500
TZOFFSETTO:-0400
TZNAME:EDT
DTSTART:20260308T070000
END:DAYLIGHT
BEGIN:STANDARD
TZOFFSETFROM:-0400
TZOFFSETTO:-0500
TZNAME:EST
DTSTART:20261101T060000
END:STANDARD
END:VTIMEZONE
BEGIN:VEVENT
DTSTART;TZID=America/Chicago:20250402T080000
DTEND;TZID=America/Chicago:20250402T170000
DTSTAMP:20260420T005635
CREATED:20250330T180354Z
LAST-MODIFIED:20250330T180354Z
UID:45176-1743580800-1743613200@notoriousjazz.com
SUMMARY:BOB SCHNEIDER & MOONLIGHT TRIO
DESCRIPTION:The Moonlight Trio is fronted by Austin legend Bob Schneider and includes prodigious talents Kevin Lovejoy on piano\, Brannen Temple on drums and bass players like Sam Pankey and Chris Maresh. The Trio plays a wide variety of songs in a reimagined style\, spanning everything from Radiohead to standards from Bob’s catalog. It’s a truly unique show allowing all of these world class musicians to shine. \nTwo Shows: 7:00pm (Sold Out) | 9:30pm \nTickets: $40.000 ~ $45.00
URL:https://notoriousjazz.com/event/bob-schneider-moonlight-trio
LOCATION:Parker Jazz Club\, 117 W 4th St #107b\, Austin\, TX\, 78701\, United States
CATEGORIES:Club
ATTACH;FMTTYPE=image/png:https://notoriousjazz.com/wp-content/uploads/2025/03/BOB-SCHNEIDER-@-PARKER-JAZZ-CLUB.png
END:VEVENT
BEGIN:VEVENT
DTSTART;TZID=America/New_York:20250404T190000
DTEND;TZID=America/New_York:20250405T230000
DTSTAMP:20260420T005635
CREATED:20250404T021734Z
LAST-MODIFIED:20250404T021734Z
UID:45281-1743793200-1743894000@notoriousjazz.com
SUMMARY:SALUTE TO FREDDIE HUBBARD & CANNONBALL ADDERLEY
DESCRIPTION:Among the giants of jazz’s hard-bop and post-bop eras\, Freddie Hubbard and Cannonball Adderley were distinctive pacesetters who stretched their talents while still making exciting\, accessible music. \nTheir profound influence on contemporary headliners trumpeter Jeremy Pelt and saxophonist Vincent Herring cannot be underestimated and this all-star quintet pays tribute to their massive contributions. Last year\, Herring and Pelt collaborated with other top NY musicians forming the supergroup Something Else!\, named after a classic Cannonball recording. \nThe Players: Jeremy Pelt ~ Trumpet |  Vincent Herring ~ Saxophone | Rick Germanson ~ Piano | Richie Goods ~ Bass | Louis Hayes ~ Drums \nTickets: $35.00 +fee \nSaturday 7:00pm Show Sold Out
URL:https://notoriousjazz.com/event/salute-to-freddie-hubbard-cannonball-adderley
LOCATION:Jazz Forum Arts\, 1 Dixon Lane\, Tarrytown\, NY\, 10591\, United States
CATEGORIES:Club
ATTACH;FMTTYPE=image/png:https://notoriousjazz.com/wp-content/uploads/2025/04/JEREMY-PELT-VINCENT-HERRING-@-JAZZ-FORUM-ART.png
END:VEVENT
BEGIN:VEVENT
DTSTART;TZID=America/New_York:20250404T200000
DTEND;TZID=America/New_York:20250404T213000
DTSTAMP:20260420T005635
CREATED:20250331T001931Z
LAST-MODIFIED:20250404T112408Z
UID:45204-1743796800-1743802200@notoriousjazz.com
SUMMARY:CARLOS DE ROSA
DESCRIPTION:Bassist Carlo De Rosa makes his debut as a leader on this stage. He brings an exciting trio featuring Grammy-winning pianist\, Luis Perdomo\, and one of today’s most in-demand drummers\, Adam Cruz. He has released nine critically acclaimed recordings as a leader\, and has appeared on over 250 recordings as a sideman. \nA long-time veteran of the New York City jazz scene. De Rosa has worked with a diverse group of musical artists including Ray Barretto\, Jamie Baum\, Ravi Coltrane\, Amir ElSaffar\, David Gilmore\, Vijay Iyer\, Ingrid Jensen\, Rudresh Mahanthappa\, Allison Miller\, Arturo O’Farrill\, Tyshawn Sorey\, Mike Stern\, and Ed Thigpen. \nTickets for tonight are $25 each in advance\, $30 day of show. This event will not be livestreamed.
URL:https://notoriousjazz.com/event/45204
LOCATION:Bop Stop At The Settlement\, 2920 Detroit Avenue\, Cleveland\, OH\, 44133\, United States
CATEGORIES:Club
ATTACH;FMTTYPE=image/png:https://notoriousjazz.com/wp-content/uploads/2025/03/CARLO-DE-ROSA-@-BOP-STOP.png
END:VEVENT
BEGIN:VEVENT
DTSTART;TZID=America/New_York:20250405T220000
DTEND;TZID=America/New_York:20250405T233000
DTSTAMP:20260420T005635
CREATED:20250405T154356Z
LAST-MODIFIED:20250405T154356Z
UID:45322-1743890400-1743895800@notoriousjazz.com
SUMMARY:ENDEA OWENS
DESCRIPTION:Upright bassist Endea Owens headlines the Apollo Music Café with her red-hot smoking band\, The Cookout.  For all you jazz lovers looking for a feast\, this night at the café is a banquet. \nKnown as one of Jazz’s most vibrant emerging artists\, Endea Owens is a Detroit-raised Recording Artist\, Bassist\, and Composer. She has been mentored by Jazz Icons the likes of Marcus Belgrave\, Rodney Whitaker\, and Ron Carter. She has toured and performed with Wynton Marsalis\, Jennifer Holliday\, Diana Ross\, Rhonda Ross\, Solange\, Jon Batiste\, Jazzmeia Horn\, Dee Dee Bridgewater\, and Steve Turre to name a few. \nTickets: $39.85 | $10.00 Food & Drink Minimum
URL:https://notoriousjazz.com/event/endea-owens
LOCATION:The Apollo\, 253 W 125th Street\, New York City\, NY\, 10027\, United States
CATEGORIES:Theatre
ATTACH;FMTTYPE=image/png:https://notoriousjazz.com/wp-content/uploads/2025/04/ENDEA-OWENS-@-THE-APOLLO.png
END:VEVENT
END:VCALENDAR