BEGIN:VCALENDAR
VERSION:2.0
PRODID:-//Notorious Jazz - ECPv6.15.17//NONSGML v1.0//EN
CALSCALE:GREGORIAN
METHOD:PUBLISH
X-ORIGINAL-URL:https://notoriousjazz.com
X-WR-CALDESC:Events for Notorious Jazz
REFRESH-INTERVAL;VALUE=DURATION:PT1H
X-Robots-Tag:noindex
X-PUBLISHED-TTL:PT1H
BEGIN:VTIMEZONE
TZID:America/New_York
BEGIN:DAYLIGHT
TZOFFSETFROM:-0500
TZOFFSETTO:-0400
TZNAME:EDT
DTSTART:20240310T070000
END:DAYLIGHT
BEGIN:STANDARD
TZOFFSETFROM:-0400
TZOFFSETTO:-0500
TZNAME:EST
DTSTART:20241103T060000
END:STANDARD
BEGIN:DAYLIGHT
TZOFFSETFROM:-0500
TZOFFSETTO:-0400
TZNAME:EDT
DTSTART:20250309T070000
END:DAYLIGHT
BEGIN:STANDARD
TZOFFSETFROM:-0400
TZOFFSETTO:-0500
TZNAME:EST
DTSTART:20251102T060000
END:STANDARD
BEGIN:DAYLIGHT
TZOFFSETFROM:-0500
TZOFFSETTO:-0400
TZNAME:EDT
DTSTART:20260308T070000
END:DAYLIGHT
BEGIN:STANDARD
TZOFFSETFROM:-0400
TZOFFSETTO:-0500
TZNAME:EST
DTSTART:20261101T060000
END:STANDARD
END:VTIMEZONE
BEGIN:VEVENT
DTSTART;TZID=America/New_York:20250502T193000
DTEND;TZID=America/New_York:20250502T230000
DTSTAMP:20260419T231512
CREATED:20250420T161748Z
LAST-MODIFIED:20250420T161748Z
UID:45460-1746214200-1746226800@notoriousjazz.com
SUMMARY:NOAH JACKSON & FULL CIRCLE
DESCRIPTION:A Detroit original\, Noah Jackson is a bassist\, cellist\, and composer specializing in black american music and classical music.  Aimed with a curiosity to where sound could touch audiences from within\, he has both written and performed music for large international audiences since 2010. \nA graduate of Michigan State University (B.M.)\, and Manhattan School of Music (M.M.)\, Noah has performed with world renowned artists such as NEA Jazz Master Abdullah Ibrahim\, Branford Marsails\, Jason Marsalis\, The Marsalis Family\, Hugh Masekela\, Nnenna Freelon\, Kenny Garrett\, Wizard Harper\, George Burton\, Jazzmeia Horn\, and Christian Sands. \nShows ~ 7:30pm & 9:30pm \nTickets: $25.00
URL:https://notoriousjazz.com/event/noah-jackson-full-circle
LOCATION:Cliff Bell’s\, 2030 Park Avenue\, Detroit\, MI\, 48226\, United States
CATEGORIES:Club
ATTACH;FMTTYPE=image/png:https://notoriousjazz.com/wp-content/uploads/2025/04/NOAH-JACKSON-@-CLIFF-BELLS.png
END:VEVENT
BEGIN:VEVENT
DTSTART;TZID=America/New_York:20250509T190000
DTEND;TZID=America/New_York:20250509T220000
DTSTAMP:20260419T231512
CREATED:20250504T015131Z
LAST-MODIFIED:20250504T023242Z
UID:45663-1746817200-1746828000@notoriousjazz.com
SUMMARY:ELEW
DESCRIPTION:Eric Robert Lewis\, popularly known as ELEW\, is an American Concert Pianist who has found crossover success playing rock and pop music. He is known for his unconventional and physical playing style\, which eschews a piano bench and includes reaching inside the piano lid to pull at the strings directly\, as well as the creation that he calls “Rockjazz”\, a genre that takes the improvisational aspect of jazz and ‘threads it through the eye of the needle of rock. \nThe Band: Elew ~ Piano | Michael Cruse ~ Trumpet | Bar Filipowicz ~ Bass | David Hawkins ~ Drums \nCover Charge: $40.00
URL:https://notoriousjazz.com/event/elew-2
LOCATION:Zinc Bar\, 82 West 3rd Street\, New York City\, NY\, 10012\, United States
CATEGORIES:Club
ATTACH;FMTTYPE=image/png:https://notoriousjazz.com/wp-content/uploads/2025/05/ELEW-@-ZINC-BAR.png
END:VEVENT
BEGIN:VEVENT
DTSTART;TZID=America/New_York:20250515T190000
DTEND;TZID=America/New_York:20250515T220000
DTSTAMP:20260419T231512
CREATED:20250511T174204Z
LAST-MODIFIED:20250511T180629Z
UID:45760-1747335600-1747346400@notoriousjazz.com
SUMMARY:CHANDA LEIGH
DESCRIPTION:Vocalist and pianist Chanda Leigh brings her quartet to the Cafe I Am Lounge for a night of jazz. \nThe Band: Chanda Leigh ~ Piano | Joe Jennings ~ Saxophone | Anthony Daniel ~ Bass | Bernard Linnette \nTickets: $35.00
URL:https://notoriousjazz.com/event/chanda-leigh
LOCATION:Cafe I Am Lounge\, 5825 Mountain Creek Road NE\, Sandy Springs\, GA\, 30328\, United States
CATEGORIES:Club
END:VEVENT
BEGIN:VEVENT
DTSTART;TZID=America/New_York:20250522T183000
DTEND;TZID=America/New_York:20250522T223000
DTSTAMP:20260419T231512
CREATED:20250504T024628Z
LAST-MODIFIED:20250504T024628Z
UID:45668-1747938600-1747953000@notoriousjazz.com
SUMMARY:ANEESA STRINGS
DESCRIPTION:Aneesa Strings is a bassist\, vocalist and composer from Oakland\, California. She began playing professionally and recorded her first jazz album at just 13 years old. Aneesa received her Bachelors of Music in Jazz Studies at the University of Southern California in 2014\, where she released her first solo album A Shift In Paradigm featuring her single “Simpin”\, produced by Patrice Rushen in collaboration with SFJAZZ. \nIn 2016\, Ms. Strings earned her Master’s of Music in Jazz Studies at Michigan State University where she toured as the lead singer of the Bebop Spartans Big Band under the direction of Rodney Whitaker. She is fresh off the release of her 2019 critically acclaimed sophomore album Ways\, and has continued to tour world-wide with the likes of Duckworth\, Jose James\, Kandace Springs and many others. \n 
URL:https://notoriousjazz.com/event/aneesa-strings
LOCATION:Missy Lane’s Assembly Room\, 310 E. Main Street\, Durham\, NC\, 27701\, United States
CATEGORIES:Club
ATTACH;FMTTYPE=image/png:https://notoriousjazz.com/wp-content/uploads/2025/05/ANEESA-STRINGS-@-MISSY-LANES.png
END:VEVENT
BEGIN:VEVENT
DTSTART;TZID=America/New_York:20250524T130000
DTEND;TZID=America/New_York:20250524T220000
DTSTAMP:20260419T231512
CREATED:20250504T033603Z
LAST-MODIFIED:20250504T145909Z
UID:45671-1748091600-1748124000@notoriousjazz.com
SUMMARY:ATLANTA JAZZ FESTIVAL
DESCRIPTION:The 48th annual Atlanta Jazz Festival will take place in Piedmont Park\, Midtown Atlanta\, on Memorial Day Weekend from May 24th ~ 26th. The festival is free and open to the public\, offering a celebration of jazz music\, culture\, and art. \n\n\n\n\n\n\n\n\n\n\n\n\n1:00pm ~ Khari Cabral | Bass \n3:00pm ~ Aneesa Strings | Bass\, Vocal \n5:00pm ~ Takuya Kuroda | Trumpet \n7:00pm ~ Marsha Ambrosius | Vocal \n9:00pm ~ Derrick Hodge | Bass
URL:https://notoriousjazz.com/event/atlanta-jazz-festival-5
LOCATION:Piedmont Park\, 10th & Charles Allen Drive\, Atlanta\, GA\, 30309\, United States
CATEGORIES:Festival
ATTACH;FMTTYPE=image/png:https://notoriousjazz.com/wp-content/uploads/2025/05/DAY-1-@-ATLANTA-JAZZ-FESTIVAL.png
END:VEVENT
BEGIN:VEVENT
DTSTART;TZID=America/New_York:20250529T193000
DTEND;TZID=America/New_York:20250529T223000
DTSTAMP:20260419T231512
CREATED:20250518T191041Z
LAST-MODIFIED:20250518T191041Z
UID:45855-1748547000-1748557800@notoriousjazz.com
SUMMARY:DAVE BRODIE & CHRIS' ALL STAR QUARTET
DESCRIPTION:The Jazz Voyager is travling from Nashville to Philly to investigate a venue that is new to him. It’s called Chris’ Jazz Cafe. Known as an institution in a city for producing revered musical artists as John Coltrane\, Dizzy Gillespie\, Billie Holiday and Ethel Waters\, it was founded in 1989 and has become the longest operating jazz venue in the history of the city. \nThis week taking the stage is bassist David Brodie who started playing the electric bass at the age of thirteen\, not taking up the upright until  nineteen while at Berklee College of Music. A year in Spain\, a return to Philadelphia\, and a joining with guitarist Jimmy Bruno\, he played with him for the next several years. His reputation well established\, he has enjoyed a busy playing and recording career and has performed with some of the world’s greatest jazz musicians while performing regularly with a few of Philly’s finest such as Larry McKenna\, John Swana\, and Joanna Pascale. Joining him on this date is Chris’ All Star Quartet. \nThe Band: Dave Brodie ~ Bass | Neil Pogurski ~ Piano | Victor North ~ Saxophone | Byron Landham ~ Drums \nCover: $15.00 | A La Carte Menu \nDinner & Show: $70.00 | 3 Course Inner \nVIP Dinner & Show: $90.00 | 3 Course Inner\, Stage Front Seating \nBeverages Not Included \n  \n  \n 
URL:https://notoriousjazz.com/event/dave-brodie-chris-all-star-quartet
LOCATION:Chris’ Jazz Cafe\, 1421 Sansom Street\, Philadelphia\, PA\, 19102\, United States
CATEGORIES:Club
ATTACH;FMTTYPE=image/png:https://notoriousjazz.com/wp-content/uploads/2025/05/DAVE-BRODIE-@-CHRIS-JAZZ-CAFE.png
END:VEVENT
END:VCALENDAR