BEGIN:VCALENDAR
VERSION:2.0
PRODID:-//Notorious Jazz - ECPv6.15.17//NONSGML v1.0//EN
CALSCALE:GREGORIAN
METHOD:PUBLISH
X-ORIGINAL-URL:https://notoriousjazz.com
X-WR-CALDESC:Events for Notorious Jazz
REFRESH-INTERVAL;VALUE=DURATION:PT1H
X-Robots-Tag:noindex
X-PUBLISHED-TTL:PT1H
BEGIN:VTIMEZONE
TZID:America/New_York
BEGIN:DAYLIGHT
TZOFFSETFROM:-0500
TZOFFSETTO:-0400
TZNAME:EDT
DTSTART:20240310T070000
END:DAYLIGHT
BEGIN:STANDARD
TZOFFSETFROM:-0400
TZOFFSETTO:-0500
TZNAME:EST
DTSTART:20241103T060000
END:STANDARD
BEGIN:DAYLIGHT
TZOFFSETFROM:-0500
TZOFFSETTO:-0400
TZNAME:EDT
DTSTART:20250309T070000
END:DAYLIGHT
BEGIN:STANDARD
TZOFFSETFROM:-0400
TZOFFSETTO:-0500
TZNAME:EST
DTSTART:20251102T060000
END:STANDARD
BEGIN:DAYLIGHT
TZOFFSETFROM:-0500
TZOFFSETTO:-0400
TZNAME:EDT
DTSTART:20260308T070000
END:DAYLIGHT
BEGIN:STANDARD
TZOFFSETFROM:-0400
TZOFFSETTO:-0500
TZNAME:EST
DTSTART:20261101T060000
END:STANDARD
END:VTIMEZONE
BEGIN:VTIMEZONE
TZID:Asia/Tokyo
BEGIN:STANDARD
TZOFFSETFROM:+0900
TZOFFSETTO:+0900
TZNAME:JST
DTSTART:20240101T000000
END:STANDARD
END:VTIMEZONE
BEGIN:VEVENT
DTSTART;TZID=America/New_York:20250731T190000
DTEND;TZID=America/New_York:20250802T230000
DTSTAMP:20260419T184322
CREATED:20250720T205517Z
LAST-MODIFIED:20250729T231006Z
UID:46631-1753988400-1754175600@notoriousjazz.com
SUMMARY:BUSTER WILLIAMS
DESCRIPTION:A beloved fixture of the New York jazz scene\, bassist and composer Buster Williams brings his rich tone\, infectious swing\, and joyful spirit to the stage. He’s played alongside greats like Herbie Hancock\, Art Blakey\, and Betty Carter\, and now leads his dynamic group Something More. Get ready for a night of deep grooves\, soulful melodies\, and the kind of musical chemistry that makes live jazz unforgettable. \nPerformers: Buster Williams\, bass | Steve Wilson\, saxophone | Brandon McCune\, piano (7/31 and 8/1) | Steve Nelson\, vibes (8/2) |  Lenny White\, drums \nCover: $25.00 ~ $65.00
URL:https://notoriousjazz.com/event/buster-williams
LOCATION:Dizzy’s Club\, 10 Columbus Circle\, New York City\, NY\, 10019\, United States
CATEGORIES:Club
ATTACH;FMTTYPE=image/png:https://notoriousjazz.com/wp-content/uploads/2025/07/BUSTER-WILLIAMS-@-DIZZYS.png
END:VEVENT
BEGIN:VEVENT
DTSTART;TZID=America/New_York:20250808T190000
DTEND;TZID=America/New_York:20250810T223000
DTSTAMP:20260419T184322
CREATED:20250730T035803Z
LAST-MODIFIED:20250730T035824Z
UID:46771-1754679600-1754865000@notoriousjazz.com
SUMMARY:BEN WOLFE
DESCRIPTION:Bassist and composer Ben Wolfe brings his hard swinging quartet to Dizzy’s Club for three nights of bold originals and heartfelt ballads. Known for his inventive voice and magnetic stage presence\, Wolfe leads a top-tier ensemble that delivers timeless jazz with fresh energy and chemistry. \nPerformers: \nBen Wolfe\, bass\nJoel Ross\, vibraphone\nSullivan Fortner\, piano\nAaron Kimmel\, drums \n\nTable & Bar Seating: $25.00 ~ $55.00
URL:https://notoriousjazz.com/event/ben-wolfe
LOCATION:Dizzy’s Club\, 10 Columbus Circle\, New York City\, NY\, 10019\, United States
CATEGORIES:Club
ATTACH;FMTTYPE=image/png:https://notoriousjazz.com/wp-content/uploads/2025/07/BEN-WOLFE-@-DIZZYS.png
END:VEVENT
BEGIN:VEVENT
DTSTART;TZID=America/New_York:20250811T190000
DTEND;TZID=America/New_York:20250811T223000
DTSTAMP:20260419T184322
CREATED:20250730T041829Z
LAST-MODIFIED:20250730T041925Z
UID:46774-1754938800-1754951400@notoriousjazz.com
SUMMARY:JAZZ HOUSE KIDS
DESCRIPTION:For nearly 20 years\, JAZZ HOUSE has shaped the next generation of jazz artists through world-class training and mentorship. Hosted by eight-time Grammy Award winner Christian McBride\, this special night spotlights rising stars performing new arrangements and timeless works by Miles Davis\, Bobby Timmons\, John and Alice Coltrane\, and more. It’s a powerful glimpse into the future of jazz\, rooted in tradition\, driven by passion\, and filled with possibility. \nCover: Sold Out
URL:https://notoriousjazz.com/event/jazz-house-kids
LOCATION:FL
CATEGORIES:Club
ATTACH;FMTTYPE=image/png:https://notoriousjazz.com/wp-content/uploads/2025/07/JAZZ-HOUSE-KIDS-@-DIZYS.png
END:VEVENT
BEGIN:VEVENT
DTSTART;TZID=America/New_York:20250812T190000
DTEND;TZID=America/New_York:20250816T235900
DTSTAMP:20260419T184322
CREATED:20250810T030840Z
LAST-MODIFIED:20250810T031614Z
UID:46854-1755025200-1755388740@notoriousjazz.com
SUMMARY:OSCAR PETERSON CENTENNIAL CELEBRATION
DESCRIPTION:August 15\, 2025 marks the occasion of the “Maharajah of the Keyboard” Oscar Peterson’s 100th birthday. For the occasion of his centennial and to commemorate his long history with Birdland\, there will be celebrations for Peterson’s birthday week both at Birdland Jazz Club and the Birdland Theater. \n\nThree legends of jazz will have their first ever musical meeting on the Birdland stage. Makoto Ozone\, John Clayton and Jeff Hamilton will be coming together to celebrate their friend\, colleague and mentor\, Oscar Peterson\, with a variety of music featuring selections from both his musical catalogue and their own as well as beloved standards that celebrate the swinging rhythms of the jazz tradition that OP represents. \nFeaturing:\nMakoto Ozone ~ piano\nJohn Clayton ~ bass\nJeff Hamilton ~ drums \nCover: $45.76 ~ $56.06
URL:https://notoriousjazz.com/event/oscar-peterson-centennial-celebration
LOCATION:Birdland\, 315 W 44th Street\, #5402\, New York City\, NY\, 10036\, United States
CATEGORIES:Club
ATTACH;FMTTYPE=image/png:https://notoriousjazz.com/wp-content/uploads/2025/08/CLAYTON-MAKOTO-HAMILTON-@-BIRDLAND.png
END:VEVENT
BEGIN:VEVENT
DTSTART;TZID=Asia/Tokyo:20250820T080000
DTEND;TZID=Asia/Tokyo:20250822T170000
DTSTAMP:20260419T184322
CREATED:20250730T005420Z
LAST-MODIFIED:20250730T014502Z
UID:46764-1755676800-1755882000@notoriousjazz.com
SUMMARY:CÉCILE MCLORIN SALVANT
DESCRIPTION:Cécile McLorin Salvant  is a French-American jazz vocalist. She is one of the most highly regarded jazz vocalists of her generation\, often winning DownBeat annual critics polls. She has released seven albums since 2010\, six of which have been nominated for Grammy Awards. She is a 3-time winner of the Best Jazz Vocal Album Grammy Award for her 2015 album For One to Love\, her 2017 album Dreams and Daggers\, and her 2018 album The Window\, each released on the Mack Avenue label. Salvant’s most recent album is Mélusine\, released in 2023 by Nonesuch Records. Salvant primarily sings in English or French\, her first language\, and has also recorded songs in Occitan and Haitian Kreyòl. \nCécile McLorin Salvant Quartet  \nThe Band:with Sullivan Fortner ~ piano | Yasushi Nakamura ~ bass | Kyle Poole ~ drums \nShows:\n2025 August 20th Wed. – August 22nd Fri. \n[1st]Open5:00pm Start6:00pm [2nd]Open7:45pm Start8:30pm \nCover: ¥ 8\,800 | $59.24
URL:https://notoriousjazz.com/event/cecile-mclorin-salvant-4
LOCATION:Blue Note ~ Tokyo\, 6 Chome-3-16 Minamiaoyama\, Minato City\, Tokyo 107-0062\, Japan
CATEGORIES:Club
ATTACH;FMTTYPE=image/png:https://notoriousjazz.com/wp-content/uploads/2025/07/CECILE-MCLORIN-SALVANT-@-BLUE-NOTE-TOKYO.png
END:VEVENT
END:VCALENDAR