BEGIN:VCALENDAR
VERSION:2.0
PRODID:-//Notorious Jazz - ECPv6.15.17//NONSGML v1.0//EN
CALSCALE:GREGORIAN
METHOD:PUBLISH
X-ORIGINAL-URL:https://notoriousjazz.com
X-WR-CALDESC:Events for Notorious Jazz
REFRESH-INTERVAL;VALUE=DURATION:PT1H
X-Robots-Tag:noindex
X-PUBLISHED-TTL:PT1H
BEGIN:VTIMEZONE
TZID:Europe/London
BEGIN:DAYLIGHT
TZOFFSETFROM:+0000
TZOFFSETTO:+0100
TZNAME:BST
DTSTART:20240331T010000
END:DAYLIGHT
BEGIN:STANDARD
TZOFFSETFROM:+0100
TZOFFSETTO:+0000
TZNAME:GMT
DTSTART:20241027T010000
END:STANDARD
BEGIN:DAYLIGHT
TZOFFSETFROM:+0000
TZOFFSETTO:+0100
TZNAME:BST
DTSTART:20250330T010000
END:DAYLIGHT
BEGIN:STANDARD
TZOFFSETFROM:+0100
TZOFFSETTO:+0000
TZNAME:GMT
DTSTART:20251026T010000
END:STANDARD
BEGIN:DAYLIGHT
TZOFFSETFROM:+0000
TZOFFSETTO:+0100
TZNAME:BST
DTSTART:20260329T010000
END:DAYLIGHT
BEGIN:STANDARD
TZOFFSETFROM:+0100
TZOFFSETTO:+0000
TZNAME:GMT
DTSTART:20261025T010000
END:STANDARD
END:VTIMEZONE
BEGIN:VTIMEZONE
TZID:America/New_York
BEGIN:DAYLIGHT
TZOFFSETFROM:-0500
TZOFFSETTO:-0400
TZNAME:EDT
DTSTART:20240310T070000
END:DAYLIGHT
BEGIN:STANDARD
TZOFFSETFROM:-0400
TZOFFSETTO:-0500
TZNAME:EST
DTSTART:20241103T060000
END:STANDARD
BEGIN:DAYLIGHT
TZOFFSETFROM:-0500
TZOFFSETTO:-0400
TZNAME:EDT
DTSTART:20250309T070000
END:DAYLIGHT
BEGIN:STANDARD
TZOFFSETFROM:-0400
TZOFFSETTO:-0500
TZNAME:EST
DTSTART:20251102T060000
END:STANDARD
BEGIN:DAYLIGHT
TZOFFSETFROM:-0500
TZOFFSETTO:-0400
TZNAME:EDT
DTSTART:20260308T070000
END:DAYLIGHT
BEGIN:STANDARD
TZOFFSETFROM:-0400
TZOFFSETTO:-0500
TZNAME:EST
DTSTART:20261101T060000
END:STANDARD
END:VTIMEZONE
BEGIN:VEVENT
DTSTART;TZID=Europe/London:20251001T183000
DTEND;TZID=Europe/London:20251001T195000
DTSTAMP:20260419T152458
CREATED:20250928T020816Z
LAST-MODIFIED:20250928T031914Z
UID:47405-1759343400-1759348200@notoriousjazz.com
SUMMARY:RONNIE SCOTT'S ALL STARS
DESCRIPTION:It has been named jazz’s greatest year. There was definitely something in the air in 1959\, and it wasn’t just NASA: Castro took over Cuba\, Buddy Holly died in a plane crash\, Pan Am started regular flights around the world\, and NASA sent 7 astronauts into space. \nRonnie Scott’s\, of course\, was founded in 1959. The idea of opening a jazz club along the lines of the intimate and bustling venues of New York’s 52nd Street was hatched by two ardent jazz fans who happened to be very much part of a burgeoning modern jazz movement of the late fifties: tenor saxophonist Ronnie Scott who had since the late forties\, wowed the bebop brigade in a series of bands commencing with the nine-piece which featured his business partner to be and fellow saxophonist Pete King. \nThree greats of jazz died – Lester Young\, Billie Holiday and Sidney Bechet but born out of so much world turmoil were a spate of jazz masterpieces. \nIn March\, Miles Davis created the definitive jazz album in A Kind of Blue. In May\, Charles Mingus released an album called Mingus Ah Um – possibly his definitive album. Also in May\, Ornette Coleman’s album The Shape of Jazz To Come became ‘the genesis of avant-garde jazz’\, and John Coltrane recorded Giant Steps from May to December. \nWhat Miles did for harmonic shifts\, The Dave Brubeck Quartet did for rhythmic innovations with Time Out\, challenging the acceptable 4/4 and 3/4 time signatures and even creating the hit Take Five with their 5/4 time signature. \nHaving spent eight months in the Miles Davis Quintet\, Bill Evans released Portrait in Jazz in December with Paul Motian and Scott LaFaro\, often regarded as one of the greatest jazz trios. \nIn the show\, you can expect to hear a sample of music from all of these genre-defining jazz classics performed by the unmatched Ronnie Scott’s All Stars. \nLine-up \nFreddie Gavita ~ trumpet\nAlex Garnett ~ saxophone\nJames Pearson ~ piano\nSam Burgess ~ bass\nSebastian de Krom ~ drums \nTickets: £35 ~ £55 | $40.96 ~ $64.36
URL:https://notoriousjazz.com/event/ronnie-scotts-all-stars
LOCATION:Ronnie Scott’s\, 47 Frith Street\, Soho London\, England\, W1D 4HT\, United Kingdom
CATEGORIES:Club
ATTACH;FMTTYPE=image/png:https://notoriousjazz.com/wp-content/uploads/2025/09/RS-ALL-STARS-@-RONNIE-SCOTTS.png
END:VEVENT
BEGIN:VEVENT
DTSTART;TZID=America/New_York:20251008T080000
DTEND;TZID=America/New_York:20251011T170000
DTSTAMP:20260419T152458
CREATED:20251008T012501Z
LAST-MODIFIED:20251008T020648Z
UID:47550-1759910400-1760202000@notoriousjazz.com
SUMMARY:RON CARTER FEATURING BILL FRISELL
DESCRIPTION:Ron Carter is among the most original\, prolific and influential bassists in jazz with more than 2\,000 albums to his credit. Beginning his career in the 1960s with Jaki Byard and Eric Dolphy\, Cannonball Adderley\, and a five year stint with the Miles Davis’ Quintet\, Ron also performed and recorded with notables including Bill Evans\, B.B. King\, and Dexter Gordon. Ron Carter’s various ensembles\, big band to trio\, feature a who’s who of the finest players on the NYC scene with\, “an absolute commitment to musical sublimity [that] exudes refined elegance and sonic power.” (amazon.com) \nBill Frisell’s career as a guitarist and composer has spanned more than 40 years and many celebrated recordings\, whose catalog has been cited by Downbeat as “the best recorded output of the decade.” \nTickets: $45.76 ~ $61.21
URL:https://notoriousjazz.com/event/ron-carter-featuring-bill-frisell
LOCATION:FL
CATEGORIES:Club
ATTACH;FMTTYPE=image/png:https://notoriousjazz.com/wp-content/uploads/2025/10/RON-CARTER-@-BIRDLAND.png
END:VEVENT
BEGIN:VEVENT
DTSTART;TZID=America/New_York:20251013T190000
DTEND;TZID=America/New_York:20251013T223000
DTSTAMP:20260419T152458
CREATED:20250907T155007Z
LAST-MODIFIED:20250907T183312Z
UID:47156-1760382000-1760394600@notoriousjazz.com
SUMMARY:BEN WILLIAMS
DESCRIPTION:Washington\, D.C. has produced its share of game-changers and that long list of musicians that include Duke Ellington\, Chuck Brown\, Marvin Gaye\, Shirley Horn\, Roberta Flack\, and Meshell Ndegeocello. Added to that list is bassist Ben Williams \nFor more than a decade Williams has become an acclaimed bassist in modern jazz. He has won the Thelonious Monk International Jazz Competition\, which got him a recording contract with Concord Records and he has gone on to release several albums. He has performed with Pat Metheny\, George Benson\, Stefon Harris\, David Sanborn\, Lauryn Hill\, Wynton Marsalis\, Robert Glasper\, Maxwell and Nicholas Payton to name a few. \nCover: $45.00 | $70.00 | $200.00
URL:https://notoriousjazz.com/event/ben-williams
LOCATION:Missy Lane’s Assembly Room\, 310 E. Main Street\, Durham\, NC\, 27701\, United States
CATEGORIES:Club
ATTACH;FMTTYPE=image/png:https://notoriousjazz.com/wp-content/uploads/2025/09/BEN-WILLIAMS-@-MISSY-LANES.png
END:VEVENT
END:VCALENDAR