BEGIN:VCALENDAR
VERSION:2.0
PRODID:-//Notorious Jazz - ECPv6.15.17//NONSGML v1.0//EN
CALSCALE:GREGORIAN
METHOD:PUBLISH
X-WR-CALNAME:Notorious Jazz
X-ORIGINAL-URL:https://notoriousjazz.com
X-WR-CALDESC:Events for Notorious Jazz
REFRESH-INTERVAL;VALUE=DURATION:PT1H
X-Robots-Tag:noindex
X-PUBLISHED-TTL:PT1H
BEGIN:VTIMEZONE
TZID:America/New_York
BEGIN:DAYLIGHT
TZOFFSETFROM:-0500
TZOFFSETTO:-0400
TZNAME:EDT
DTSTART:20210314T070000
END:DAYLIGHT
BEGIN:STANDARD
TZOFFSETFROM:-0400
TZOFFSETTO:-0500
TZNAME:EST
DTSTART:20211107T060000
END:STANDARD
BEGIN:DAYLIGHT
TZOFFSETFROM:-0500
TZOFFSETTO:-0400
TZNAME:EDT
DTSTART:20220313T070000
END:DAYLIGHT
BEGIN:STANDARD
TZOFFSETFROM:-0400
TZOFFSETTO:-0500
TZNAME:EST
DTSTART:20221106T060000
END:STANDARD
BEGIN:DAYLIGHT
TZOFFSETFROM:-0500
TZOFFSETTO:-0400
TZNAME:EDT
DTSTART:20230312T070000
END:DAYLIGHT
BEGIN:STANDARD
TZOFFSETFROM:-0400
TZOFFSETTO:-0500
TZNAME:EST
DTSTART:20231105T060000
END:STANDARD
END:VTIMEZONE
BEGIN:VEVENT
DTSTART;TZID=America/New_York:20221125T203000
DTEND;TZID=America/New_York:20221125T220000
DTSTAMP:20260422T101956
CREATED:20221014T042853Z
LAST-MODIFIED:20221105T214522Z
UID:32169-1669408200-1669413600@notoriousjazz.com
SUMMARY:MATTHEW PARRISH QUARTET FEATURING HOUSTON PERSON
DESCRIPTION:Jazz bassist Matthew Parrish has ‘come into his own’ as a sought after performer\, arranger\, composer\, producer and instructor. Matthew brings skills and swing as he puts his heart into every note he plays. He has a genuine warmth and loyalty to the music that transcends into every note\, every tune\, and every interaction with his fellow musicians. \nHouston Person grew up in Florence\, S.C.\, studied at the state college there\, was later named to the school’s Hall of Fame in 1999\, and continued his studies at Hartt College of Music in Hartford\, CT. Earlier\, in the U.S. Air Force\, he played with Don Ellis\, Eddie Harris\, Cedar Walton\, and Leo Wright. Contrary to popular belief\, he was never married to the late singer Etta Jones\, but did spend many years as her musical partner\, recording\, performing and touring.
URL:https://notoriousjazz.com/event/matthew-parrish-quartet-featuring-houston-person
LOCATION:The Side Door\, Old Lyme Inn\, 85 Lyme Street\, Old Lyme\, CT\, 06371\, United States
CATEGORIES:Club
ATTACH;FMTTYPE=image/png:https://notoriousjazz.com/wp-content/uploads/2022/10/MATTHEW-PARRISH.png
END:VEVENT
END:VCALENDAR