BEGIN:VCALENDAR
VERSION:2.0
PRODID:-//Notorious Jazz - ECPv6.15.17//NONSGML v1.0//EN
CALSCALE:GREGORIAN
METHOD:PUBLISH
X-WR-CALNAME:Notorious Jazz
X-ORIGINAL-URL:https://notoriousjazz.com
X-WR-CALDESC:Events for Notorious Jazz
REFRESH-INTERVAL;VALUE=DURATION:PT1H
X-Robots-Tag:noindex
X-PUBLISHED-TTL:PT1H
BEGIN:VTIMEZONE
TZID:America/Los_Angeles
BEGIN:DAYLIGHT
TZOFFSETFROM:-0800
TZOFFSETTO:-0700
TZNAME:PDT
DTSTART:20220313T100000
END:DAYLIGHT
BEGIN:STANDARD
TZOFFSETFROM:-0700
TZOFFSETTO:-0800
TZNAME:PST
DTSTART:20221106T090000
END:STANDARD
BEGIN:DAYLIGHT
TZOFFSETFROM:-0800
TZOFFSETTO:-0700
TZNAME:PDT
DTSTART:20230312T100000
END:DAYLIGHT
BEGIN:STANDARD
TZOFFSETFROM:-0700
TZOFFSETTO:-0800
TZNAME:PST
DTSTART:20231105T090000
END:STANDARD
BEGIN:DAYLIGHT
TZOFFSETFROM:-0800
TZOFFSETTO:-0700
TZNAME:PDT
DTSTART:20240310T100000
END:DAYLIGHT
BEGIN:STANDARD
TZOFFSETFROM:-0700
TZOFFSETTO:-0800
TZNAME:PST
DTSTART:20241103T090000
END:STANDARD
END:VTIMEZONE
BEGIN:VEVENT
DTSTART;TZID=America/Los_Angeles:20230916T193000
DTEND;TZID=America/Los_Angeles:20230917T220000
DTSTAMP:20260421T151232
CREATED:20230910T031040Z
LAST-MODIFIED:20230910T031620Z
UID:36985-1694892600-1694988000@notoriousjazz.com
SUMMARY:THE JAZZ SYMBIOSIS QUINTET
DESCRIPTION:The music of Steve Swallow\, Clare Fischer\, Benny Golson\, A.C.Jobim\, McCoy Tyner\, Kenny Garrett\, Roland Kirk\, Dizzy Gillespie\, Mingus & Coltrane.\n\nScott FitzGibbon | flute\, saxophone\nKen Johnston | trumpet\, cornet\, flugelhorn\nGus Russell | piano\nRobert Lassila | bass\nJoe Kelner | drums
URL:https://notoriousjazz.com/event/the-jazz-symbiosis-quintet
LOCATION:The Jazz Station\, 124 W Broadway\, Eugene\, OR\, 97401\, United States
CATEGORIES:Club
ATTACH;FMTTYPE=image/jpeg:https://notoriousjazz.com/wp-content/uploads/2023/09/JAZZ-SYMBIOSIS-QUINTET.jpg
END:VEVENT
END:VCALENDAR