BEGIN:VCALENDAR
VERSION:2.0
PRODID:-//Notorious Jazz - ECPv6.15.17//NONSGML v1.0//EN
CALSCALE:GREGORIAN
METHOD:PUBLISH
X-ORIGINAL-URL:https://notoriousjazz.com
X-WR-CALDESC:Events for Notorious Jazz
REFRESH-INTERVAL;VALUE=DURATION:PT1H
X-Robots-Tag:noindex
X-PUBLISHED-TTL:PT1H
BEGIN:VTIMEZONE
TZID:America/New_York
BEGIN:DAYLIGHT
TZOFFSETFROM:-0500
TZOFFSETTO:-0400
TZNAME:EDT
DTSTART:20230312T070000
END:DAYLIGHT
BEGIN:STANDARD
TZOFFSETFROM:-0400
TZOFFSETTO:-0500
TZNAME:EST
DTSTART:20231105T060000
END:STANDARD
BEGIN:DAYLIGHT
TZOFFSETFROM:-0500
TZOFFSETTO:-0400
TZNAME:EDT
DTSTART:20240310T070000
END:DAYLIGHT
BEGIN:STANDARD
TZOFFSETFROM:-0400
TZOFFSETTO:-0500
TZNAME:EST
DTSTART:20241103T060000
END:STANDARD
BEGIN:DAYLIGHT
TZOFFSETFROM:-0500
TZOFFSETTO:-0400
TZNAME:EDT
DTSTART:20250309T070000
END:DAYLIGHT
BEGIN:STANDARD
TZOFFSETFROM:-0400
TZOFFSETTO:-0500
TZNAME:EST
DTSTART:20251102T060000
END:STANDARD
END:VTIMEZONE
BEGIN:VEVENT
DTSTART;TZID=America/New_York:20240319T190000
DTEND;TZID=America/New_York:20240319T223000
DTSTAMP:20260421T042420
CREATED:20240303T145927Z
LAST-MODIFIED:20240303T145927Z
UID:39587-1710874800-1710887400@notoriousjazz.com
SUMMARY:TORD GUSTAVSEN
DESCRIPTION:Norwegian pianist Tord Gustavsen and his exploratory trio present new music from his forthcoming ECM release. Combining improvisation and lush\, at times eerie harmonies with electronic programming and plenty of soundscaping\, Gustavsen and fellow artists Steiner Raknes and Jarle Vespestad invite listeners into a sonic world that draws inspiration from a range of styles\, including church and folk music. Expect an invigorating evening of original music and energizing dialogue emanating from the bandstand.   \nTord Gustavsen\, piano and electronics\nSteinar Raknes\, double bass and electronics\nJarle Vespestad\, drums
URL:https://notoriousjazz.com/event/tord-gustavsen
LOCATION:Dizzy’s Club\, 10 Columbus Circle\, New York City\, NY\, 10019\, United States
CATEGORIES:Club
ATTACH;FMTTYPE=image/jpeg:https://notoriousjazz.com/wp-content/uploads/2024/03/TORD-GUSTAVSEN.jpg
END:VEVENT
END:VCALENDAR