BEGIN:VCALENDAR
VERSION:2.0
PRODID:-//Notorious Jazz - ECPv6.15.17//NONSGML v1.0//EN
CALSCALE:GREGORIAN
METHOD:PUBLISH
X-ORIGINAL-URL:https://notoriousjazz.com
X-WR-CALDESC:Events for Notorious Jazz
REFRESH-INTERVAL;VALUE=DURATION:PT1H
X-Robots-Tag:noindex
X-PUBLISHED-TTL:PT1H
BEGIN:VTIMEZONE
TZID:America/New_York
BEGIN:DAYLIGHT
TZOFFSETFROM:-0500
TZOFFSETTO:-0400
TZNAME:EDT
DTSTART:20230312T070000
END:DAYLIGHT
BEGIN:STANDARD
TZOFFSETFROM:-0400
TZOFFSETTO:-0500
TZNAME:EST
DTSTART:20231105T060000
END:STANDARD
BEGIN:DAYLIGHT
TZOFFSETFROM:-0500
TZOFFSETTO:-0400
TZNAME:EDT
DTSTART:20240310T070000
END:DAYLIGHT
BEGIN:STANDARD
TZOFFSETFROM:-0400
TZOFFSETTO:-0500
TZNAME:EST
DTSTART:20241103T060000
END:STANDARD
BEGIN:DAYLIGHT
TZOFFSETFROM:-0500
TZOFFSETTO:-0400
TZNAME:EDT
DTSTART:20250309T070000
END:DAYLIGHT
BEGIN:STANDARD
TZOFFSETFROM:-0400
TZOFFSETTO:-0500
TZNAME:EST
DTSTART:20251102T060000
END:STANDARD
END:VTIMEZONE
BEGIN:VEVENT
DTSTART;TZID=America/New_York:20240621T080000
DTEND;TZID=America/New_York:20240621T170000
DTSTAMP:20260420T214308
CREATED:20240614T084745Z
LAST-MODIFIED:20240614T084745Z
UID:41173-1718956800-1718989200@notoriousjazz.com
SUMMARY:BENITO GONZALEZ\, BUSTER WILLIAMS\, LENNY WHITE
DESCRIPTION:Benito Gonzalez – Piano | Buster Williams – Bass | Lenny White – Drums \nPianist Benito Gonzalez “Two times Grammy nominee”is an internationally beloved artist who combines a long lineage of American jazz traditions with rhythms from around the world. He’s worked with dozens of the greats\, and he always brings some of the best rhythm section players in the world. \nToday a rising tide of young jazz pianists are attempting to find their distinct voices by taking cues from their elders. But only a few take their artistry beyond their predecessors to make bold 88-key statements on their journeys to new vistas\, fresh sounds\, inspired expressions. That personal-touch devotion to the wonders of the instrument brings with it a certitude of intuitive creativity. \nThat fortitude fuels Benito Gonzalez\, an exhilarating pianist who won the 2005 Great America Jazz Piano Competition and was honored in 2020 to be a Steinway & Sons artist for “his sound [that] is recognizable for the powerful rhythm section and Afro-Latin patterns he prioritizes across his projects.” The Venezuela-born\, New York-based artist grew up playing traditional Venezuelan folk music with his family before absorbing the inventiveness of such pianists as Herbie Hancock\, McCoy Tyner\,Chick Corea and Keith Jarrett who inspired him to join in the explorations on the instrument. \nGonzalez made his way to U.S. by a serendipitous route when an American cultural ambassador caught one of his trio gigs and later invited him to come to Washington\, D.C. He was enlisted to play shows with Ghanaian master drummer Okyerema Asante that led to a recording. “After my first six months here\, I decided to stay in this country to learn the music right\,” Gonzalez said. \nGonzalez went on to play with Jackie McLean in 2003\, then joined Kenny Garrett’s quartet for seven years until 2013—during which time he garnered two Grammy band nominations. After his stint with Garrett\, he played with saxophonist Azar Lawrence’s band and then in 2019 joined saxophone legend Pharoah Sanders as his pianist/musical director. \nThrough the course of his career\, Gonzalez has been instrumental as a sideman in performing and recording with such jazz greats as Bobby Hutcherson\, Dave Liebman\, Gary Bartz\, Curtis Fuller\, Al Foster\, Lenny White\, Billy Hart\, Ignacio Berroa\, Jeff”Tain”Watts\, Buster Williams\, Rene McLean\, Steve Turre\, Delfeayo Marsalis\, Hamiet Bluiett\, Ron Blake\, Antonio Sanchez\, Mark Gross\, and Azar Lawrence. \nGonzalez also recorded his own albums\, including Starting Point (2004) and Circles (2010)\, then continued his solo career with Dream Rhapsody (2015) with Slavic flutist/vocalist Sisa Michalidesová\, and a loving tribute to McCoy Tyner Passion Reverence Transcendence (2018). \nWith propulsive pulse and Afro-Latin percussive drive\, Gonzalez placed rhythm at the core of 2021’s Sing to the World\, his fifth album and first released on the St. Petersburg\, Russia label Rainy Days Records. He assembled an impressive team of collaborators\, including Christian McBride\, Essiet Okon Essiet\, Jeff “Tain” Watts\, and Nicholas Payton as well as rising stars Russian drummer Sasha Mashin\, trumpeter Josh Evans. \nIn addition to his slow-to-upbeat originals\, Gonzalez added to the set list two compositions that had never been recorded by their composers: Roy Hargrove’s soulful “Father” and the “Tain” beauty “416.” After almost seven years of touring with Kenny Garrett\, Benito has added numerous festivals and international jazz club dates to his credit. In 2019 he joined legendary saxophonist Pharoah Sanders as pianist and musical director.
URL:https://notoriousjazz.com/event/benito-gonzalez-buster-williams-lenny-white
LOCATION:The Side Door\, Old Lyme Inn\, 85 Lyme Street\, Old Lyme\, CT\, 06371\, United States
CATEGORIES:Club
ATTACH;FMTTYPE=image/jpeg:https://notoriousjazz.com/wp-content/uploads/2024/06/BENITO-GONZALEZ.jpg
END:VEVENT
END:VCALENDAR