BEGIN:VCALENDAR
VERSION:2.0
PRODID:-//Notorious Jazz - ECPv6.15.17//NONSGML v1.0//EN
CALSCALE:GREGORIAN
METHOD:PUBLISH
X-ORIGINAL-URL:https://notoriousjazz.com
X-WR-CALDESC:Events for Notorious Jazz
REFRESH-INTERVAL;VALUE=DURATION:PT1H
X-Robots-Tag:noindex
X-PUBLISHED-TTL:PT1H
BEGIN:VTIMEZONE
TZID:America/New_York
BEGIN:DAYLIGHT
TZOFFSETFROM:-0500
TZOFFSETTO:-0400
TZNAME:EDT
DTSTART:20230312T070000
END:DAYLIGHT
BEGIN:STANDARD
TZOFFSETFROM:-0400
TZOFFSETTO:-0500
TZNAME:EST
DTSTART:20231105T060000
END:STANDARD
BEGIN:DAYLIGHT
TZOFFSETFROM:-0500
TZOFFSETTO:-0400
TZNAME:EDT
DTSTART:20240310T070000
END:DAYLIGHT
BEGIN:STANDARD
TZOFFSETFROM:-0400
TZOFFSETTO:-0500
TZNAME:EST
DTSTART:20241103T060000
END:STANDARD
BEGIN:DAYLIGHT
TZOFFSETFROM:-0500
TZOFFSETTO:-0400
TZNAME:EDT
DTSTART:20250309T070000
END:DAYLIGHT
BEGIN:STANDARD
TZOFFSETFROM:-0400
TZOFFSETTO:-0500
TZNAME:EST
DTSTART:20251102T060000
END:STANDARD
END:VTIMEZONE
BEGIN:VEVENT
DTSTART;TZID=America/New_York:20240721T200000
DTEND;TZID=America/New_York:20240721T233000
DTSTAMP:20260420T181115
CREATED:20240622T223429Z
LAST-MODIFIED:20240622T223429Z
UID:41337-1721592000-1721604600@notoriousjazz.com
SUMMARY:MIMI JONES & FRIENDS
DESCRIPTION:For more than two decades she’s been on the scene\, bassist/vocalist/producer/label owner and now filmmaker Mimi Jones has reigned supreme\, as a side woman to an impressive coterie of musicians and as a leader with three original recording projects on her own Hot Tone Music label. \nBorn Miriam Sullivan in New York City on March 25\, 1972\, and was raised in the Bronx. Jones studied Music at the Manhattan School of Music Conservatory\, and has also studied with Linda McKnight\, Lisle Atkinson\, Barry Harris\, Milt Hinton\, Dr. Billy Taylor\, Yusef Lateef. She has toured extensively for over 30 years throughout the seven continents\, and has played with such people as Frank Ocean\, Kenny Barron\, DD Bridgewater\, Dianne Reeves\, Tia Fuller\, Roy Hargrove\, Terri Lyne Carrington\, Beyonce\, Jason Moran\, Common\, Black Thought and more. \nMimi Jones co-directs a multimedia interdisciplinary production with pianist ArcoIris Sandoval entitled The D.O.M.E. Experience\, creating choreography\, musical and visual works inspired by social injustices and environmental changes in our world. Voted #1 & #2 rising star by the DownBeat polls for 3 consecutive years\, she currently works on a new project called The Black Madonna. The Berklee School of Music professor recently began collaborating with a trio called Nite Bjuti featuring Vocalist Candice Hoyes\, and Sound Chemist Val Jeanty. Mimi is a recipient of the Chamber Music America Performance Plus Award 2021.
URL:https://notoriousjazz.com/event/mimi-jones-friends-4
LOCATION:Room 623\,  271 West 119th Street\, Harlem\, New York City\, NY\, 10026\, United States
CATEGORIES:Club
ATTACH;FMTTYPE=image/png:https://notoriousjazz.com/wp-content/uploads/2024/01/MIMI-JONES.png
END:VEVENT
END:VCALENDAR