BEGIN:VCALENDAR
VERSION:2.0
PRODID:-//Notorious Jazz - ECPv6.15.17//NONSGML v1.0//EN
CALSCALE:GREGORIAN
METHOD:PUBLISH
X-ORIGINAL-URL:https://notoriousjazz.com
X-WR-CALDESC:Events for Notorious Jazz
REFRESH-INTERVAL;VALUE=DURATION:PT1H
X-Robots-Tag:noindex
X-PUBLISHED-TTL:PT1H
BEGIN:VTIMEZONE
TZID:America/New_York
BEGIN:DAYLIGHT
TZOFFSETFROM:-0500
TZOFFSETTO:-0400
TZNAME:EDT
DTSTART:20230312T070000
END:DAYLIGHT
BEGIN:STANDARD
TZOFFSETFROM:-0400
TZOFFSETTO:-0500
TZNAME:EST
DTSTART:20231105T060000
END:STANDARD
BEGIN:DAYLIGHT
TZOFFSETFROM:-0500
TZOFFSETTO:-0400
TZNAME:EDT
DTSTART:20240310T070000
END:DAYLIGHT
BEGIN:STANDARD
TZOFFSETFROM:-0400
TZOFFSETTO:-0500
TZNAME:EST
DTSTART:20241103T060000
END:STANDARD
BEGIN:DAYLIGHT
TZOFFSETFROM:-0500
TZOFFSETTO:-0400
TZNAME:EDT
DTSTART:20250309T070000
END:DAYLIGHT
BEGIN:STANDARD
TZOFFSETFROM:-0400
TZOFFSETTO:-0500
TZNAME:EST
DTSTART:20251102T060000
END:STANDARD
END:VTIMEZONE
BEGIN:VEVENT
DTSTART;TZID=America/New_York:20240726T193000
DTEND;TZID=America/New_York:20240726T210000
DTSTAMP:20260420T181113
CREATED:20240711T190651Z
LAST-MODIFIED:20240716T173510Z
UID:41634-1722022200-1722027600@notoriousjazz.com
SUMMARY:TONY HIGHTOWER & EDWIN WILLIAMS
DESCRIPTION:Jazz\, Cool\, Smooth & Soulful special guest singer/actor Tony Hightower celebrates with a special tribute to bassists Stanley Clarke\, Jaco Pastorious & Ron Carter featuring bassist Edwin Williams along with a special appearance from vocalists Terry Dukes\, Akua Taylor and  Kaitlyn Washington. \nLawn Seating $30 / At Gate $35\nTable Seating (Seats 10) $400 (Table seating not sold at the gate on event day) \nRain or Shine Event. No Refunds\nBring your chairs or blankets\nFood\, beverages and small tables are allowed\nNo grills or large tables\nOnline Ticket Sales End Day Before Show.\nOnly credit/debit cards accepted at the Gate. NO CASH\nGates open at 6:30p
URL:https://notoriousjazz.com/event/tony-hightower-edwin-williams
LOCATION:The Wren’s Nest\, 1050 Ralph David Abernathy Boulevard SW\, Atlanta\, GA\, 30310\, United States
CATEGORIES:Concert
ATTACH;FMTTYPE=image/jpeg:https://notoriousjazz.com/wp-content/uploads/2024/07/TONY-HIGHTOWER-EDWIN-WILLIAMS.jpeg
END:VEVENT
END:VCALENDAR