BEGIN:VCALENDAR
VERSION:2.0
PRODID:-//Notorious Jazz - ECPv6.15.17//NONSGML v1.0//EN
CALSCALE:GREGORIAN
METHOD:PUBLISH
X-WR-CALNAME:Notorious Jazz
X-ORIGINAL-URL:https://notoriousjazz.com
X-WR-CALDESC:Events for Notorious Jazz
REFRESH-INTERVAL;VALUE=DURATION:PT1H
X-Robots-Tag:noindex
X-PUBLISHED-TTL:PT1H
BEGIN:VTIMEZONE
TZID:America/Denver
BEGIN:DAYLIGHT
TZOFFSETFROM:-0700
TZOFFSETTO:-0600
TZNAME:MDT
DTSTART:20240310T090000
END:DAYLIGHT
BEGIN:STANDARD
TZOFFSETFROM:-0600
TZOFFSETTO:-0700
TZNAME:MST
DTSTART:20241103T080000
END:STANDARD
BEGIN:DAYLIGHT
TZOFFSETFROM:-0700
TZOFFSETTO:-0600
TZNAME:MDT
DTSTART:20250309T090000
END:DAYLIGHT
BEGIN:STANDARD
TZOFFSETFROM:-0600
TZOFFSETTO:-0700
TZNAME:MST
DTSTART:20251102T080000
END:STANDARD
BEGIN:DAYLIGHT
TZOFFSETFROM:-0700
TZOFFSETTO:-0600
TZNAME:MDT
DTSTART:20260308T090000
END:DAYLIGHT
BEGIN:STANDARD
TZOFFSETFROM:-0600
TZOFFSETTO:-0700
TZNAME:MST
DTSTART:20261101T080000
END:STANDARD
END:VTIMEZONE
BEGIN:VEVENT
DTSTART;TZID=America/Denver:20250725T190000
DTEND;TZID=America/Denver:20250725T210000
DTSTAMP:20260419T214110
CREATED:20250720T172216Z
LAST-MODIFIED:20250720T192111Z
UID:46607-1753470000-1753477200@notoriousjazz.com
SUMMARY:KEN WALKER SEXTET
DESCRIPTION:The Ken Walker Sextet is an iconic and beloved jazz group which has played together for more than two decades. The music is always swinging\, often funky\, and sometimes even profound. The repertoire ranges from jazz standards\, to post bop tunes\, original compositions\, and always\, always inspired by Eddie Harris! \nAnd the evening  can special with a Date Night Package for $45.00 with abottle of wine and a decadent dessert. \nThe Band: Ken Walker – Bass | Paul Romaine – Drums | Dave Corbus – Guitar | TBA – Piano | Brad Goode – Trumpet | Peter Sommer – Sax \nCover: $23.55 ~ $29.25
URL:https://notoriousjazz.com/event/ken-walker-sextet
LOCATION:Dazzle\, 1080 14th Street\, Denver\, CO\, 80202\, United States
CATEGORIES:Club
ATTACH;FMTTYPE=image/png:https://notoriousjazz.com/wp-content/uploads/2025/07/KEN-WALKER-@-DAZZLE.png
END:VEVENT
END:VCALENDAR