BEGIN:VCALENDAR
VERSION:2.0
PRODID:-//Notorious Jazz - ECPv6.15.17//NONSGML v1.0//EN
CALSCALE:GREGORIAN
METHOD:PUBLISH
X-WR-CALNAME:Notorious Jazz
X-ORIGINAL-URL:https://notoriousjazz.com
X-WR-CALDESC:Events for Notorious Jazz
REFRESH-INTERVAL;VALUE=DURATION:PT1H
X-Robots-Tag:noindex
X-PUBLISHED-TTL:PT1H
BEGIN:VTIMEZONE
TZID:America/New_York
BEGIN:DAYLIGHT
TZOFFSETFROM:-0500
TZOFFSETTO:-0400
TZNAME:EDT
DTSTART:20230312T070000
END:DAYLIGHT
BEGIN:STANDARD
TZOFFSETFROM:-0400
TZOFFSETTO:-0500
TZNAME:EST
DTSTART:20231105T060000
END:STANDARD
BEGIN:DAYLIGHT
TZOFFSETFROM:-0500
TZOFFSETTO:-0400
TZNAME:EDT
DTSTART:20240310T070000
END:DAYLIGHT
BEGIN:STANDARD
TZOFFSETFROM:-0400
TZOFFSETTO:-0500
TZNAME:EST
DTSTART:20241103T060000
END:STANDARD
BEGIN:DAYLIGHT
TZOFFSETFROM:-0500
TZOFFSETTO:-0400
TZNAME:EDT
DTSTART:20250309T070000
END:DAYLIGHT
BEGIN:STANDARD
TZOFFSETFROM:-0400
TZOFFSETTO:-0500
TZNAME:EST
DTSTART:20251102T060000
END:STANDARD
END:VTIMEZONE
BEGIN:VEVENT
DTSTART;TZID=America/New_York:20240720T193000
DTEND;TZID=America/New_York:20240720T230000
DTSTAMP:20260420T180458
CREATED:20240629T201218Z
LAST-MODIFIED:20240629T201218Z
UID:41444-1721503800-1721516400@notoriousjazz.com
SUMMARY:VIRGINIA MACDONALD ~ TODD MARCUS QUINTET
DESCRIPTION:Juno Award-nominated clarinetist Virginia MacDonald has established herself as a rising star of her generation. Known for her lyrical and soulful clarinet playing\, Virginia has been described as a “powerful new voice in the Canadian scene” by Juno Award-winning bassist Mike Downes. As a highly in-demand bandleader\, sidewoman\, and composer\, Virginia keeps a regular performance schedule across Canada\, the United States\, and Europe. \n\nBass clarinetist\, composer\, and bandleader Todd Marcus is one of the few jazz artists worldwide to focus their work primarily on the bass clarinet. Though use of bass clarinet in jazz typically leans heavily towards avant-garde and free-jazz styles\, Marcus’ straight-ahead playing has carved out a unique voice for the instrument in modern jazz. \nMusicians:\nVirginia MacDonald – clarinet\nTodd Marcus – bass clarinet\nBruce Barth – piano\nBlake Meister – bass\nEric Kennedy – drums
URL:https://notoriousjazz.com/event/virginia-macdonald-todd-marcus-quintet
LOCATION:Upstairs Jazz Bar & Grill\, 1254 Mackay Street\, Montreal\, Quebec\, 19145\, Canada
CATEGORIES:Club
ATTACH;FMTTYPE=image/png:https://notoriousjazz.com/wp-content/uploads/2024/06/VIRGINIA-MACDONALD-TODD-MARCUS.png
END:VEVENT
BEGIN:VEVENT
DTSTART;TZID=America/New_York:20240722T080000
DTEND;TZID=America/New_York:20240722T170000
DTSTAMP:20260420T180458
CREATED:20240722T223526Z
LAST-MODIFIED:20240722T223526Z
UID:41783-1721635200-1721667600@notoriousjazz.com
SUMMARY:ELEW TRIO
DESCRIPTION:Eric Robert Lewis (born May 13\, 1973)\, popularly known as ELEW\, found cross-over success playing rock and pop music. He is known for his unconventional and physical playing style\, which eschews a piano bench and includes reaching inside the piano lid to pull at the strings directly\, as well as the creation that he calls “Rockjazz”\, a genre that “takes the improvisational aspect of jazz and ‘threads it through the eye of the needle of rock.\n\nEric Lewis / Piano\n\n\nBar Filipowicz / Bass\n\n\nDavid Hawkins / Drums
URL:https://notoriousjazz.com/event/elew-trio
LOCATION:Smalls\, 183 West 10th Street - Basement\, New York City\, NY\, 10014\, United States
CATEGORIES:Club
ATTACH;FMTTYPE=image/jpeg:https://notoriousjazz.com/wp-content/uploads/2023/01/ERIC-LEWIS.jpg
END:VEVENT
BEGIN:VEVENT
DTSTART;TZID=America/New_York:20240723T193000
DTEND;TZID=America/New_York:20240723T223000
DTSTAMP:20260420T180458
CREATED:20240722T221536Z
LAST-MODIFIED:20240722T221536Z
UID:41779-1721763000-1721773800@notoriousjazz.com
SUMMARY:VIRGINIA MACDONALD | TODD MARCUS
DESCRIPTION:Juno Award-winning clarinetist Virginia MacDonald has established herself as a rising star of her generation. Known for her lyrical and soulful clarinet playing. As a highly in-demand bandleader\, sidewoman\, and composer\, Virginia keeps a regular performance schedule across Canada\, the United States\, and Europe.\n\n\nTodd Marcus is one of the few artists worldwide to focus on the bass clarinet as a main instrument in modern jazz with his small and large ensembles. His straight-ahead playing and compositions swing with fiery intensity balanced with delicate introspection.  His music offers a strong melodic sensibility\, draws from elements of his community work\, and often incorporate the Middle Eastern influences of his Egyptian-American heritage.\n\n\nTodd Marcus | Clarinet\n\n\nVirginia MacDonald | Clarinet\n\n\nBruce Barth | Piano\n\n\nBlake Meister | Bass\n\n\nEric Kennedy | Drums
URL:https://notoriousjazz.com/event/virginia-macdonald-todd-marcus
LOCATION:Smalls\, 183 West 10th Street - Basement\, New York City\, NY\, 10014\, United States
CATEGORIES:Club
ATTACH;FMTTYPE=image/png:https://notoriousjazz.com/wp-content/uploads/2024/06/VIRGINIA-MACDONALD-TODD-MARCUS.png
END:VEVENT
END:VCALENDAR