BEGIN:VCALENDAR
VERSION:2.0
PRODID:-//Notorious Jazz - ECPv6.15.17//NONSGML v1.0//EN
CALSCALE:GREGORIAN
METHOD:PUBLISH
X-WR-CALNAME:Notorious Jazz
X-ORIGINAL-URL:https://notoriousjazz.com
X-WR-CALDESC:Events for Notorious Jazz
REFRESH-INTERVAL;VALUE=DURATION:PT1H
X-Robots-Tag:noindex
X-PUBLISHED-TTL:PT1H
BEGIN:VTIMEZONE
TZID:America/New_York
BEGIN:DAYLIGHT
TZOFFSETFROM:-0500
TZOFFSETTO:-0400
TZNAME:EDT
DTSTART:20220313T070000
END:DAYLIGHT
BEGIN:STANDARD
TZOFFSETFROM:-0400
TZOFFSETTO:-0500
TZNAME:EST
DTSTART:20221106T060000
END:STANDARD
BEGIN:DAYLIGHT
TZOFFSETFROM:-0500
TZOFFSETTO:-0400
TZNAME:EDT
DTSTART:20230312T070000
END:DAYLIGHT
BEGIN:STANDARD
TZOFFSETFROM:-0400
TZOFFSETTO:-0500
TZNAME:EST
DTSTART:20231105T060000
END:STANDARD
BEGIN:DAYLIGHT
TZOFFSETFROM:-0500
TZOFFSETTO:-0400
TZNAME:EDT
DTSTART:20240310T070000
END:DAYLIGHT
BEGIN:STANDARD
TZOFFSETFROM:-0400
TZOFFSETTO:-0500
TZNAME:EST
DTSTART:20241103T060000
END:STANDARD
END:VTIMEZONE
BEGIN:VEVENT
DTSTART;TZID=America/New_York:20230419T183000
DTEND;TZID=America/New_York:20230422T220000
DTSTAMP:20260421T232321
CREATED:20230331T004025Z
LAST-MODIFIED:20230414T064154Z
UID:34789-1681929000-1682200800@notoriousjazz.com
SUMMARY:DAVE BENNETT
DESCRIPTION:Dave Bennett doesn’t fit the mold. For starters\, you don’t find many jazz clarinet players who name Alice Cooper\, Stevie Ray Vaughan\, and Chris Isaak among their influences. You won’t find many musicians who are equally conversant with the music of Benny Goodman (the “King of Swing”) and Roy Orbison (“The Soul of Rock and Roll”). In fact\, you may not find even one other clarinet virtuoso who breaks from his Swing Era repertoire to sing rockabilly hits while accompanying himself at the piano or electric guitar. \nSEATING TIMES:\nWednesday – Thursday\n2 Seatings\n1st Seating: 6:00pm-8:00pm\nBand Performs: 6:30pm-7:30pm\n2nd Seating: 8:30pm-10:30pm\nBand Performs: 9:00pm-10:00pm \nFriday – Saturday\n2 Seatings\n1st Seating: 6:00pm-8:00pm\nBand Performs: 6:30pm-7:30pm\n2nd Seating: 8:30pm-10:30pm\nBand Performs: 9:00pm-10:00pm
URL:https://notoriousjazz.com/event/dave-bennett
LOCATION:Dirty Dog Jazz Cafe\, 97 Kercheval Avenue\, Grosse Pointe Farms\, MI\, 48236\, United States
CATEGORIES:Club
ATTACH;FMTTYPE=image/jpeg:https://notoriousjazz.com/wp-content/uploads/2023/03/DAVE-BENNETT.jpg
END:VEVENT
END:VCALENDAR