BEGIN:VCALENDAR
VERSION:2.0
PRODID:-//Notorious Jazz - ECPv6.15.17//NONSGML v1.0//EN
CALSCALE:GREGORIAN
METHOD:PUBLISH
X-WR-CALNAME:Notorious Jazz
X-ORIGINAL-URL:https://notoriousjazz.com
X-WR-CALDESC:Events for Notorious Jazz
REFRESH-INTERVAL;VALUE=DURATION:PT1H
X-Robots-Tag:noindex
X-PUBLISHED-TTL:PT1H
BEGIN:VTIMEZONE
TZID:America/New_York
BEGIN:DAYLIGHT
TZOFFSETFROM:-0500
TZOFFSETTO:-0400
TZNAME:EDT
DTSTART:20230312T070000
END:DAYLIGHT
BEGIN:STANDARD
TZOFFSETFROM:-0400
TZOFFSETTO:-0500
TZNAME:EST
DTSTART:20231105T060000
END:STANDARD
BEGIN:DAYLIGHT
TZOFFSETFROM:-0500
TZOFFSETTO:-0400
TZNAME:EDT
DTSTART:20240310T070000
END:DAYLIGHT
BEGIN:STANDARD
TZOFFSETFROM:-0400
TZOFFSETTO:-0500
TZNAME:EST
DTSTART:20241103T060000
END:STANDARD
BEGIN:DAYLIGHT
TZOFFSETFROM:-0500
TZOFFSETTO:-0400
TZNAME:EDT
DTSTART:20250309T070000
END:DAYLIGHT
BEGIN:STANDARD
TZOFFSETFROM:-0400
TZOFFSETTO:-0500
TZNAME:EST
DTSTART:20251102T060000
END:STANDARD
END:VTIMEZONE
BEGIN:VTIMEZONE
TZID:America/Chicago
BEGIN:DAYLIGHT
TZOFFSETFROM:-0600
TZOFFSETTO:-0500
TZNAME:CDT
DTSTART:20230312T080000
END:DAYLIGHT
BEGIN:STANDARD
TZOFFSETFROM:-0500
TZOFFSETTO:-0600
TZNAME:CST
DTSTART:20231105T070000
END:STANDARD
BEGIN:DAYLIGHT
TZOFFSETFROM:-0600
TZOFFSETTO:-0500
TZNAME:CDT
DTSTART:20240310T080000
END:DAYLIGHT
BEGIN:STANDARD
TZOFFSETFROM:-0500
TZOFFSETTO:-0600
TZNAME:CST
DTSTART:20241103T070000
END:STANDARD
BEGIN:DAYLIGHT
TZOFFSETFROM:-0600
TZOFFSETTO:-0500
TZNAME:CDT
DTSTART:20250309T080000
END:DAYLIGHT
BEGIN:STANDARD
TZOFFSETFROM:-0500
TZOFFSETTO:-0600
TZNAME:CST
DTSTART:20251102T070000
END:STANDARD
END:VTIMEZONE
BEGIN:VEVENT
DTSTART;TZID=America/New_York:20240911T190000
DTEND;TZID=America/New_York:20240911T230000
DTSTAMP:20260421T020459
CREATED:20240826T000412Z
LAST-MODIFIED:20240826T000412Z
UID:42257-1726081200-1726095600@notoriousjazz.com
SUMMARY:AGUANKÓ
DESCRIPTION:Conga player and composer Alberto Nacif and the superlative musicians who make up the sizzling Latin Jazz group Aguankó have a new\, all original Latin Jazz recording titled “Unidad”\, which was released at the July 2023 performance at Blue LLama. \nThis recording features the core group of Aguanko musicians from the incredibly rich Detroit area jazz scene performing original music which will continue the trajectory of this exciting group. Aguanko’s four previous recordings of original music since 2012 have been top 50 in the Jazzweek charts.
URL:https://notoriousjazz.com/event/aguanko
LOCATION:The Blue Llama\, 314 S Main Street\, Ann Arbor\, MI\, 48104\, United States
CATEGORIES:Club
ATTACH;FMTTYPE=image/png:https://notoriousjazz.com/wp-content/uploads/2024/08/AGUANKO.png
END:VEVENT
BEGIN:VEVENT
DTSTART;TZID=America/New_York:20240914T190000
DTEND;TZID=America/New_York:20240914T223000
DTSTAMP:20260421T020459
CREATED:20240826T020212Z
LAST-MODIFIED:20240826T020212Z
UID:42263-1726340400-1726353000@notoriousjazz.com
SUMMARY:ERIC ALEXANDER
DESCRIPTION:Eric Alexander is one of the most sought-after saxophonists on the modern jazz scene. “The people I listened to in college are still the cats that are influencing me today\,” says Alexander. “Monk\, Dizzy\, Sonny Stitt\, Clifford Brown\, Sonny Rollins\, Jackie McLean\, Joe Henderson – the legacy left by Bird and all the bebop pioneers\, that language and that feel\, that’s the bread and butter of everything I do.”
URL:https://notoriousjazz.com/event/eric-alexander-2
LOCATION:The Django\, 2 6th Avenue | The Roxy Hotel\, New York City\, NY\, 10013\, United States
CATEGORIES:Club
ATTACH;FMTTYPE=image/jpeg:https://notoriousjazz.com/wp-content/uploads/2024/08/ERIC-ALEXANDER.jpeg
END:VEVENT
BEGIN:VEVENT
DTSTART;TZID=America/Chicago:20240918T180000
DTEND;TZID=America/Chicago:20240918T220000
DTSTAMP:20260421T020459
CREATED:20240825T220841Z
LAST-MODIFIED:20240825T220841Z
UID:42242-1726682400-1726696800@notoriousjazz.com
SUMMARY:PAQUITO D'RIVERA & CHUCHO VALDÉS
DESCRIPTION:D’Rivera and Valdés: Together Again! \nThese rare benefit concerts features Cuban jazz legends\, clarinetist\, saxophonist\, author\, composer and arranger Paquito D’Rivera and pianist\, composer\, and arranger Chucho Valdés first met in 1962. Both child prodigies and sons of musical families\, the two worked together in Havana’s Musical Theatre Orchestra and in the Cuban Orchestra of Modern Music. \n  \n 
URL:https://notoriousjazz.com/event/paquito-drivera-chucho-valdes
LOCATION:Jazz St. Louis\, 3536 Washington Avenue\, St. Louis\, MO\, 63103\, United States
CATEGORIES:Concert
ATTACH;FMTTYPE=image/jpeg:https://notoriousjazz.com/wp-content/uploads/2024/08/DRIVERA-VALDES.jpg
END:VEVENT
BEGIN:VEVENT
DTSTART;TZID=America/New_York:20240929T170000
DTEND;TZID=America/New_York:20240929T210000
DTSTAMP:20260421T020459
CREATED:20240825T204450Z
LAST-MODIFIED:20240825T204450Z
UID:42233-1727629200-1727643600@notoriousjazz.com
SUMMARY:ERIC KENNEDY
DESCRIPTION:Eric Kennedy & Friends: Tribute to Lisa \nA Baltimore\, Maryland native\, Eric Kennedy is a drummer\, vocalist\, percussionist\, educator\, arranger and composer. He started performing at the age of three with a family band and encouraged by visiting local and national musicians. \nEric was the 2004 runner-up in the Billie Holiday Vocal Competition and first-place band member in the Chick Webb Jazz Combo Competitions 2008 and 2009. Eric also won the Jazz Journalists Association of America 2023 award for Baltimore Jazz Hero. \nEric has performed\, toured\, and recorded with Curtis Fuller\, Jimmy Heath\, Gary Bartz\, Phil Woods\, Billy Harper\, Curtis Lundy\, Bobby Watson\, Gary Thomas\, Fred Wesley\, Wallace Roney\, Cyrus Chestnut\, Ethel Ennis\, Larry Willis\, Cecil McBee\, Donald Harrison\, Joe Locke\, TK Blue\, John Hicks\, Richard Wyands\, Yusef Salim\, Eddie Henderson\, Joe Bonner\, Carl Grubbs\, David Murray\, Oliver Lake\, Pansori master Ahn Sook Sun and many others. \nThe Band: \nEric Kennedy ~ drums\nMarc Cary ~ piano\nJohn Lee ~ guitar\nKelly Shepherd ~ alto saxophone
URL:https://notoriousjazz.com/event/eric-kennedy
LOCATION:Keystone Korner Baltimore\, 1350 Lancaster Street\, Baltimore\, MD\, 21231\, United States
CATEGORIES:Club
ATTACH;FMTTYPE=image/png:https://notoriousjazz.com/wp-content/uploads/2024/08/ERIC-KENNEDY.png
END:VEVENT
END:VCALENDAR