BEGIN:VCALENDAR
VERSION:2.0
PRODID:-//Notorious Jazz - ECPv6.15.17//NONSGML v1.0//EN
CALSCALE:GREGORIAN
METHOD:PUBLISH
X-ORIGINAL-URL:https://notoriousjazz.com
X-WR-CALDESC:Events for Notorious Jazz
REFRESH-INTERVAL;VALUE=DURATION:PT1H
X-Robots-Tag:noindex
X-PUBLISHED-TTL:PT1H
BEGIN:VTIMEZONE
TZID:America/Los_Angeles
BEGIN:DAYLIGHT
TZOFFSETFROM:-0800
TZOFFSETTO:-0700
TZNAME:PDT
DTSTART:20240310T100000
END:DAYLIGHT
BEGIN:STANDARD
TZOFFSETFROM:-0700
TZOFFSETTO:-0800
TZNAME:PST
DTSTART:20241103T090000
END:STANDARD
BEGIN:DAYLIGHT
TZOFFSETFROM:-0800
TZOFFSETTO:-0700
TZNAME:PDT
DTSTART:20250309T100000
END:DAYLIGHT
BEGIN:STANDARD
TZOFFSETFROM:-0700
TZOFFSETTO:-0800
TZNAME:PST
DTSTART:20251102T090000
END:STANDARD
BEGIN:DAYLIGHT
TZOFFSETFROM:-0800
TZOFFSETTO:-0700
TZNAME:PDT
DTSTART:20260308T100000
END:DAYLIGHT
BEGIN:STANDARD
TZOFFSETFROM:-0700
TZOFFSETTO:-0800
TZNAME:PST
DTSTART:20261101T090000
END:STANDARD
END:VTIMEZONE
BEGIN:VTIMEZONE
TZID:America/New_York
BEGIN:DAYLIGHT
TZOFFSETFROM:-0500
TZOFFSETTO:-0400
TZNAME:EDT
DTSTART:20240310T070000
END:DAYLIGHT
BEGIN:STANDARD
TZOFFSETFROM:-0400
TZOFFSETTO:-0500
TZNAME:EST
DTSTART:20241103T060000
END:STANDARD
BEGIN:DAYLIGHT
TZOFFSETFROM:-0500
TZOFFSETTO:-0400
TZNAME:EDT
DTSTART:20250309T070000
END:DAYLIGHT
BEGIN:STANDARD
TZOFFSETFROM:-0400
TZOFFSETTO:-0500
TZNAME:EST
DTSTART:20251102T060000
END:STANDARD
BEGIN:DAYLIGHT
TZOFFSETFROM:-0500
TZOFFSETTO:-0400
TZNAME:EDT
DTSTART:20260308T070000
END:DAYLIGHT
BEGIN:STANDARD
TZOFFSETFROM:-0400
TZOFFSETTO:-0500
TZNAME:EST
DTSTART:20261101T060000
END:STANDARD
END:VTIMEZONE
BEGIN:VEVENT
DTSTART;TZID=America/Los_Angeles:20251001T080000
DTEND;TZID=America/Los_Angeles:20251001T170000
DTSTAMP:20260420T022704
CREATED:20250928T044704Z
LAST-MODIFIED:20250928T044704Z
UID:47428-1759305600-1759338000@notoriousjazz.com
SUMMARY:NNENNA FREELON
DESCRIPTION:Jazz singer and composer Nnenna Freelon brings her “Beneath The Skin” CD Release to Catalina Jazz Club\, in Hollywood! \nAn intimate evening with Nnenna Freelon will feature of brand new mashup of jazz meets spoken word meets soul. Experience songs from her latest album “Beneath the Skin” alongside reflections from her upcoming book “Beneath the Skin of Sorrow”.\n\n“An album that ultimately feels like a novel\, a succession of scenes that leave an indelible mark. This is a work of art of the highest caliber\, earning its rightful place among our collection of Essential Albums.” – Paris Moves. \nCover: $35.00 +fee | Two drink minimum or dinner
URL:https://notoriousjazz.com/event/nnenna-freelon-5
LOCATION:Catalina Jazz Club\, 6725 Sunset Boulevard\,  Hollywood\, CA\, 90028\, United States
CATEGORIES:Club
ATTACH;FMTTYPE=image/png:https://notoriousjazz.com/wp-content/uploads/2025/09/NNENNA-FREELON-@-CATALINAS.png
END:VEVENT
BEGIN:VEVENT
DTSTART;TZID=America/New_York:20251008T080000
DTEND;TZID=America/New_York:20251011T170000
DTSTAMP:20260420T022704
CREATED:20251008T012501Z
LAST-MODIFIED:20251008T020648Z
UID:47550-1759910400-1760202000@notoriousjazz.com
SUMMARY:RON CARTER FEATURING BILL FRISELL
DESCRIPTION:Ron Carter is among the most original\, prolific and influential bassists in jazz with more than 2\,000 albums to his credit. Beginning his career in the 1960s with Jaki Byard and Eric Dolphy\, Cannonball Adderley\, and a five year stint with the Miles Davis’ Quintet\, Ron also performed and recorded with notables including Bill Evans\, B.B. King\, and Dexter Gordon. Ron Carter’s various ensembles\, big band to trio\, feature a who’s who of the finest players on the NYC scene with\, “an absolute commitment to musical sublimity [that] exudes refined elegance and sonic power.” (amazon.com) \nBill Frisell’s career as a guitarist and composer has spanned more than 40 years and many celebrated recordings\, whose catalog has been cited by Downbeat as “the best recorded output of the decade.” \nTickets: $45.76 ~ $61.21
URL:https://notoriousjazz.com/event/ron-carter-featuring-bill-frisell
LOCATION:LA
CATEGORIES:Club
ATTACH;FMTTYPE=image/png:https://notoriousjazz.com/wp-content/uploads/2025/10/RON-CARTER-@-BIRDLAND.png
END:VEVENT
BEGIN:VEVENT
DTSTART;TZID=America/New_York:20251019T000000
DTEND;TZID=America/New_York:20251019T000000
DTSTAMP:20260420T022704
CREATED:20251020T024625Z
LAST-MODIFIED:20251020T025636Z
UID:47712-1760832000-1760832000@notoriousjazz.com
SUMMARY:ARTURO O'FARRILL
DESCRIPTION:Born in Mexico and raised in New York\, Arturo O’Farrill is a prolific pianist\, composer\, and passionate promoter of Latin music and its cultural heritage. The son of Latin jazz musician\, arranger and bandleader Chico O’Farrill\, and pianist\, composer\, and director for the Afro Latin Jazz Orchestra. \nHe is best known for his contributions to contemporary Latin jazz\, more specifically Afro-Cuban jazz\, having received Grammy Awards and nominations\, though he has trained in other forms such as free jazz and experimented briefly with hip hop. \ngrew up in New York City. Arturo’s professional career began with the Carla Bley Band and continued as a solo performer with a wide spectrum of artists including Dizzy Gillespie\, Lester Bowie\, Wynton Marsalis\, and Harry Belafonte. \nIn 2007\, he founded the Afro Latin Jazz Alliance as a not-for-profit organization dedicated to the performance\, education\, and preservation of Afro Latin music. \nArturo has performed with orchestras and bands including his own Afro Latin Jazz Orchestra and Arturo O’Farrill Sextet\, as well as other Orchestras and intimate ensembles in the US\, Europe\, Russia\, Australia\, and South America. \nTickets: $40.00 General Admission | Dinner & Show $85.00
URL:https://notoriousjazz.com/event/arturo-ofarrill
LOCATION:LA
CATEGORIES:Club
ATTACH;FMTTYPE=image/png:https://notoriousjazz.com/wp-content/uploads/2025/10/ARTURO-OFARRILL-@-BLUE-LLAMA.png
END:VEVENT
BEGIN:VEVENT
DTSTART;TZID=America/New_York:20251023T193000
DTEND;TZID=America/New_York:20251023T205000
DTSTAMP:20260420T022704
CREATED:20251019T032300Z
LAST-MODIFIED:20251020T000944Z
UID:47687-1761247800-1761252600@notoriousjazz.com
SUMMARY:ETIENNE CHARLES
DESCRIPTION: San Juan Hill: A New York Story  \nCreated by composer and trumpeter Etienne Charles\, it is an immersive multimedia creation that celebrates a vital chapter of New York’s past. Through music\, visuals\, and first-person accounts\, this powerful work shines a light on the historic communities of the area where Lincoln Center stands today. Blending diverse musical styles—including ragtime\, jazz\, stride piano\, swing\, blues\, mambo\, paseo\, Antillean waltz\, calypso\, funk\, disco\, and Hip-Hop—with historical film and compelling narratives\, the work showcases the myriad cultures that migrants brought to New York from the American South and the Caribbean. \nHe is joined by the University of Miami’s Frost Symphony Orchestra\, where Charles teaches and serves as the Director of the Frost Studio Jazz Band\, and special guests\, this piece is a testament to the enduring spirit and forgotten stories of a community that helped shape the city’s cultural landscape. \nThe Program: \nLenape | Where Two or More are Gathered | Zora & Percy | Swing Culture | The Destroyer | Riot 1905 | Negro Enchantress — The Story of Hannah Elias | Charleston at the Jungles | Urban Removal — 1949–1959 | House Rent Party \nCreole Soul:\nEtienne Charles ~ Trumpet\nGodwin Louis ~ Alto\, Soprano Saxophones\nTori Trinity Flute\nChristian Sands ~ Piano\nAlex Wintz ~ Guitar\nLino Piquero Bueno ~ Bass\nBrenten Handfield ~ Drums \nFeature: \nUniversity of Miami Frost Symphony Orchestra\nMaestro Gerard Schwarz ~ Director \nSpecial Guests:\nDJ Logic ~ Turntables\nEljon Wardally\, Carl Hancock Rux ~ Spoken Word \nTickets: Currently No Availability
URL:https://notoriousjazz.com/event/etienne-charles-2
LOCATION:Alice Tully Hall\, 1941 Broadway\, New York City\, NY\, 10023\, United States
CATEGORIES:Concert
ATTACH;FMTTYPE=image/png:https://notoriousjazz.com/wp-content/uploads/2025/10/ETIENNE-CHARLES-@-ALICE-TULLY-HALL-1.png
END:VEVENT
BEGIN:VEVENT
DTSTART;TZID=America/New_York:20251024T180000
DTEND;TZID=America/New_York:20251024T213000
DTSTAMP:20260420T022704
CREATED:20251020T010023Z
LAST-MODIFIED:20251020T010138Z
UID:47701-1761328800-1761341400@notoriousjazz.com
SUMMARY:GEOF BRADFIELD
DESCRIPTION:Saxophonist and composer Geof Bradfield blends modern jazz\, African rhythms\, and the roots music of his native South into a style that is “explicitly adventurous and forward-looking” (AllAboutJazz.com). Born in Houston and based in Chicago\, Bradfield has performed throughout North America\, Europe\, Russia\, Asia\, Africa and the Middle East\, sharing the stage and recording studio with artists such as Randy Weston\, Dana Hall\, Clark Sommers\, Brian Blade\, Ben Goldberg\, Anna Webber\, Orrin Evans\, Jeff Parker\, Matt Ulery\, and Ryan Cohan. \nHis work is featured on 50+ CDs including ten albums as a leader that have garnered critical accolades from the New York Times\, Los Angeles Times\, Chicago Tribune and NPR. He has received grants and awards from Chamber Music America\, Doris Duke Charitable Foundation\, DCASE\, Illinois Arts Council\, and the Mellon Foundation. The Downbeat Critics Poll has named him a Rising Star Tenor Saxophonist and Arranger multiple years. \nCover: $20.00
URL:https://notoriousjazz.com/event/geof-bradfield
LOCATION:Andy’s\, 11 E Hubbard Street\, Chicago\, IL\, 60611\, United States
CATEGORIES:Club
ATTACH;FMTTYPE=image/png:https://notoriousjazz.com/wp-content/uploads/2025/10/GEOF-BRADFIELD-QUINTET-@-ANDYS.png
END:VEVENT
BEGIN:VEVENT
DTSTART;TZID=America/Los_Angeles:20251030T190000
DTEND;TZID=America/Los_Angeles:20251102T223000
DTSTAMP:20260420T022704
CREATED:20251020T015340Z
LAST-MODIFIED:20251020T015340Z
UID:47709-1761850800-1762122600@notoriousjazz.com
SUMMARY:DE'SEAN JONES & URBAN ART ORCHESTRA
DESCRIPTION:Prepare for a once in a lifetime explosive music collaboration between the mind bending awe inspiring drumming of Blaque Dynamite accompanied by the colorful n lush textures of Urban Art Orchestra\, brought to you by Detroit’s very own Legendary Powerhouse Saxophonist and 3x Grammy nominated composer De’Sean Jones. \nSpecial Guest: Blaque Dynamite \nTickets: $20.00\, $30.00\, $40.00\, $50.00 | Price includes fees
URL:https://notoriousjazz.com/event/desean-jones-urban-art-orchestra
LOCATION:Black Cat\, 400 Eddy Street\, San Francisco\, CA\, 94109\, United States
CATEGORIES:Club
ATTACH;FMTTYPE=image/png:https://notoriousjazz.com/wp-content/uploads/2025/10/DESEAN-JONES-@-BLACK-CAT.png
END:VEVENT
END:VCALENDAR