BEGIN:VCALENDAR
VERSION:2.0
PRODID:-//Notorious Jazz - ECPv6.15.17//NONSGML v1.0//EN
CALSCALE:GREGORIAN
METHOD:PUBLISH
X-WR-CALNAME:Notorious Jazz
X-ORIGINAL-URL:https://notoriousjazz.com
X-WR-CALDESC:Events for Notorious Jazz
REFRESH-INTERVAL;VALUE=DURATION:PT1H
X-Robots-Tag:noindex
X-PUBLISHED-TTL:PT1H
BEGIN:VTIMEZONE
TZID:America/Chicago
BEGIN:DAYLIGHT
TZOFFSETFROM:-0600
TZOFFSETTO:-0500
TZNAME:CDT
DTSTART:20240310T080000
END:DAYLIGHT
BEGIN:STANDARD
TZOFFSETFROM:-0500
TZOFFSETTO:-0600
TZNAME:CST
DTSTART:20241103T070000
END:STANDARD
BEGIN:DAYLIGHT
TZOFFSETFROM:-0600
TZOFFSETTO:-0500
TZNAME:CDT
DTSTART:20250309T080000
END:DAYLIGHT
BEGIN:STANDARD
TZOFFSETFROM:-0500
TZOFFSETTO:-0600
TZNAME:CST
DTSTART:20251102T070000
END:STANDARD
BEGIN:DAYLIGHT
TZOFFSETFROM:-0600
TZOFFSETTO:-0500
TZNAME:CDT
DTSTART:20260308T080000
END:DAYLIGHT
BEGIN:STANDARD
TZOFFSETFROM:-0500
TZOFFSETTO:-0600
TZNAME:CST
DTSTART:20261101T070000
END:STANDARD
END:VTIMEZONE
BEGIN:VEVENT
DTSTART;TZID=America/Chicago:20251218T193000
DTEND;TZID=America/Chicago:20251218T230000
DTSTAMP:20260420T005025
CREATED:20251216T004934Z
LAST-MODIFIED:20251216T005405Z
UID:48393-1766086200-1766098800@notoriousjazz.com
SUMMARY:GABRIELLE CAVASSA
DESCRIPTION:Gabrielle Cavassa is an American vocalist-composer of Italian descent who is garnering attention for her distinctive voice and intimate expression. She was crowned a winner of the International Sarah Vaughan Jazz Vocal Competition in 2021 after the independent release of her critically acclaimed debut album. Gabrielle is featured on celebrated saxophonist Joshua Redman’s inaugural album with Blue Note Records\, Where Are We. \nCover: $41.30
URL:https://notoriousjazz.com/event/gabrielle-cavassa
LOCATION:Snug Harbor\, 626 Frenchmen Street\, New Orleans\, LA\, 70116\, United States
CATEGORIES:Club
ATTACH;FMTTYPE=image/png:https://notoriousjazz.com/wp-content/uploads/2025/12/GABRIELLE-CAVASSA-@-SNUG-HARBOR.png
END:VEVENT
END:VCALENDAR