BEGIN:VCALENDAR
VERSION:2.0
PRODID:-//Notorious Jazz - ECPv6.15.17//NONSGML v1.0//EN
CALSCALE:GREGORIAN
METHOD:PUBLISH
X-ORIGINAL-URL:https://notoriousjazz.com
X-WR-CALDESC:Events for Notorious Jazz
REFRESH-INTERVAL;VALUE=DURATION:PT1H
X-Robots-Tag:noindex
X-PUBLISHED-TTL:PT1H
BEGIN:VTIMEZONE
TZID:America/New_York
BEGIN:DAYLIGHT
TZOFFSETFROM:-0500
TZOFFSETTO:-0400
TZNAME:EDT
DTSTART:20220313T070000
END:DAYLIGHT
BEGIN:STANDARD
TZOFFSETFROM:-0400
TZOFFSETTO:-0500
TZNAME:EST
DTSTART:20221106T060000
END:STANDARD
BEGIN:DAYLIGHT
TZOFFSETFROM:-0500
TZOFFSETTO:-0400
TZNAME:EDT
DTSTART:20230312T070000
END:DAYLIGHT
BEGIN:STANDARD
TZOFFSETFROM:-0400
TZOFFSETTO:-0500
TZNAME:EST
DTSTART:20231105T060000
END:STANDARD
BEGIN:DAYLIGHT
TZOFFSETFROM:-0500
TZOFFSETTO:-0400
TZNAME:EDT
DTSTART:20240310T070000
END:DAYLIGHT
BEGIN:STANDARD
TZOFFSETFROM:-0400
TZOFFSETTO:-0500
TZNAME:EST
DTSTART:20241103T060000
END:STANDARD
END:VTIMEZONE
BEGIN:VEVENT
DTSTART;TZID=America/New_York:20230627T200000
DTEND;TZID=America/New_York:20230627T220000
DTSTAMP:20260421T140012
CREATED:20230624T160825Z
LAST-MODIFIED:20230624T162532Z
UID:35866-1687896000-1687903200@notoriousjazz.com
SUMMARY:JOHN & GERALD CLAYTON
DESCRIPTION:Father and son come together to perform. John Lee Clayton Jr. is an American jazz musician\, classical double bassist\, arranger\, and composer. He is the father of pianist Gerald Clayton and the brother of saxophonist Jeff Clayton\, with whom he formed The Clayton Brothers; and The Clayton–Hamilton Jazz Orchestra with Jeff Hamilton.\n\nGerald William Clayton is a Dutch-born American jazz pianist\, composer and bandleader.\n\nArthur Zankel Music Center is located on the campus of Skidmore College. The Concert Series is sponsored in part by Stewart’s Shops/Dake Family\, the National Endowment for the Arts\, and the New York State Council on the Arts.
URL:https://notoriousjazz.com/event/john-gerald-clayton
LOCATION:Arthur Zankel Music Center\, 815 North Broadway\, Saratoga Springs\, NY\, 121866\, United States
CATEGORIES:Concert
ATTACH;FMTTYPE=image/jpeg:https://notoriousjazz.com/wp-content/uploads/2023/06/JOHN-GERALD-CLAYTON.jpg
END:VEVENT
END:VCALENDAR