BEGIN:VCALENDAR
VERSION:2.0
PRODID:-//Notorious Jazz - ECPv6.15.17//NONSGML v1.0//EN
CALSCALE:GREGORIAN
METHOD:PUBLISH
X-WR-CALNAME:Notorious Jazz
X-ORIGINAL-URL:https://notoriousjazz.com
X-WR-CALDESC:Events for Notorious Jazz
REFRESH-INTERVAL;VALUE=DURATION:PT1H
X-Robots-Tag:noindex
X-PUBLISHED-TTL:PT1H
BEGIN:VTIMEZONE
TZID:America/New_York
BEGIN:DAYLIGHT
TZOFFSETFROM:-0500
TZOFFSETTO:-0400
TZNAME:EDT
DTSTART:20220313T070000
END:DAYLIGHT
BEGIN:STANDARD
TZOFFSETFROM:-0400
TZOFFSETTO:-0500
TZNAME:EST
DTSTART:20221106T060000
END:STANDARD
BEGIN:DAYLIGHT
TZOFFSETFROM:-0500
TZOFFSETTO:-0400
TZNAME:EDT
DTSTART:20230312T070000
END:DAYLIGHT
BEGIN:STANDARD
TZOFFSETFROM:-0400
TZOFFSETTO:-0500
TZNAME:EST
DTSTART:20231105T060000
END:STANDARD
BEGIN:DAYLIGHT
TZOFFSETFROM:-0500
TZOFFSETTO:-0400
TZNAME:EDT
DTSTART:20240310T070000
END:DAYLIGHT
BEGIN:STANDARD
TZOFFSETFROM:-0400
TZOFFSETTO:-0500
TZNAME:EST
DTSTART:20241103T060000
END:STANDARD
END:VTIMEZONE
BEGIN:VEVENT
DTSTART;TZID=America/New_York:20231201T200000
DTEND;TZID=America/New_York:20231201T213000
DTSTAMP:20260421T025326
CREATED:20230903T052906Z
LAST-MODIFIED:20230903T052906Z
UID:36911-1701460800-1701466200@notoriousjazz.com
SUMMARY:DAVE KOZ & FRIENDS
DESCRIPTION:Featuring Jonathan Butler with special guests Rebecca Jade and Marcus Anderson\nAnd introducing Justin Lee Schultz \nDave Koz and Friends announce the 26th anniversary of the longest-running jazz-based Christmas tour! \nBeginning the next era of this rich musical tradition\, Koz and Friends will perform fresh renditions of timeless Christmas classics — as well as a Hanukkah medley — and hits from their respective catalogs. \nThe tour reunites Koz with a longtime musical partner\, guitarist-singer Jonathan Butler\, and will feature special guests saxophonist/flutist Marcus Anderson\, making his debut\, and vocalist Rebecca Jade\, marking her third time with the tour. Traversing 25 cities in one month\, the tour will also introduce musical prodigy Justin Lee Schultz\, a 16-year-old South Africa-born\, U.S.-based pianist\, guitarist\, vocalist and social media sensation.
URL:https://notoriousjazz.com/event/dave-koz-friends
LOCATION:Adrienne Arsht Center | Knight Concert Hall\, 1300 Biscayne Boulevard\, Miami\, FL\, 33132\, United States
CATEGORIES:Festival
ATTACH;FMTTYPE=image/jpeg:https://notoriousjazz.com/wp-content/uploads/2023/09/DAVE-KOZ.jpg
END:VEVENT
BEGIN:VEVENT
DTSTART;TZID=America/New_York:20231205T080000
DTEND;TZID=America/New_York:20231205T170000
DTSTAMP:20260421T025326
CREATED:20231015T194641Z
LAST-MODIFIED:20231015T200423Z
UID:37440-1701763200-1701795600@notoriousjazz.com
SUMMARY:NICOLE HENRY WINTER CONCERT
DESCRIPTION:This is her 10th Anual Winter Concert to benefit SAVE Foundation and Miami Music Project. \nAbout The Benefiting Non-Profits\n \nSAVE Foundation: SAVE Foundation is recognized as South Florida’s longest-serving organization dedicated to protecting people who are lesbian\, gay\, bisexual\, transgender\, and queer (LGBTQ) against discrimination.  Since 1993\, SAVE has advocated for equal rights for persons of all sexual orientations and gender identities. \nMiami Music Project: Since 2009\, Miami Music Project has emerged as a model for music education programs nationally\, offering after-school programming free of charge using music as an instrument of social change. Through the study and performance of music\, they empower children to acquire values and achieve their full potential\, positively affecting their society.
URL:https://notoriousjazz.com/event/nicole-henry-winter-concert
LOCATION:Colony Theatre\, 1040 Lincoln Road\, Miami Beach\, FL\, 33139\, United States
CATEGORIES:Concert
ATTACH;FMTTYPE=image/jpeg:https://notoriousjazz.com/wp-content/uploads/2023/10/download.jpg
END:VEVENT
BEGIN:VEVENT
DTSTART;TZID=America/New_York:20231220T193000
DTEND;TZID=America/New_York:20231220T210000
DTSTAMP:20260421T025326
CREATED:20231008T025109Z
LAST-MODIFIED:20231023T003018Z
UID:37298-1703100600-1703106000@notoriousjazz.com
SUMMARY:SAMARA JOY
DESCRIPTION:Featuring The McLendon Family \nSamara Joy McLendon is a Grammy Award-winning American jazz singer from the Castle Hill neighborhood of the Bronx\, New York. She released her self-titled debut album in 2021 and was subsequently named Best New Artist by JazzTimes. Her second album\, Linger Awhile\, was released in September 2022\, winning the award for Best Jazz Vocal Album and herself for Best New Artist at the 2023 Grammy Awards. \nCelebrating the release of her new festive EP\, “A Joyful Holiday”\, this double Grammy-winning jazz singer takes the stage with members of her talented musical family for ONE NIGHT ONLY in Baltimore\, Maryland on December 20th! Sharing the influences of gospel\, Motown\, and jazz across the generations\, Joy delivers a sparkling evening brimming with the most time-honored songs of the season alongside her father\, uncle\, and cousins. \nTicket Fees: $2.40~$3.00
URL:https://notoriousjazz.com/event/samara-joy-4
LOCATION:Murphy Fine Arts Center\, 2201 Argonne Drive\, Baltimore\, MD\, 21218\, United States
CATEGORIES:Concert
ATTACH;FMTTYPE=image/png:https://notoriousjazz.com/wp-content/uploads/2023/10/SAMARA-JOY.png
END:VEVENT
END:VCALENDAR