BEGIN:VCALENDAR
VERSION:2.0
PRODID:-//Notorious Jazz - ECPv6.15.17//NONSGML v1.0//EN
CALSCALE:GREGORIAN
METHOD:PUBLISH
X-ORIGINAL-URL:https://notoriousjazz.com
X-WR-CALDESC:Events for Notorious Jazz
REFRESH-INTERVAL;VALUE=DURATION:PT1H
X-Robots-Tag:noindex
X-PUBLISHED-TTL:PT1H
BEGIN:VTIMEZONE
TZID:America/New_York
BEGIN:DAYLIGHT
TZOFFSETFROM:-0500
TZOFFSETTO:-0400
TZNAME:EDT
DTSTART:20230312T070000
END:DAYLIGHT
BEGIN:STANDARD
TZOFFSETFROM:-0400
TZOFFSETTO:-0500
TZNAME:EST
DTSTART:20231105T060000
END:STANDARD
BEGIN:DAYLIGHT
TZOFFSETFROM:-0500
TZOFFSETTO:-0400
TZNAME:EDT
DTSTART:20240310T070000
END:DAYLIGHT
BEGIN:STANDARD
TZOFFSETFROM:-0400
TZOFFSETTO:-0500
TZNAME:EST
DTSTART:20241103T060000
END:STANDARD
BEGIN:DAYLIGHT
TZOFFSETFROM:-0500
TZOFFSETTO:-0400
TZNAME:EDT
DTSTART:20250309T070000
END:DAYLIGHT
BEGIN:STANDARD
TZOFFSETFROM:-0400
TZOFFSETTO:-0500
TZNAME:EST
DTSTART:20251102T060000
END:STANDARD
END:VTIMEZONE
BEGIN:VTIMEZONE
TZID:America/Los_Angeles
BEGIN:DAYLIGHT
TZOFFSETFROM:-0800
TZOFFSETTO:-0700
TZNAME:PDT
DTSTART:20230312T100000
END:DAYLIGHT
BEGIN:STANDARD
TZOFFSETFROM:-0700
TZOFFSETTO:-0800
TZNAME:PST
DTSTART:20231105T090000
END:STANDARD
BEGIN:DAYLIGHT
TZOFFSETFROM:-0800
TZOFFSETTO:-0700
TZNAME:PDT
DTSTART:20240310T100000
END:DAYLIGHT
BEGIN:STANDARD
TZOFFSETFROM:-0700
TZOFFSETTO:-0800
TZNAME:PST
DTSTART:20241103T090000
END:STANDARD
BEGIN:DAYLIGHT
TZOFFSETFROM:-0800
TZOFFSETTO:-0700
TZNAME:PDT
DTSTART:20250309T100000
END:DAYLIGHT
BEGIN:STANDARD
TZOFFSETFROM:-0700
TZOFFSETTO:-0800
TZNAME:PST
DTSTART:20251102T090000
END:STANDARD
END:VTIMEZONE
BEGIN:VEVENT
DTSTART;TZID=America/New_York:20240608T180000
DTEND;TZID=America/New_York:20240608T200000
DTSTAMP:20260420T130917
CREATED:20240512T040951Z
LAST-MODIFIED:20240512T040951Z
UID:40745-1717869600-1717876800@notoriousjazz.com
SUMMARY:TARUS MATEEN
DESCRIPTION:Tarus Mateen\, a child prodigy on bass\, went on a tour of the Caribbean when he was twelve years old. The double-bass and electric bassist\, who works in jazz\, pop\, and R&B idioms. \nReceiving his bachelor’s degree from Morehouse College\, then relocated to New York City in 1988. He worked with Betty Carter\, Marlon Jordan\, Roy Hargrove\, Eddie Harris\, Kenny Burrell\, Milt Jackson\, Mark Whitfield\, Tim Warfield\, Rodney Kendrick\, Terence Blanchard\, Kenny Barron\, Bobbi Humphrey\, Marc Cary\, Stefon Harris\, Greg Osby\, Bernard Purdie\, Nasheet Waits\, Stanley Cowell\, Mark Shim\, Jacky Terrasson\, Michael Marcus\, Logan Richardson\, and Jason Moran among others. \nThe Band: Tarus Mateen ~ Bass |  Colin Chambers ~ Piano | Tyler Leak ~ Drums | Clarence Ward III ~ Horns | Tamika Love Jones ~ Vocal \n 
URL:https://notoriousjazz.com/event/tarus-mateen
LOCATION:The Parks At Walter Reed\, 1010 Butternut Street NW\, Washington\, DC\, 20012\, United States
CATEGORIES:Concert
ATTACH;FMTTYPE=image/jpeg:https://notoriousjazz.com/wp-content/uploads/2024/05/TARUS-MATEEN.jpg
END:VEVENT
BEGIN:VEVENT
DTSTART;TZID=America/New_York:20240609T190000
DTEND;TZID=America/New_York:20240609T220000
DTSTAMP:20260420T130917
CREATED:20240609T140443Z
LAST-MODIFIED:20240609T165030Z
UID:41067-1717959600-1717970400@notoriousjazz.com
SUMMARY:GREGORY PORTER & NAJEE
DESCRIPTION:Gregory Porter is a singer\, songwriter and musician. He moved to the Bedford-Stuyvesant section of Brooklyn\, New York in 2004\, along with his brother Lloyd and worked as a chef at Lloyd’s restaurant Bread-Stuy (now defunct)\, where he also performed. Porter performed at other neighborhood venues including Sista’s Place and Solomon’s Porch\, and moved on to Harlem club St. Nick’s Pub\, where he maintained a weekly residency. Out of this residency evolved what would become Porter’s touring band.He has twice won the Grammy Award for Best Jazz Vocal Album: first in 2014 for Liquid Spirit and then again in 2017 for Take Me to the Alley.  \nNajee\, is a smooth jazz saxophonist and flautist. After his studies at the New England Conservatory\, Najee returned to New York City in the early 1980s. In 1983\, he and his brother Fareed toured with Chaka Khan for the Ain’t Nobody Tour. His albums okyo Blue and Day by Day led to Najee winning two Soul Train Awards for Best Jazz Artist in 1991 and 1993.
URL:https://notoriousjazz.com/event/gregory-porter-najee
LOCATION:Mable House Barnes Amphitheatre\, 5239 Floyd Road\, Mableton\, GA\, 30126\, United States
CATEGORIES:Concert
ATTACH;FMTTYPE=image/jpeg:https://notoriousjazz.com/wp-content/uploads/2024/06/GREGORY-PORTER.jpg
END:VEVENT
BEGIN:VEVENT
DTSTART;TZID=America/New_York:20240614T200000
DTEND;TZID=America/New_York:20240614T220000
DTSTAMP:20260420T130917
CREATED:20240614T150009Z
LAST-MODIFIED:20240614T151358Z
UID:41197-1718395200-1718402400@notoriousjazz.com
SUMMARY:NICOLE HENRY & LEESA RICHARDS
DESCRIPTION:Nicole Henry’s versatile and emotionally driven performances have wowed audiences in 20 countries\, earning her numerous accolades including a Soul Train Award for “Best Traditional Jazz Performance” and “Best New Jazz Artist” by HMV Japan. Her latest album “Time to Love Again” reached #4 on the U.S. jazz radio chart\, and she completed a 35-city U.S. national tour. \nLeesa Richards\, a Detroit native now based in Miami\, began her career as a professional dancer and gained critical acclaim for her role as Mary Magdalene in the national tour of Jesus Christ Superstar. She has performed with artists like Faith Hill\, Whitney Houston\, and Gloria Estefan\, and recorded with Barbra Streisand and Lenny Kravitz. \nLimited number of free tickets for students. \nAfter concert jam session\, musicians bring your instrument
URL:https://notoriousjazz.com/event/nicole-henry-leesa-richards
LOCATION:WDNA Jazz Gallery\, 2921 Coral Way\, Miami\, FL\, 33145\, United States
CATEGORIES:Concert,Radio Station
ATTACH;FMTTYPE=image/png:https://notoriousjazz.com/wp-content/uploads/2024/06/NICOLE-HENRY-LEESA-RICHARDS.png
END:VEVENT
BEGIN:VEVENT
DTSTART;TZID=America/Los_Angeles:20240617T170000
DTEND;TZID=America/Los_Angeles:20240617T210000
DTSTAMP:20260420T130917
CREATED:20240609T172023Z
LAST-MODIFIED:20240609T173203Z
UID:41082-1718643600-1718658000@notoriousjazz.com
SUMMARY:OMAR SOSA & QUARTETO AMERICANOS
DESCRIPTION:Cuban piano maestro Omar Sosa\, a longtime Healdsburg favorite\, returns to town with his Quarteto Americanos featuring Cuban bassist Ernesto Mazar Kindelán\, Berkeley drummer Josh Jones\, and Oakland multi-reed player Sheldon Brown\, who’s spent much of the past two years touring with the Grateful Dead’s Bob Weir. Though long based in Barcelona\, Sosa gained fame while living in Oakland\, and his musical journey from Camagüey and Havana to Ecuador and eventually the East Bay is detailed in the new documentary Omar Sosa’s 88 Well-Tuned Drums\, which screens as part of this program. An omnivorously creative figure whose music encompasses Afro-Cuban folkloric chants and European Romanticism\, post-bop and hip hop\, West African grooves and ambient moods\, he’s released more than three dozen albums documenting collaborations with an international cast of fellow sound explorers. \n5:00 PM | Documentary Screening  \n7:30 PM | Concert
URL:https://notoriousjazz.com/event/omar-sosa-2
LOCATION:The Raven Performing Arts Theater\, 115 North Street\, Healdsburg\, CA\, 95448\, United States
CATEGORIES:Concert
ATTACH;FMTTYPE=image/png:https://notoriousjazz.com/wp-content/uploads/2024/06/OMAR-SOSA.png
END:VEVENT
BEGIN:VEVENT
DTSTART;TZID=America/New_York:20240619T200000
DTEND;TZID=America/New_York:20240619T213000
DTSTAMP:20260420T130917
CREATED:20240127T214517Z
LAST-MODIFIED:20240414T222147Z
UID:38999-1718827200-1718832600@notoriousjazz.com
SUMMARY:MICHAEL MAYO
DESCRIPTION:Coming from a family steeped in musical history\, with ties to Earth Wind & Fire and renowned session work with artists like Diana Ross and Stevie Wonder\, Michael Mayo has music in his veins. Signed to Mack Avenue Records\, he’s already shared the stage with the likes of Herbie Hancock and Jon Batiste. \nHis career highlights include mesmerizing performances at the White House\, the Kennedy Center\, and major jazz festivals around the world. Mayo’s innovative approach to jazz vocals\, combined with his dynamic stage presence\, sets him apart as a true modern-day jazz icon!
URL:https://notoriousjazz.com/event/michael-mayo-2
LOCATION:Faena Hotel Theater\, 3201 Collins Avenue\, Miami Beach\, FL\, 33140\, United States
CATEGORIES:Concert
ATTACH;FMTTYPE=image/jpeg:https://notoriousjazz.com/wp-content/uploads/2024/01/MICHAEL-MAYO.jpg
END:VEVENT
BEGIN:VEVENT
DTSTART;TZID=America/New_York:20240630T150000
DTEND;TZID=America/New_York:20240630T170000
DTSTAMP:20260420T130917
CREATED:20240630T144257Z
LAST-MODIFIED:20240630T144257Z
UID:41473-1719759600-1719766800@notoriousjazz.com
SUMMARY:BRONX RISING!  AJASS AND THE EAST
DESCRIPTION:A look at two historic organizations in the Bronx (AJASS) and Brooklyn (The East) and their cultural and artistic legacies. \nDiscussion: Ajuba Bartlay~Grinage\, George “Maliki” Robinson\, Cinque Brath\, T.S. Monk\, David Antoine\, and Basir MChawi. \nConcert: Reggie Workman\, Danny Mixon\, George Braith\, Antoinette Montague\, T.K. Blue and Ronnie Burrage.
URL:https://notoriousjazz.com/event/bronx-rising-ajass-and-the-east
LOCATION:Bronx Music Hall\, 438 East 163rd Street\, Bronx\, NY\, 10451\, United States
CATEGORIES:Concert
ATTACH;FMTTYPE=image/png:https://notoriousjazz.com/wp-content/uploads/2024/06/BRONX-RISING.png
END:VEVENT
END:VCALENDAR