BEGIN:VCALENDAR
VERSION:2.0
PRODID:-//Notorious Jazz - ECPv6.15.17//NONSGML v1.0//EN
CALSCALE:GREGORIAN
METHOD:PUBLISH
X-WR-CALNAME:Notorious Jazz
X-ORIGINAL-URL:https://notoriousjazz.com
X-WR-CALDESC:Events for Notorious Jazz
REFRESH-INTERVAL;VALUE=DURATION:PT1H
X-Robots-Tag:noindex
X-PUBLISHED-TTL:PT1H
BEGIN:VTIMEZONE
TZID:America/Los_Angeles
BEGIN:DAYLIGHT
TZOFFSETFROM:-0800
TZOFFSETTO:-0700
TZNAME:PDT
DTSTART:20240310T100000
END:DAYLIGHT
BEGIN:STANDARD
TZOFFSETFROM:-0700
TZOFFSETTO:-0800
TZNAME:PST
DTSTART:20241103T090000
END:STANDARD
BEGIN:DAYLIGHT
TZOFFSETFROM:-0800
TZOFFSETTO:-0700
TZNAME:PDT
DTSTART:20250309T100000
END:DAYLIGHT
BEGIN:STANDARD
TZOFFSETFROM:-0700
TZOFFSETTO:-0800
TZNAME:PST
DTSTART:20251102T090000
END:STANDARD
BEGIN:DAYLIGHT
TZOFFSETFROM:-0800
TZOFFSETTO:-0700
TZNAME:PDT
DTSTART:20260308T100000
END:DAYLIGHT
BEGIN:STANDARD
TZOFFSETFROM:-0700
TZOFFSETTO:-0800
TZNAME:PST
DTSTART:20261101T090000
END:STANDARD
END:VTIMEZONE
BEGIN:VEVENT
DTSTART;TZID=America/Los_Angeles:20250116T193000
DTEND;TZID=America/Los_Angeles:20250116T210000
DTSTAMP:20260420T005206
CREATED:20250113T010013Z
LAST-MODIFIED:20250113T010013Z
UID:44228-1737055800-1737061200@notoriousjazz.com
SUMMARY:SUBA TRIO
DESCRIPTION:Global Rhythms: Omar Sosa & Seckou Keita SUBA Trio \nThe Atlantic Ocean separates Cuba and Senegal\, the respective birthplaces of piano virtuoso Omar Sosa and kora master Seckou Keita\, a distance diminished by their shared ancestral connection to Africa. \nRecorded during lockdown and released in October 2021\, Sosa and Keita’s second album SUBA is a hymn to hope\, to a new dawn of compassion and real change in a post-pandemic world\, a visceral reiteration of humanity’s perennial prayer for peace and unity. Joining Omar and Seckou in the studio and for live performances is the inimitable Venezuelan artist Gustavo Ovalles. \nTickets: $25.00~$50.00
URL:https://notoriousjazz.com/event/suba-trio-2
LOCATION:The Great Town Hall\, 1119 8th Avenue\,  Seattle\, WA\, 98101\, United States
CATEGORIES:Concert
ATTACH;FMTTYPE=image/png:https://notoriousjazz.com/wp-content/uploads/2025/01/SUBA-TRIO-@-GREAT-TOWN-HALL.png
END:VEVENT
END:VCALENDAR