BEGIN:VCALENDAR
VERSION:2.0
PRODID:-//Notorious Jazz - ECPv6.15.17//NONSGML v1.0//EN
CALSCALE:GREGORIAN
METHOD:PUBLISH
X-ORIGINAL-URL:https://notoriousjazz.com
X-WR-CALDESC:Events for Notorious Jazz
REFRESH-INTERVAL;VALUE=DURATION:PT1H
X-Robots-Tag:noindex
X-PUBLISHED-TTL:PT1H
BEGIN:VTIMEZONE
TZID:America/New_York
BEGIN:DAYLIGHT
TZOFFSETFROM:-0500
TZOFFSETTO:-0400
TZNAME:EDT
DTSTART:20220313T070000
END:DAYLIGHT
BEGIN:STANDARD
TZOFFSETFROM:-0400
TZOFFSETTO:-0500
TZNAME:EST
DTSTART:20221106T060000
END:STANDARD
BEGIN:DAYLIGHT
TZOFFSETFROM:-0500
TZOFFSETTO:-0400
TZNAME:EDT
DTSTART:20230312T070000
END:DAYLIGHT
BEGIN:STANDARD
TZOFFSETFROM:-0400
TZOFFSETTO:-0500
TZNAME:EST
DTSTART:20231105T060000
END:STANDARD
BEGIN:DAYLIGHT
TZOFFSETFROM:-0500
TZOFFSETTO:-0400
TZNAME:EDT
DTSTART:20240310T070000
END:DAYLIGHT
BEGIN:STANDARD
TZOFFSETFROM:-0400
TZOFFSETTO:-0500
TZNAME:EST
DTSTART:20241103T060000
END:STANDARD
END:VTIMEZONE
BEGIN:VEVENT
DTSTART;TZID=America/New_York:20231103T080000
DTEND;TZID=America/New_York:20231104T170000
DTSTAMP:20260421T061145
CREATED:20231016T010049Z
LAST-MODIFIED:20231016T010820Z
UID:37456-1698998400-1699117200@notoriousjazz.com
SUMMARY:NOEL FREIDLINE & MARIA HOWELL
DESCRIPTION:A jazz Celebration of Stevie Wonder featuring special guest Adam McKnight. \nFor over 35 years\, Maria Howell\, this petite North Carolina native\, who splits her time between both the east coast and the west coast\, has developed her career as a singer\, actor\, and voiceover artist. Her debut acting role was the choir soloist in the Oscar Nominated film\, “The Color Purple”. She has gone on to appear in hit TV shows as Lifetime’s “Army Wives”\, NBC’s “Revolution”\, and CBS’s “Criminal Minds”. Feature films…“The Blind Side”\, “Hidden Figures”\, and “The Hunger Games: Catching Fire”. As a song stylist\, Maria has shared the musical stage with legendary artists as\, Nancy Wilson\, George Benson\, Ray Charles\, Earl Klugh\, brothers Ronnie and Hubert Laws\, and veteran actor/singer\, Keith David. \nPianist\, vocalist\, writer\, arranger and educator\, doesn’t come close to all things Noel Freidline! As a Magna Cum Laude graduate of the University of North Florida\, with a BA in Music\, Noel has been the bandleader of The Noel Freidline Quintet for over 26 years. He has numerous recordings to his credit\, and has performed at jazz festivals from the Jacksonville Jazz Festival (FL)…to the Montreux Jazz Festival (Switzerland)…not to mention\, a 3-year stint at the world famous Bellagio in Las Vegas\, as the house band\, leading his NFQ\, where he performed for actress Julia Robert’s surprise 35th birthday party. \nNoel was named Best Jazz Musician by Charlotte Magazine in 2006 and in 2009 and was named “Best Musical Director”\, by the Metrolina Theatre Association of the Carolinas. In 2011 Freidline was chosen for the Blumenthal Performing Arts Association – Center Stage Award (Charlotte\, NC)\, in recognition of his excellence in service to the arts. And in May\, 2015\, Noel Freidline was inducted into the Jacksonville Jazz Hall of Fame. \n  \n 
URL:https://notoriousjazz.com/event/noel-freidline-maria-howell
LOCATION:Middle C Jazz\, 300 South Brevard Street\, Charlotte\, NC\, 28202\, United States
CATEGORIES:Club
ATTACH;FMTTYPE=image/jpeg:https://notoriousjazz.com/wp-content/uploads/2023/10/NOEL-FRIEDLINE-MARIA-HOWELL.jpg
END:VEVENT
BEGIN:VEVENT
DTSTART;TZID=America/New_York:20231103T190000
DTEND;TZID=America/New_York:20231103T220000
DTSTAMP:20260421T061145
CREATED:20231015T185854Z
LAST-MODIFIED:20231015T185854Z
UID:37434-1699038000-1699048800@notoriousjazz.com
SUMMARY:THE BAYLOR PROJECT
DESCRIPTION:Join us for The Gathering 2023 kick off with a concert to benefit Hammonds House Museum featuring 6X Grammy Award nominated husband and wife duo\, The Baylor Project\, at the Ray Charles Performing Arts Center on the campus of Morehouse College at 8:00 PM. In addition to an evening of amazing and masterful performance\, there will be a silent auction\, an opportunity to win a fine art print by one of Atlanta’s critically acclaimed visual artists and VIP meet and greet with The Baylors at a pre-reception at 7:00pm. \nA husband.  A wife.  An astonishing duo built on love\, family\, faith\, culture and community. \nThese are the things that power The Baylor Project featuring Jean Baylor and Marcus Baylor.  This enticing collaboration is steeped in the heart and soul of jazz.  As the children of Pastors\, Marcus’ and Jean’s musical roots were planted deep within the church\, and it was there that the road was paved for the influence of jazz\, gospel\, blues and soul to make it’s mark. Their debut CD “The Journey“\, released on their own label\, Be A Light\, topped the Billboard Jazz Chart at Number 8 in 2017 and a year later garnered 2 GRAMMY® Nominations for Best Jazz Vocal Album and Best Traditional R&B Performance. Two years later during one of the most challenging years in recent history\, The Baylors released their single\, “Sit On Down” in 2020 which earned a 3rd GRAMMY® Nomination for Best Traditional R&B Performance\, solidifying The Baylor Project as an undeniable force. Their second album\, “Generations\,” released in 2021 earned the duo its first NAACP Image Award win for Outstanding Jazz Album-Vocal and it’s 4th GRAMMY® Nomination for Best Jazz Vocal Album.  And their first live album\, “The Evening : Live At APPARATUS” earned The Baylors their 5th and 6th GRAMMY® Nominations for Best Jazz Vocal Album and Best Improvised Jazz Solo. \nMarcus and Jean Baylor signed an exclusive distribution agreement\, in partnership with their artist-owned label\, Be A Light with Motown Gospel (a division of Capitol CMG/Capitol and Universal Music Group) making The Baylor Project’s catalogue available for the first time across all streaming platforms.
URL:https://notoriousjazz.com/event/the-baylor-project-2
LOCATION:Ray Charles Performing Arts Center\, 900 West End Avenue SW\, Atlanta\, GA\, 30310\, United States
CATEGORIES:Concert
ATTACH;FMTTYPE=image/jpeg:https://notoriousjazz.com/wp-content/uploads/2023/10/THE-BAYLOR-PROJECT.jpg
END:VEVENT
END:VCALENDAR