BEGIN:VCALENDAR
VERSION:2.0
PRODID:-//Notorious Jazz - ECPv6.15.17//NONSGML v1.0//EN
CALSCALE:GREGORIAN
METHOD:PUBLISH
X-WR-CALNAME:Notorious Jazz
X-ORIGINAL-URL:https://notoriousjazz.com
X-WR-CALDESC:Events for Notorious Jazz
REFRESH-INTERVAL;VALUE=DURATION:PT1H
X-Robots-Tag:noindex
X-PUBLISHED-TTL:PT1H
BEGIN:VTIMEZONE
TZID:America/New_York
BEGIN:DAYLIGHT
TZOFFSETFROM:-0500
TZOFFSETTO:-0400
TZNAME:EDT
DTSTART:20230312T070000
END:DAYLIGHT
BEGIN:STANDARD
TZOFFSETFROM:-0400
TZOFFSETTO:-0500
TZNAME:EST
DTSTART:20231105T060000
END:STANDARD
BEGIN:DAYLIGHT
TZOFFSETFROM:-0500
TZOFFSETTO:-0400
TZNAME:EDT
DTSTART:20240310T070000
END:DAYLIGHT
BEGIN:STANDARD
TZOFFSETFROM:-0400
TZOFFSETTO:-0500
TZNAME:EST
DTSTART:20241103T060000
END:STANDARD
BEGIN:DAYLIGHT
TZOFFSETFROM:-0500
TZOFFSETTO:-0400
TZNAME:EDT
DTSTART:20250309T070000
END:DAYLIGHT
BEGIN:STANDARD
TZOFFSETFROM:-0400
TZOFFSETTO:-0500
TZNAME:EST
DTSTART:20251102T060000
END:STANDARD
END:VTIMEZONE
BEGIN:VEVENT
DTSTART;TZID=America/New_York:20240406T190000
DTEND;TZID=America/New_York:20240406T210000
DTSTAMP:20260420T215922
CREATED:20240316T221253Z
LAST-MODIFIED:20240319T034145Z
UID:39772-1712430000-1712437200@notoriousjazz.com
SUMMARY:SANKOFA JAZZ CONCERT
DESCRIPTION:The 9th annual Sankofa Jazz Concert celebrates the rich tapestry of artistic expression stemming from the African diaspora\, spotlighting a blend of local talents and emerging artists who embody the essence of African heritage in jazz. \nHeadliner: Terri Lyne Carrington + Social Science \nWith technical wizardry and profound creativity\, NEA Jazz Master\, she has become one of the giants of today’s jazz music. A three-time Grammy Award-winning drummer\, composer\, producer\, and educator\, Carrington began her professional career at only ten years old and received a full scholarship to Berklee College of Music at the age of 11. She is the first female artist to ever win the Grammy Award for Best Jazz Instrumental Album\, which she received for her 2013 work\, “Money Jungle: Provocative in Blue.” \nOver the four-decade-plus span of her career\, she has played with Herbie Hancock\, Wayne Shorter\, Lester Bowie\, Cassandra Wilson\, Dianne Reeves\, Stan Getz\, Al Jarreau\, John Scofield\, Pharoah Sanders\, and Esperanza Spalding among countless other jazz luminaries. The critically acclaimed 2019 release\, Waiting Game\, from Terri Lyne Carrington + Social Science earned the esteemed Edison Award for music and a Grammy nomination. \nOpening Acts: \n~ Claudens Louis & the CieL Experience | Oriente Trio
URL:https://notoriousjazz.com/event/sankofa-jazz-concert
LOCATION:The African Heritage Cultural Center\, 6161 NW 22nd Avenue\, Miami\, FL\, 33142\, United States
CATEGORIES:Concert
ATTACH;FMTTYPE=image/jpeg:https://notoriousjazz.com/wp-content/uploads/2024/03/TERRI-LYNE-CARRINGTON.jpg
END:VEVENT
END:VCALENDAR