BEGIN:VCALENDAR
VERSION:2.0
PRODID:-//Notorious Jazz - ECPv6.15.17//NONSGML v1.0//EN
CALSCALE:GREGORIAN
METHOD:PUBLISH
X-WR-CALNAME:Notorious Jazz
X-ORIGINAL-URL:https://notoriousjazz.com
X-WR-CALDESC:Events for Notorious Jazz
REFRESH-INTERVAL;VALUE=DURATION:PT1H
X-Robots-Tag:noindex
X-PUBLISHED-TTL:PT1H
BEGIN:VTIMEZONE
TZID:America/New_York
BEGIN:DAYLIGHT
TZOFFSETFROM:-0500
TZOFFSETTO:-0400
TZNAME:EDT
DTSTART:20230312T070000
END:DAYLIGHT
BEGIN:STANDARD
TZOFFSETFROM:-0400
TZOFFSETTO:-0500
TZNAME:EST
DTSTART:20231105T060000
END:STANDARD
BEGIN:DAYLIGHT
TZOFFSETFROM:-0500
TZOFFSETTO:-0400
TZNAME:EDT
DTSTART:20240310T070000
END:DAYLIGHT
BEGIN:STANDARD
TZOFFSETFROM:-0400
TZOFFSETTO:-0500
TZNAME:EST
DTSTART:20241103T060000
END:STANDARD
BEGIN:DAYLIGHT
TZOFFSETFROM:-0500
TZOFFSETTO:-0400
TZNAME:EDT
DTSTART:20250309T070000
END:DAYLIGHT
BEGIN:STANDARD
TZOFFSETFROM:-0400
TZOFFSETTO:-0500
TZNAME:EST
DTSTART:20251102T060000
END:STANDARD
END:VTIMEZONE
BEGIN:VEVENT
DTSTART;TZID=America/New_York:20240424T190000
DTEND;TZID=America/New_York:20240424T201500
DTSTAMP:20260420T201221
CREATED:20240420T134445Z
LAST-MODIFIED:20240420T151020Z
UID:40396-1713985200-1713989700@notoriousjazz.com
SUMMARY:TOMEKA REID
DESCRIPTION:Described as a “New Jazz Power Source” by the New York Times\, cellist extraordinaire Tomeka Reid presents her groundbreaking new work inspired by Duke Ellington. Be among the first to witness this Kennedy Center co-commission as Reid seamlessly captures the essence of Ellington\, all while propelling jazz into bold new territories. \nDescribed as a “New Jazz Power Source” by the New York Times\, Tomeka Reid\, a D.C. native\, the 2022 MacArthur “Genius Grant” Fellow\, and cellist extraordinaire\, presents her groundbreaking new work inspired by Duke Ellington. Be among the first to witness this fusion of tradition and innovation as she seamlessly captures the essence of Ellington\, all while propelling jazz into bold new territories. Lose yourself in the spirit of a genius reimagined through the lens of one of today’s most visionary artists.
URL:https://notoriousjazz.com/event/tomeka-reid
LOCATION:Kennedy Center | Terrace Theater\, 2700 F Street\, NW\, Washington\, DC\, 20566\, United States
CATEGORIES:Concert
ATTACH;FMTTYPE=image/jpeg:https://notoriousjazz.com/wp-content/uploads/2024/04/TOMEKA-REID.jpg
END:VEVENT
END:VCALENDAR