BEGIN:VCALENDAR
VERSION:2.0
PRODID:-//Notorious Jazz - ECPv6.15.17//NONSGML v1.0//EN
CALSCALE:GREGORIAN
METHOD:PUBLISH
X-ORIGINAL-URL:https://notoriousjazz.com
X-WR-CALDESC:Events for Notorious Jazz
REFRESH-INTERVAL;VALUE=DURATION:PT1H
X-Robots-Tag:noindex
X-PUBLISHED-TTL:PT1H
BEGIN:VTIMEZONE
TZID:America/New_York
BEGIN:DAYLIGHT
TZOFFSETFROM:-0500
TZOFFSETTO:-0400
TZNAME:EDT
DTSTART:20230312T070000
END:DAYLIGHT
BEGIN:STANDARD
TZOFFSETFROM:-0400
TZOFFSETTO:-0500
TZNAME:EST
DTSTART:20231105T060000
END:STANDARD
BEGIN:DAYLIGHT
TZOFFSETFROM:-0500
TZOFFSETTO:-0400
TZNAME:EDT
DTSTART:20240310T070000
END:DAYLIGHT
BEGIN:STANDARD
TZOFFSETFROM:-0400
TZOFFSETTO:-0500
TZNAME:EST
DTSTART:20241103T060000
END:STANDARD
BEGIN:DAYLIGHT
TZOFFSETFROM:-0500
TZOFFSETTO:-0400
TZNAME:EDT
DTSTART:20250309T070000
END:DAYLIGHT
BEGIN:STANDARD
TZOFFSETFROM:-0400
TZOFFSETTO:-0500
TZNAME:EST
DTSTART:20251102T060000
END:STANDARD
END:VTIMEZONE
BEGIN:VEVENT
DTSTART;TZID=America/New_York:20240519T190000
DTEND;TZID=America/New_York:20240519T210000
DTSTAMP:20260420T165247
CREATED:20240317T014119Z
LAST-MODIFIED:20240317T014119Z
UID:39793-1716145200-1716152400@notoriousjazz.com
SUMMARY:VIJAY IYER
DESCRIPTION:Composer-pianist Vijay Iyer has carved out a unique path as an influential\, shape-shifting presence in 21st-century music. His deeply interactive\, powerfully expressive musical language is indebted to the composer-pianist lineage from Duke Ellington and Thelonious Monk to Alice Coltrane and Geri Allen\, the creative music movement of the 60s and 70s\, and rhythmic traditions of South Asia and West Africa. As MinnPost recently observed\, “twining composition and improvisation is rightfully his most celebrated métier.” He has released twenty-six widely praised albums; received three Grammy nominations\, numerous national and international prizes\, and a MacArthur Fellowship; composed for orchestras\, soloists\, and chamber ensembles; and collaborated with poets\, filmmakers\, choreographers\, and music-makers from across the planet. \nIyer’s artistry finds perhaps its purest expression in his most celebrated group\, the Vijay Iyer Trio\, praised by NPR as “truly astonishing” and by The New York Times as “one of the best bands in jazz.” Iyer’s ever-evolving trio conception\, developed over the last 30 years\, finds inspiration in the trio music of Ahmad Jamal\, the Ellington/Mingus/Roach summit Money Jungle\, Andrew Hill’s Smokestack\, McCoy Tyner’s 1970s ensembles\, the rhythm-section alchemies of James Brown\, Fela Kuti\, and the Meters\, South Asian rhythmic forms\, and the expressive nuance of chamber music. The results\, over the span of his trio’s five pivotal recordings and hundreds of performances\, have not only defied the old categories\, but inaugurated entirely new ones. \nThe Trio: Piano: Vijay Iyer | Bass: Harish Raghavan | Drums: Jeremy Dutton
URL:https://notoriousjazz.com/event/vijay-iyer
LOCATION:The Jazz Bakery @ Moss Theater\, 3131 Olympic Boulevard\, Santa Monica\, CA\, 90404\, United States
CATEGORIES:Concert
ATTACH;FMTTYPE=image/jpeg:https://notoriousjazz.com/wp-content/uploads/2024/03/VIJAY-IYER.jpg
END:VEVENT
BEGIN:VEVENT
DTSTART;TZID=America/New_York:20240519T193000
DTEND;TZID=America/New_York:20240519T210000
DTSTAMP:20260420T165247
CREATED:20240428T195032Z
LAST-MODIFIED:20240428T195032Z
UID:40509-1716147000-1716152400@notoriousjazz.com
SUMMARY:TYRONE JACKSON
DESCRIPTION:The name Tyrone Jackson is the quintessential jazz piano player. His boundless creativity coupled with harmonic mastery\, utilizes the piano as a blank canvas.  Jackson is nationally recognized and has traveled the world as a solo artist and sideman. \nAs a composer\, Jackson has composed original music for Pulitizer Prize winning author Natasha Tretheway’s book of poems “Native Guard” turned theatrical play\, Pearl Clege’s play\, “Tell Me My Dream”\, “Ethel” and this year’s Alliance Theater production of “Nick’s Flamingo Grill.” Jackson has recorded 4 Albums—“Dedicated”\, “Another Voyage”\, “Melody In Nede”\, and new release “From The Mind Of.” \nLavahi is a scholar-artist on a mission to better society from the inside out. Through her music\, scholarship\, and performance\, LAVAHI is building a platform to nourish the heart and mind\, empathize our human experiences\, and vibe together. As a daughter of jazz\, the culture heavily informs her ideology and influences her sound. Acrobatic scatting\, compelling chords\, and the art of improvisation evoke that classic traditional aesthetic and set her contemporary sound apart from the norm of mainstream neo-soul\, hip hop\, and R&B. And with her satisfying blend of analog and digital sounds\, LAVAHI shows that the lineage of Black sound is not linear but ever folding and stretching.
URL:https://notoriousjazz.com/event/tyrone-jackson-2
LOCATION:The Balzer Theater at Herren’s\, 84 Luckie Street NW\, Atlanta\, GA\, 30303\, United States
CATEGORIES:Concert
ATTACH;FMTTYPE=image/png:https://notoriousjazz.com/wp-content/uploads/2024/04/TYRONE-JACKSON-AND-LAVAHI.png
END:VEVENT
END:VCALENDAR