BEGIN:VCALENDAR
VERSION:2.0
PRODID:-//Notorious Jazz - ECPv6.15.17//NONSGML v1.0//EN
CALSCALE:GREGORIAN
METHOD:PUBLISH
X-WR-CALNAME:Notorious Jazz
X-ORIGINAL-URL:https://notoriousjazz.com
X-WR-CALDESC:Events for Notorious Jazz
REFRESH-INTERVAL;VALUE=DURATION:PT1H
X-Robots-Tag:noindex
X-PUBLISHED-TTL:PT1H
BEGIN:VTIMEZONE
TZID:America/New_York
BEGIN:DAYLIGHT
TZOFFSETFROM:-0500
TZOFFSETTO:-0400
TZNAME:EDT
DTSTART:20230312T070000
END:DAYLIGHT
BEGIN:STANDARD
TZOFFSETFROM:-0400
TZOFFSETTO:-0500
TZNAME:EST
DTSTART:20231105T060000
END:STANDARD
BEGIN:DAYLIGHT
TZOFFSETFROM:-0500
TZOFFSETTO:-0400
TZNAME:EDT
DTSTART:20240310T070000
END:DAYLIGHT
BEGIN:STANDARD
TZOFFSETFROM:-0400
TZOFFSETTO:-0500
TZNAME:EST
DTSTART:20241103T060000
END:STANDARD
BEGIN:DAYLIGHT
TZOFFSETFROM:-0500
TZOFFSETTO:-0400
TZNAME:EDT
DTSTART:20250309T070000
END:DAYLIGHT
BEGIN:STANDARD
TZOFFSETFROM:-0400
TZOFFSETTO:-0500
TZNAME:EST
DTSTART:20251102T060000
END:STANDARD
END:VTIMEZONE
BEGIN:VEVENT
DTSTART;TZID=America/New_York:20240712T200000
DTEND;TZID=America/New_York:20240712T220000
DTSTAMP:20260420T165239
CREATED:20240705T200120Z
LAST-MODIFIED:20240705T200120Z
UID:41552-1720814400-1720821600@notoriousjazz.com
SUMMARY:NICOLE YARLING & MARTIN BEJERANO
DESCRIPTION:Tribute to Prince. \nThe music of Prince is iconic and timeless­. Latin Grammy-nominated pianist Martin Bejerano and renowned vocalist and violinist Nicole Yarling present a modern\, funky jazz-fusion that reimagines Prince’s “golden period.” \nAfter the concert is an open jam. Bring your instrument! \nStudents be sure to score one of the limited free student tickets! \n 
URL:https://notoriousjazz.com/event/nicole-yarling-martin-bejerano
LOCATION:WDNA Jazz Gallery\, 2921 Coral Way\, Miami\, FL\, 33145\, United States
CATEGORIES:Radio Station
ATTACH;FMTTYPE=image/jpeg:https://notoriousjazz.com/wp-content/uploads/2024/07/NICOLE-YARLING-MARTIN-BEJERANO.jpg
END:VEVENT
END:VCALENDAR