BEGIN:VCALENDAR
VERSION:2.0
PRODID:-//Notorious Jazz - ECPv6.15.17//NONSGML v1.0//EN
CALSCALE:GREGORIAN
METHOD:PUBLISH
X-WR-CALNAME:Notorious Jazz
X-ORIGINAL-URL:https://notoriousjazz.com
X-WR-CALDESC:Events for Notorious Jazz
REFRESH-INTERVAL;VALUE=DURATION:PT1H
X-Robots-Tag:noindex
X-PUBLISHED-TTL:PT1H
BEGIN:VTIMEZONE
TZID:America/New_York
BEGIN:DAYLIGHT
TZOFFSETFROM:-0500
TZOFFSETTO:-0400
TZNAME:EDT
DTSTART:20230312T070000
END:DAYLIGHT
BEGIN:STANDARD
TZOFFSETFROM:-0400
TZOFFSETTO:-0500
TZNAME:EST
DTSTART:20231105T060000
END:STANDARD
BEGIN:DAYLIGHT
TZOFFSETFROM:-0500
TZOFFSETTO:-0400
TZNAME:EDT
DTSTART:20240310T070000
END:DAYLIGHT
BEGIN:STANDARD
TZOFFSETFROM:-0400
TZOFFSETTO:-0500
TZNAME:EST
DTSTART:20241103T060000
END:STANDARD
BEGIN:DAYLIGHT
TZOFFSETFROM:-0500
TZOFFSETTO:-0400
TZNAME:EDT
DTSTART:20250309T070000
END:DAYLIGHT
BEGIN:STANDARD
TZOFFSETFROM:-0400
TZOFFSETTO:-0500
TZNAME:EST
DTSTART:20251102T060000
END:STANDARD
END:VTIMEZONE
BEGIN:VEVENT
DTSTART;TZID=America/New_York:20240601T130000
DTEND;TZID=America/New_York:20240601T150000
DTSTAMP:20260421T170523
CREATED:20231203T131431Z
LAST-MODIFIED:20240205T164118Z
UID:38122-1717246800-1717254000@notoriousjazz.com
SUMMARY:LENORA HELM HAMMONDS
DESCRIPTION:New England Symphonic Ensemble \nGuest Conductor: Lenora Helm Hammonds ~ Department Chair & Director of Graduate Programs\, Jazz\, at North Carolina Central University in Durham\, North Carolina. \nShe will be conducting commissioned arrangements for jazz choir and jazz chamber orchestra of Hale Smith’s The Valley Wind and John Coltrane’s A Conversation with God (Based on Coltrane’s Dear Lord) | Lyricist: Lenora Zenzalai Helm | Arranger ~ Maurice Myers & Lenora Zenzalai Helm \nHammonds will be joined by Jillian Harrison-Jones\, Lorissa Mason\, and Anne Lyman\, Conductors
URL:https://notoriousjazz.com/event/lenora-helm-hammonds
LOCATION:Stern Auditorium @ Carnegie Hall\, 881 7th Ave\,\, New York City\, NY\, 10019\, United States
CATEGORIES:Concert
ATTACH;FMTTYPE=image/png:https://notoriousjazz.com/wp-content/uploads/2023/12/LENORA-ZENZALAI-HELM.png
END:VEVENT
END:VCALENDAR