BEGIN:VCALENDAR
VERSION:2.0
PRODID:-//Notorious Jazz - ECPv6.15.17//NONSGML v1.0//EN
CALSCALE:GREGORIAN
METHOD:PUBLISH
X-ORIGINAL-URL:https://notoriousjazz.com
X-WR-CALDESC:Events for Notorious Jazz
REFRESH-INTERVAL;VALUE=DURATION:PT1H
X-Robots-Tag:noindex
X-PUBLISHED-TTL:PT1H
BEGIN:VTIMEZONE
TZID:America/New_York
BEGIN:DAYLIGHT
TZOFFSETFROM:-0500
TZOFFSETTO:-0400
TZNAME:EDT
DTSTART:20220313T070000
END:DAYLIGHT
BEGIN:STANDARD
TZOFFSETFROM:-0400
TZOFFSETTO:-0500
TZNAME:EST
DTSTART:20221106T060000
END:STANDARD
BEGIN:DAYLIGHT
TZOFFSETFROM:-0500
TZOFFSETTO:-0400
TZNAME:EDT
DTSTART:20230312T070000
END:DAYLIGHT
BEGIN:STANDARD
TZOFFSETFROM:-0400
TZOFFSETTO:-0500
TZNAME:EST
DTSTART:20231105T060000
END:STANDARD
BEGIN:DAYLIGHT
TZOFFSETFROM:-0500
TZOFFSETTO:-0400
TZNAME:EDT
DTSTART:20240310T070000
END:DAYLIGHT
BEGIN:STANDARD
TZOFFSETFROM:-0400
TZOFFSETTO:-0500
TZNAME:EST
DTSTART:20241103T060000
END:STANDARD
END:VTIMEZONE
BEGIN:VEVENT
DTSTART;TZID=America/New_York:20230118T190000
DTEND;TZID=America/New_York:20230118T214500
DTSTAMP:20260423T043148
CREATED:20221219T163753Z
LAST-MODIFIED:20221219T163753Z
UID:33311-1674068400-1674078300@notoriousjazz.com
SUMMARY:ARMANDO VEGA & 313 ORCHESTRA
DESCRIPTION:Sonero y Conguero Armando Vega grew up immersed in Latin music and culture in Detroit\, Michigan. Beginning to sing Salsa at seventeen\, he received early mentoring from Herman Olivera\, famed Grammy nominated singer with Eddie Palmieri\, The Spanish Harlem Orchestra\, and many others. Years later Armando performed with Olivera before a crowd of 30\,000 at the Cleveland Puerto Rican Festival. He has promoted his own CD touring Puerto Rico\, opening for Latin greats El Gran Combo de Puerto Rico\, and many other prominent PR artists. He has also performed with Elias Lopes\, one of Puerto Rico’s most influential Latin Jazz trumpeters. He has toured and headlined with Tito Puente\, Jr.\, and recorded his own CD produced by Latin jazz saxophonist Luis Disla. Armando has established an enthusiastic following in and beyond Detroit.
URL:https://notoriousjazz.com/event/armando-vega-313-orchestra
LOCATION:The Blue Llama\, 314 S Main Street\, Ann Arbor\, MI\, 48104\, United States
CATEGORIES:Club
ATTACH;FMTTYPE=image/jpeg:https://notoriousjazz.com/wp-content/uploads/2022/12/ARMANDO-VEGA.jpeg
END:VEVENT
END:VCALENDAR