BEGIN:VCALENDAR
VERSION:2.0
PRODID:-//Notorious Jazz - ECPv6.15.17//NONSGML v1.0//EN
CALSCALE:GREGORIAN
METHOD:PUBLISH
X-ORIGINAL-URL:https://notoriousjazz.com
X-WR-CALDESC:Events for Notorious Jazz
REFRESH-INTERVAL;VALUE=DURATION:PT1H
X-Robots-Tag:noindex
X-PUBLISHED-TTL:PT1H
BEGIN:VTIMEZONE
TZID:America/New_York
BEGIN:DAYLIGHT
TZOFFSETFROM:-0500
TZOFFSETTO:-0400
TZNAME:EDT
DTSTART:20220313T070000
END:DAYLIGHT
BEGIN:STANDARD
TZOFFSETFROM:-0400
TZOFFSETTO:-0500
TZNAME:EST
DTSTART:20221106T060000
END:STANDARD
BEGIN:DAYLIGHT
TZOFFSETFROM:-0500
TZOFFSETTO:-0400
TZNAME:EDT
DTSTART:20230312T070000
END:DAYLIGHT
BEGIN:STANDARD
TZOFFSETFROM:-0400
TZOFFSETTO:-0500
TZNAME:EST
DTSTART:20231105T060000
END:STANDARD
BEGIN:DAYLIGHT
TZOFFSETFROM:-0500
TZOFFSETTO:-0400
TZNAME:EDT
DTSTART:20240310T070000
END:DAYLIGHT
BEGIN:STANDARD
TZOFFSETFROM:-0400
TZOFFSETTO:-0500
TZNAME:EST
DTSTART:20241103T060000
END:STANDARD
END:VTIMEZONE
BEGIN:VEVENT
DTSTART;TZID=America/New_York:20230106T080000
DTEND;TZID=America/New_York:20230108T170000
DTSTAMP:20260424T130152
CREATED:20230103T004054Z
LAST-MODIFIED:20230104T183730Z
UID:33525-1672992000-1673197200@notoriousjazz.com
SUMMARY:MIKE CLARK\, GARY BARTZ & EDDIE HENDERSON
DESCRIPTION:Eddie Henderson ~ Trumpet\nGary Bartz ~ Saxophone\nEssiet Essiet ~ Bass\nMike Clark ~ Drums\nJon Davis ~ Piano\n\n\nShowtimes:\nFriday & Saturday ~ 7:00pm | 9:30 pm\nBroadcast: 7:00 pm | $10.00\n\nSunday ~ 5:00 pm | 7:30 pm\nBroadcast ~ 5:00 pm | $10.00
URL:https://notoriousjazz.com/event/mike-clark-gary-bartz-eddie-henderson
LOCATION:Keystone Korner Baltimore\, 1350 Lancaster Street\, Baltimore\, MD\, 21231\, United States
CATEGORIES:Club
ATTACH;FMTTYPE=image/png:https://notoriousjazz.com/wp-content/uploads/2023/01/MIKE-CLARK-GARY-BARTZ-EDDIE-HENDERSON.png
END:VEVENT
BEGIN:VEVENT
DTSTART;TZID=America/New_York:20230114T190000
DTEND;TZID=America/New_York:20230115T230000
DTSTAMP:20260424T130152
CREATED:20230111T032832Z
LAST-MODIFIED:20230111T032832Z
UID:33708-1673722800-1673823600@notoriousjazz.com
SUMMARY:BERNARD LINNETTE INTERACTIVE
DESCRIPTION:Featuring: Julie Dexter ~ Vocals\, Terence Harper ~ Trumpet\, Louis Heriveaux ~ Piano\, Frank Houston ~ TEnor Saxophone\, Dishan Harper ~ Bass\, and Bernard Linnette ~ Drums \nShowtimes: \nJanuary 14 ~ 7:30pm | 9:30pm \nJanuary 15 ~ 7:00pm | 9:00pm
URL:https://notoriousjazz.com/event/bernard-linnette-interactive
LOCATION:The Velvet Note\, 4075 Old Milton Parkway\, Alpharetta\, GA\, 30005\, United States
CATEGORIES:Club
ATTACH;FMTTYPE=image/jpeg:https://notoriousjazz.com/wp-content/uploads/2023/01/BERNARD-LINNETTE.jpg
END:VEVENT
BEGIN:VEVENT
DTSTART;TZID=America/New_York:20230120T140000
DTEND;TZID=America/New_York:20230121T180000
DTSTAMP:20260424T130152
CREATED:20230103T210204Z
LAST-MODIFIED:20230104T183105Z
UID:33565-1674223200-1674324000@notoriousjazz.com
SUMMARY:JEFF "TAIN" WATTS  BIRTHDAY CELEBRATION
DESCRIPTION:Jeff “Tain” Watts – drums\nPaul Bollenback – guitar\nJames Francies – piano\nChris Smith – bass\nGary Thomas – tenor saxophone \nJeff “Tain” Watts is one of the most in demand jazz drummers in the world today. Jeff Watts majored in classical percussion at Pittsburgh’s Duquesne University\, where he was primarily a timpanist\, followed by enrollment at the Berklee School of Music\, where he pursued jazz studies alongside such talented players as Branford Marsalis\, Kevin Eubanks\, Greg Osby\, Aimee Mann\, Steve Vai and Marvin “Smitty” Smith. Jeff joined the Wynton Marsalis Quartet in 1981 and proceeded to win three Grammy Awards with the ensemble. Watts left Wynton Marsalis in 1988. After working with George Benson\, Harry Connick. Jr. and McCoy Tyner\, he joined the Branford Marsalis Quartet in 1989. Jeff has worked in the film and television industry as both a musician on the Tonight Show with Jay Leno and as an actor\, Rhythm Jones in Spike Lee’s “Mo Better Blues”. Jeff joined Kenny Garrett’s band after returning to New York in 1995 after three years in LA on the Tonight Show. \nAlong with explosive power\, blinding speed and mastery of complex rhythms and time signatures\, Watts brings a rare sense of elegance\, tried-by-fire composure\, and a gritty street funk to his music. His artistic ingenuity expresses itself in his incomparable technique\, sweltering sense of swing\, and an extraordinary ability to imbue his music with majestic grace and elegant repose. A true jazz innovator\, Watts never fails to deliver the percussive magic that has been his trademark since his emergence on the contemporary jazz scene. \nPaul Bollenback is a jazz guitarist who has appeared on Entertainment Tonight\, The Tonight Show\, The Today Show\, Joan Rivers\, and Good Morning America. He has performed with Scott Ambush\, Charlie Byrd\, Joey DeFrancesco\, Herb Ellis\, Della Reese\, Arturo Sandoval\, and Stanley Turrentine. \nPlenty of young musicians show promise\, but very few enjoy the sort of meteoric rise that pianist\, keyboardist and composer James Francies is currently experiencing. At only 27\, he’s played with jazz headliners like Pat Metheny\, Chris Potter\, Stefon Harris\, Eric Harland\, and Terrace Martin\, and racked up equally impressive credits in hip-hop and R&B: from shows with Ms. Lauryn Hill\, José James\, Common\, and NAS\, to studio time for Chance the Rapper’s Grammy-winning hit “No Problem”\, Mark Ronson \, Childish Gambino\, YEBBA\, Drake\, and Kodak Black\, to appearances with The Roots on The Tonight Show Starring Jimmy Fallon alongside his mentor and friend Questlove. \nChris Smith is a bass player\, whose played music professionally for over 25 years. Whether it be electric/upright bass\, vocals\, or guitar\, contributing to the roots music scene is his goal as a performer\, song writer and session player. \nGary Thomas\, widely acknowledged as one of the best saxophone players in the world\, established himself in the 1980s as one of the most jarring soloists of his generation. Thomas has worked with John McLaughlin\, Herbie Hancock\, Pat Metheny\, Jim Hall\, Dave Holland\, Wayne Shorter\, Ravi Coltrane\, Cassandra Wilson\, Wallace Roney\, Miles Davis\, Steve Coleman\, as well as numerous other premier jazz musicians. He also served as Director of Jazz Studies at the Peabody Institute in Baltimore. \nShowtimes: Friday & Saturday ~ 7:00pm | 9:30pm \nStream @ 7:00pm Only ~ $10.00
URL:https://notoriousjazz.com/event/jeff-tain-watts-birthday-celebration
LOCATION:Keystone Korner Baltimore\, 1350 Lancaster Street\, Baltimore\, MD\, 21231\, United States
CATEGORIES:Club
ATTACH;FMTTYPE=image/jpeg:https://notoriousjazz.com/wp-content/uploads/2023/01/JEFF-22TAIN22-WATTS.jpg
END:VEVENT
BEGIN:VEVENT
DTSTART;TZID=America/New_York:20230121T193000
DTEND;TZID=America/New_York:20230121T210000
DTSTAMP:20260424T130152
CREATED:20221123T155236Z
LAST-MODIFIED:20221123T155311Z
UID:32813-1674329400-1674334800@notoriousjazz.com
SUMMARY:ULYSSES OWENS JR. & GENERATION Y
DESCRIPTION:Drummer. Educator. Author. Creative Entrepreneur. A drummer who The New York Times has said “take a back seat to no one\,” and “a musician who balances excitement gracefully and shines with innovation. Performer\, producer\, and educator Ulysses Owens Jr. goes the limit in the jazz world and beyond. \nGeneration Y is a quintet comprised of the most dynamic young jazz musicians on the scene. This group is dedicated to moving the music forward\, with a love of the jazz tradition.
URL:https://notoriousjazz.com/event/ulysses-owens-jr-generation-y
LOCATION:The Argyros\, 120 Main Street S\, Ketchum\, ID\, 83340\, United States
CATEGORIES:Concert
ATTACH;FMTTYPE=image/jpeg:https://notoriousjazz.com/wp-content/uploads/2022/11/ULYSSES-OWENS-JR..jpg
END:VEVENT
BEGIN:VEVENT
DTSTART;TZID=America/New_York:20230122T160000
DTEND;TZID=America/New_York:20230122T200000
DTSTAMP:20260424T130152
CREATED:20221207T211352Z
LAST-MODIFIED:20221207T211805Z
UID:33062-1674403200-1674417600@notoriousjazz.com
SUMMARY:JIMMY MADISON GROUP
DESCRIPTION:If you were to list all the groups Jimmy Madison has worked with since his arrival in New York\, it would read like a Who’s Who of modern music. A musician at four years\, and a professional at age twelve\, he has been playing jazz all his life. \nListen to an interview with Jimmy Madison here (from 2011): http://www.jakefeinbergshow.com/2011/10/the-jimmy-madison-interview/ \nShowtimes: 4:00pm & 6:00pm
URL:https://notoriousjazz.com/event/jimmy-madison-group
LOCATION:Jazz Forum Arts\, 1 Dixon Lane\, Tarrytown\, NY\, 10591\, United States
CATEGORIES:Club
ATTACH;FMTTYPE=image/png:https://notoriousjazz.com/wp-content/uploads/2022/12/JIMMY-MADISON.png
END:VEVENT
BEGIN:VEVENT
DTSTART;TZID=America/New_York:20230131T193000
DTEND;TZID=America/New_York:20230201T230000
DTSTAMP:20260424T130152
CREATED:20230104T202510Z
LAST-MODIFIED:20230104T202510Z
UID:33627-1675193400-1675292400@notoriousjazz.com
SUMMARY:ALLISON MILLER'S BOOM TIC BOOM
DESCRIPTION:An artist constantly pushing her expression in new directions\, drummer-composer and educator Allison Miller has been leading her internationally acclaimed project Boom Tic Boom for more than a decade. In her music she creates meditative energy as well as a sense of urgency. WSJ critic Martin Johnson hails Miller’s band as having “a razor-sharp precision that recalls classic drummer-led ensembles of 50 years ago\,” with “a diverse sonic palette that is unmistakably contemporary.” Boom Tic Boom’s Dizzy’s Club set features Dayna Stephens\, Myra Melford\, and Scott Colley. \n\n\n\n\nPERFORMANCE LINEUP\n\n\n\n\nAllison Miller\, drums \nDayna Stephens\, tenor saxophone \nMyra Melford\, piano \nScott Colley\, bass
URL:https://notoriousjazz.com/event/allison-millers-boom-tic-boom
LOCATION:Dizzy’s Club\, 10 Columbus Circle\, New York City\, NY\, 10019\, United States
CATEGORIES:Club
ATTACH;FMTTYPE=image/png:https://notoriousjazz.com/wp-content/uploads/2023/01/ALLISON-MILLER.png
END:VEVENT
END:VCALENDAR