BEGIN:VCALENDAR
VERSION:2.0
PRODID:-//Notorious Jazz - ECPv6.15.17//NONSGML v1.0//EN
CALSCALE:GREGORIAN
METHOD:PUBLISH
X-ORIGINAL-URL:https://notoriousjazz.com
X-WR-CALDESC:Events for Notorious Jazz
REFRESH-INTERVAL;VALUE=DURATION:PT1H
X-Robots-Tag:noindex
X-PUBLISHED-TTL:PT1H
BEGIN:VTIMEZONE
TZID:America/New_York
BEGIN:DAYLIGHT
TZOFFSETFROM:-0500
TZOFFSETTO:-0400
TZNAME:EDT
DTSTART:20220313T070000
END:DAYLIGHT
BEGIN:STANDARD
TZOFFSETFROM:-0400
TZOFFSETTO:-0500
TZNAME:EST
DTSTART:20221106T060000
END:STANDARD
BEGIN:DAYLIGHT
TZOFFSETFROM:-0500
TZOFFSETTO:-0400
TZNAME:EDT
DTSTART:20230312T070000
END:DAYLIGHT
BEGIN:STANDARD
TZOFFSETFROM:-0400
TZOFFSETTO:-0500
TZNAME:EST
DTSTART:20231105T060000
END:STANDARD
BEGIN:DAYLIGHT
TZOFFSETFROM:-0500
TZOFFSETTO:-0400
TZNAME:EDT
DTSTART:20240310T070000
END:DAYLIGHT
BEGIN:STANDARD
TZOFFSETFROM:-0400
TZOFFSETTO:-0500
TZNAME:EST
DTSTART:20241103T060000
END:STANDARD
END:VTIMEZONE
BEGIN:VTIMEZONE
TZID:America/Los_Angeles
BEGIN:DAYLIGHT
TZOFFSETFROM:-0800
TZOFFSETTO:-0700
TZNAME:PDT
DTSTART:20220313T100000
END:DAYLIGHT
BEGIN:STANDARD
TZOFFSETFROM:-0700
TZOFFSETTO:-0800
TZNAME:PST
DTSTART:20221106T090000
END:STANDARD
BEGIN:DAYLIGHT
TZOFFSETFROM:-0800
TZOFFSETTO:-0700
TZNAME:PDT
DTSTART:20230312T100000
END:DAYLIGHT
BEGIN:STANDARD
TZOFFSETFROM:-0700
TZOFFSETTO:-0800
TZNAME:PST
DTSTART:20231105T090000
END:STANDARD
BEGIN:DAYLIGHT
TZOFFSETFROM:-0800
TZOFFSETTO:-0700
TZNAME:PDT
DTSTART:20240310T100000
END:DAYLIGHT
BEGIN:STANDARD
TZOFFSETFROM:-0700
TZOFFSETTO:-0800
TZNAME:PST
DTSTART:20241103T090000
END:STANDARD
END:VTIMEZONE
BEGIN:VEVENT
DTSTART;TZID=America/New_York:20230703T183000
DTEND;TZID=America/New_York:20230703T235900
DTSTAMP:20260423T134553
CREATED:20230701T214908Z
LAST-MODIFIED:20230701T214908Z
UID:36044-1688409000-1688428740@notoriousjazz.com
SUMMARY:JAZZ DIALOGUE OPEN JAM
DESCRIPTION:Earlybird Show | 6:30pm ~ 8:30pm \nLex Korten (p) | Dave Adewumi (tp) | Carmen Rothwell (b) | Connor Parks (d) \nJazz Dialogue Open Jam | 9:00pm ~ 12:00am \nAsaf Yuria (ts) | Brian Charette (org)| Jimmy Macbride (d)
URL:https://notoriousjazz.com/event/jazz-dialogue-open-jam
LOCATION:Ornithology Jazz Club\, 6 Suydam Street\, Brooklyn\, NY\, 11221\, United States
CATEGORIES:Club
ATTACH;FMTTYPE=image/jpeg:https://notoriousjazz.com/wp-content/uploads/2023/07/LEX-KORTEN.jpg
END:VEVENT
BEGIN:VEVENT
DTSTART;TZID=America/New_York:20230711T190000
DTEND;TZID=America/New_York:20230715T234500
DTSTAMP:20260423T134553
CREATED:20230706T223546Z
LAST-MODIFIED:20230706T223546Z
UID:36098-1689102000-1689464700@notoriousjazz.com
SUMMARY:MONTY ALEXANDER
DESCRIPTION:Monty Alexander O.J.: “Honoring Harry Belafonte” with Luke Sellick & Jason Brown \nFrom Kingston\, Jamaica\, his hometown\, Grammy nominated pianist Monty Alexander is an American classic\, touring the world relentlessly with various projects\, delighting a global audience drawn to his vibrant personality and soulful message. A perennial favorite at Jazz festivals and venues worldwide and at the Montreux Jazz Festival where he has appeared 23 times since 1976\, his spirited conception is one informed by the timeless verities: endless melody-making\, effervescent grooves\, sophisticated voicings\, a romantic spirit\, and a consistent predisposition\, as Alexander accurately states\, “to build up the heat and kick up a storm.” In the course of any given performance\, Alexander applies those aesthetics to a repertoire spanning a broad range of jazz and Jamaican musical expressions—the American songbook and the blues\, gospel and bebop\, calypso and reggae. Documented on more than 75 recordings and cited as the fifth greatest jazz pianist ever in The Fifty Greatest Jazz Piano Players of All Time (Hal Leonard Publishing)\, the Jamaican government designated Alexander Commander in the Order of Distinction in 2000 and in 2018 The University of The West Indies bestowed him with an honorary doctorate degree (DLitt) in recognition of his accomplishments. For this engagement\, Monty\, along with bassist Luke Selick and drummer Jason Brown\, commemorates his long friendship with Harry Belafonte\, Jr. in stories and song. \nShowtimes: 7:00pm | 8:30pm | 9:30pm | 10:30pm
URL:https://notoriousjazz.com/event/monty-alexander-3
LOCATION:Birdland\, 315 W 44th Street\, #5402\, New York City\, NY\, 10036\, United States
CATEGORIES:Club
ATTACH;FMTTYPE=image/png:https://notoriousjazz.com/wp-content/uploads/2023/07/MONTY-ALEXNDER-HARRY-BELAFONTE.png
END:VEVENT
BEGIN:VEVENT
DTSTART;TZID=America/Los_Angeles:20230713T193000
DTEND;TZID=America/Los_Angeles:20230713T231500
DTSTAMP:20260423T134553
CREATED:20230623T134056Z
LAST-MODIFIED:20230623T141947Z
UID:35840-1689276600-1689290100@notoriousjazz.com
SUMMARY:THE WILLAMETTE JAZZ TRIO
DESCRIPTION:Obscure standards: Tunes from the 20th century that you never knew you needed to hear.\n\nRobert Bohall piano\nRobert Lassila bass\nNik Barber drums\n\nRobert Bohall is a recent graduate of the Masters of Music in Jazz Studies program at University of Oregon\, while Nik Barber and Robert Lassila have one year left in the same program. Young and hungry\, these musicians combine energies to create bombastic climaxes and quiet soundscapes over familiar tunes. Come see them express their passion on stage\, combined to form The Willamette Jazz Trio.
URL:https://notoriousjazz.com/event/the-willamette-jazz-trio
LOCATION:The Jazz Station\, 124 W Broadway\, Eugene\, OR\, 97401\, United States
CATEGORIES:Club
ATTACH;FMTTYPE=image/jpeg:https://notoriousjazz.com/wp-content/uploads/2023/06/THE-WILLAMETTE-JAZZ-TRIO.jpg
END:VEVENT
BEGIN:VEVENT
DTSTART;TZID=America/New_York:20230714T190000
DTEND;TZID=America/New_York:20230715T230000
DTSTAMP:20260423T134553
CREATED:20230623T141645Z
LAST-MODIFIED:20230623T141645Z
UID:35850-1689361200-1689462000@notoriousjazz.com
SUMMARY:CARL ALLEN QUARTET FEATURING STEVE NELSON
DESCRIPTION:Carl Allen is an American jazz drummer and educator. Allen attended William Paterson University. He has worked with a wide variety of musicians\, including Freddie Hubbard\, Jackie McLean\, George Coleman\, Phil Woods\, the Benny Green Trio and Rickie Lee Jones. It was with Green that Allen met bassist Christian McBride.
URL:https://notoriousjazz.com/event/carl-allen-quartet-featuring-steve-nelson
LOCATION:Jazz Forum Arts\, 1 Dixon Lane\, Tarrytown\, NY\, 10591\, United States
CATEGORIES:Club
ATTACH;FMTTYPE=image/png:https://notoriousjazz.com/wp-content/uploads/2023/06/CARL-ALLEN.png
END:VEVENT
BEGIN:VEVENT
DTSTART;TZID=America/New_York:20230718T193000
DTEND;TZID=America/New_York:20230718T210000
DTSTAMP:20260423T134553
CREATED:20230628T151549Z
LAST-MODIFIED:20230630T150907Z
UID:35956-1689708600-1689714000@notoriousjazz.com
SUMMARY:BILL CHARLAP TRIO
DESCRIPTION:Special Guests: Dee Dee Bridgewater & Nicholas Payton \n“There are certain gigs that remind you why you fell in love with jazz in the first place. Vocalist Dee Dee Bridgewater and pianomeister Bill Charlap did just that Friday night at Catalina’s\,” wrote Jazz Weekly following a 2022 performance at the famed LA jazz club. \nThe NEA Jazz Master and triple Grammy Award winner teams with Grammy-winning trumpeter Nicholas Payton and the Grammy-winning Bill Charlap Trio – Peter Washington on bass\, Kenny Washington on drums – to open the 2023 Jazz in July season. They bring the artistic alchemy that has made their collaborations a joyride of spontaneous storytelling and improvisation\, making this opening concert one not to miss.
URL:https://notoriousjazz.com/event/bill-charlap-trio-3
LOCATION:92NY150\, 1395 Lexington Avenue\, New York\, NY\, 10128\, United States
CATEGORIES:Concert
ATTACH;FMTTYPE=image/jpeg:https://notoriousjazz.com/wp-content/uploads/2023/06/CHARLAP-BRIDGEWATER-PAYTON.jpg
END:VEVENT
BEGIN:VEVENT
DTSTART;TZID=America/New_York:20230720T193000
DTEND;TZID=America/New_York:20230720T210000
DTSTAMP:20260423T134553
CREATED:20230628T152414Z
LAST-MODIFIED:20230630T150738Z
UID:35959-1689881400-1689886800@notoriousjazz.com
SUMMARY:BILL CHARLAP\, AARON DIEHL\, ISAIAH J. THOMPSON\, CAELAN CARDELLO
DESCRIPTION:With Noriko Ueda and Carl Allen\n\nThe present – and future – of jazz piano convenes on the stage that has hosted legends of the art form from Thelonious Monk to Hank Jones to Chick Corea. \nJazz in July artistic director Bill Charlap is joined by a dynamic virtuoso of modern jazz piano\, the sublimely talented Aaron Diehl\, and two fast-rising piano stars of the next generation. Isaiah J. Thompson\, winner of the 2023 American Pianists Awards\, has been hailed by NPR as\, “a young musician and composer with a mature touch and rare combination of talent\, creativity\, humility\, and honesty.” Caelan Cardello is the recipient of the 2021 BMI Foundation’s Future Jazz Master Award\, and has played with such major artists as Jimmy Cobb\, Rufus Reid\, and Christian McBride. Hear them all in solo\, trio\, and two-piano performances\, with the masterful rhythm team of bassist Noriko Ueda and drummer Carl Allen.
URL:https://notoriousjazz.com/event/bill-charlap-aaron-diehl-isaiah-j-thompson-caelan-cardello
LOCATION:92NY150\, 1395 Lexington Avenue\, New York\, NY\, 10128\, United States
CATEGORIES:Concert
ATTACH;FMTTYPE=image/jpeg:https://notoriousjazz.com/wp-content/uploads/2023/06/CHARLAP-DIEHL-THOMPSON-CARDELLO.jpg
END:VEVENT
END:VCALENDAR