BEGIN:VCALENDAR
VERSION:2.0
PRODID:-//Notorious Jazz - ECPv6.15.17//NONSGML v1.0//EN
CALSCALE:GREGORIAN
METHOD:PUBLISH
X-WR-CALNAME:Notorious Jazz
X-ORIGINAL-URL:https://notoriousjazz.com
X-WR-CALDESC:Events for Notorious Jazz
REFRESH-INTERVAL;VALUE=DURATION:PT1H
X-Robots-Tag:noindex
X-PUBLISHED-TTL:PT1H
BEGIN:VTIMEZONE
TZID:America/Los_Angeles
BEGIN:DAYLIGHT
TZOFFSETFROM:-0800
TZOFFSETTO:-0700
TZNAME:PDT
DTSTART:20230312T100000
END:DAYLIGHT
BEGIN:STANDARD
TZOFFSETFROM:-0700
TZOFFSETTO:-0800
TZNAME:PST
DTSTART:20231105T090000
END:STANDARD
BEGIN:DAYLIGHT
TZOFFSETFROM:-0800
TZOFFSETTO:-0700
TZNAME:PDT
DTSTART:20240310T100000
END:DAYLIGHT
BEGIN:STANDARD
TZOFFSETFROM:-0700
TZOFFSETTO:-0800
TZNAME:PST
DTSTART:20241103T090000
END:STANDARD
BEGIN:DAYLIGHT
TZOFFSETFROM:-0800
TZOFFSETTO:-0700
TZNAME:PDT
DTSTART:20250309T100000
END:DAYLIGHT
BEGIN:STANDARD
TZOFFSETFROM:-0700
TZOFFSETTO:-0800
TZNAME:PST
DTSTART:20251102T090000
END:STANDARD
END:VTIMEZONE
BEGIN:VTIMEZONE
TZID:America/New_York
BEGIN:DAYLIGHT
TZOFFSETFROM:-0500
TZOFFSETTO:-0400
TZNAME:EDT
DTSTART:20230312T070000
END:DAYLIGHT
BEGIN:STANDARD
TZOFFSETFROM:-0400
TZOFFSETTO:-0500
TZNAME:EST
DTSTART:20231105T060000
END:STANDARD
BEGIN:DAYLIGHT
TZOFFSETFROM:-0500
TZOFFSETTO:-0400
TZNAME:EDT
DTSTART:20240310T070000
END:DAYLIGHT
BEGIN:STANDARD
TZOFFSETFROM:-0400
TZOFFSETTO:-0500
TZNAME:EST
DTSTART:20241103T060000
END:STANDARD
BEGIN:DAYLIGHT
TZOFFSETFROM:-0500
TZOFFSETTO:-0400
TZNAME:EDT
DTSTART:20250309T070000
END:DAYLIGHT
BEGIN:STANDARD
TZOFFSETFROM:-0400
TZOFFSETTO:-0500
TZNAME:EST
DTSTART:20251102T060000
END:STANDARD
END:VTIMEZONE
BEGIN:VEVENT
DTSTART;TZID=America/Los_Angeles:20240802T200000
DTEND;TZID=America/Los_Angeles:20240803T233000
DTSTAMP:20260422T140346
CREATED:20240728T191350Z
LAST-MODIFIED:20240728T191350Z
UID:41824-1722628800-1722727800@notoriousjazz.com
SUMMARY:JEFF LORBER FUSION
DESCRIPTION:A consummate musician\, Jeff Lorber’s passion\, technical wizardry\, forward-thinking and earnest approach\, and sheer musicianship\, has inspired legions of musicians for over five decades. A groundbreaking Fender Rhodes pioneer along with Herbie Hancock\, Joe Sample and Bob James\, he is also one of the most in-demand producers in Contemporary Jazz. \nJEFF LORBER …KEYS/RHOADS\nJIMMY HASLIP …BASS\nGARY NOVAK …DRUMS\nALEX SILL – GUITAR \n$40.00 1st Set | $35.00 2nd Set are Inside Seating\n$20.00 Patio Seating is a live video concert\, not inside the club.
URL:https://notoriousjazz.com/event/jeff-lorber-fusion
LOCATION:The Baked Potato\, 3787 Cahuenga Boulevard\, Studio City\, CA\, 91604\, United States
CATEGORIES:Club
ATTACH;FMTTYPE=image/jpeg:https://notoriousjazz.com/wp-content/uploads/2024/07/JEFF-LORBER.jpeg
END:VEVENT
BEGIN:VEVENT
DTSTART;TZID=America/New_York:20240803T190000
DTEND;TZID=America/New_York:20240804T230000
DTSTAMP:20260422T140346
CREATED:20240803T172156Z
LAST-MODIFIED:20240803T172304Z
UID:41920-1722711600-1722812400@notoriousjazz.com
SUMMARY:BILL CHARLAP TRIO
DESCRIPTION:Grammy Award-winning pianist Bill Charlap has performed with many of the leading artists of our time\, from Phil Woods and Benny Carter to Gerry Mulligan and Wynton Marsalis. He is acclaimed for his interpretations of the American popular songbook\, and has recorded albums featuring the music of Hoagy Carmichael\, Leonard Bernstein\, George Gershwin\, Irving Berlin\, Cole Porter\, Richard Rodgers and Duke Ellington.\nThe Bill Charlap Trio\, with bassist Peter Washington and drummer Kenny Washington\, marks its 23rd year together this season\, and is recognized as one of the leading ensembles in jazz. \nBill Charlap\, piano\nPeter Washington\, bass\nKenny Washington\, drums
URL:https://notoriousjazz.com/event/bill-charlap-trio-5
LOCATION:Dazzle\, 1080 14th Street\, Denver\, CO\, 80202\, United States
CATEGORIES:Club
ATTACH;FMTTYPE=image/jpeg:https://notoriousjazz.com/wp-content/uploads/2023/05/BILL-CHARLAP.jpg
END:VEVENT
BEGIN:VEVENT
DTSTART;TZID=America/New_York:20240816T170000
DTEND;TZID=America/New_York:20240818T230000
DTSTAMP:20260422T140346
CREATED:20240704T213740Z
LAST-MODIFIED:20240704T213740Z
UID:41529-1723827600-1724022000@notoriousjazz.com
SUMMARY:THE BAYLOR PROJECT
DESCRIPTION:The Baylor Project: A husband. A wife. An astonishing debut… featuring Jean Baylor and Marcus Baylor highly anticipated collaboration is steeped in the heart and soul of Jazz. As the children of Pastors\, Marcus and Jean’s musical roots were planted deep within the church\, and it was there that the road was paved for the influence of gospel\, blues\, soul\, and jazz to make it’s mark. Their debut CD “The Journey”\, released on their own label\, Be A Light\, topped the Billboard Jazz Chart at number 8\, solidifying The Baylor Project as an undeniable force. They nabbed a 2024 GRAMMY® nomination for Best Jazz Performance for their live performance of “Vulnerable” featuring Adam Blackstone & Russell Ferrante. As you listen to “The Baylor Project\,” you will be taken on an eclectic musical journey that showcases as much versatility as it does virtuosity. \nFriday 8/16  ~ 7:00 pm w/Live Stream | 9:30 pm\nSaturday 8/17 ~ 6:00 pm w/Live Stream | 8:30 pm\nSunday 8/18 ~ 5:00 pm w/Live Stream | 7:30 pm
URL:https://notoriousjazz.com/event/the-baylor-project-3
LOCATION:Keystone Korner Baltimore\, 1350 Lancaster Street\, Baltimore\, MD\, 21231\, United States
CATEGORIES:Club
ATTACH;FMTTYPE=image/png:https://notoriousjazz.com/wp-content/uploads/2024/07/THE-BAYLOR-PROJECT.png
END:VEVENT
BEGIN:VEVENT
DTSTART;TZID=America/New_York:20240820T190000
DTEND;TZID=America/New_York:20240820T230000
DTSTAMP:20260422T140346
CREATED:20240803T172906Z
LAST-MODIFIED:20240803T172906Z
UID:41922-1724180400-1724194800@notoriousjazz.com
SUMMARY:OKAN
DESCRIPTION:Fusing Afro-Cuban roots with jazz\, folk and global rhythms in songs about immigration\, resistance and love\, OKAN takes their name from the word for heart in their Afro-Cuban religion of Santeria. With vocals in Spanish\, Yoruba and Spanglish\, OKAN is led by the Cuban-born violinist and vocalist Elizabeth Rodriguez and percussionist and vocalist Magdelys Savigne\, both Grammy and Latin-Grammy nominees. \nHaving performed and recorded with Bomba Estereo\, Lido Pimienta\, The Halifax Symphony Orchestra\, Hilario Duran and Dayme Arocena\, OKAN’s recent release Okantomi was awarded the 2024 Juno Award (the band’s second Juno recognition) and included in NPR Alt Latino\, Le Monde\, and CBC Music’s “Best of 2023” lists\, garnering critical praise from Songlines UK\, Billboard\, Pop Matters and JAZZIZ.
URL:https://notoriousjazz.com/event/okan
LOCATION:Dazzle\, 1080 14th Street\, Denver\, CO\, 80202\, United States
CATEGORIES:Club
ATTACH;FMTTYPE=image/png:https://notoriousjazz.com/wp-content/uploads/2024/08/OKAN.png
END:VEVENT
END:VCALENDAR