BEGIN:VCALENDAR
VERSION:2.0
PRODID:-//Notorious Jazz - ECPv6.15.17//NONSGML v1.0//EN
CALSCALE:GREGORIAN
METHOD:PUBLISH
X-ORIGINAL-URL:https://notoriousjazz.com
X-WR-CALDESC:Events for Notorious Jazz
REFRESH-INTERVAL;VALUE=DURATION:PT1H
X-Robots-Tag:noindex
X-PUBLISHED-TTL:PT1H
BEGIN:VTIMEZONE
TZID:America/New_York
BEGIN:DAYLIGHT
TZOFFSETFROM:-0500
TZOFFSETTO:-0400
TZNAME:EDT
DTSTART:20230312T070000
END:DAYLIGHT
BEGIN:STANDARD
TZOFFSETFROM:-0400
TZOFFSETTO:-0500
TZNAME:EST
DTSTART:20231105T060000
END:STANDARD
BEGIN:DAYLIGHT
TZOFFSETFROM:-0500
TZOFFSETTO:-0400
TZNAME:EDT
DTSTART:20240310T070000
END:DAYLIGHT
BEGIN:STANDARD
TZOFFSETFROM:-0400
TZOFFSETTO:-0500
TZNAME:EST
DTSTART:20241103T060000
END:STANDARD
BEGIN:DAYLIGHT
TZOFFSETFROM:-0500
TZOFFSETTO:-0400
TZNAME:EDT
DTSTART:20250309T070000
END:DAYLIGHT
BEGIN:STANDARD
TZOFFSETFROM:-0400
TZOFFSETTO:-0500
TZNAME:EST
DTSTART:20251102T060000
END:STANDARD
END:VTIMEZONE
BEGIN:VEVENT
DTSTART;TZID=America/New_York:20241127T170000
DTEND;TZID=America/New_York:20241201T170000
DTSTAMP:20260422T075914
CREATED:20241125T042014Z
LAST-MODIFIED:20241125T042014Z
UID:43577-1732726800-1733072400@notoriousjazz.com
SUMMARY:HERLIN RILEY AND FRIENDS
DESCRIPTION:A native of New Orleans\, Riley started on the drums when he was three. He played trumpet through high school\, but he went back to drums in college. After graduating\, he spent three years as a member of a band led by Ahmad Jamal. He has worked often with Wynton Marsalis as a member of the Jazz at Lincoln Center Orchestra and of Marsalis’s small groups. He has also worked with George Benson\, Harry Connick\, Jr.\, and Marcus Roberts. \nCover Charge: Wednesday: 7:00pm ~ $25~65 | 9:00pm Sold Out | Friday & Saturday: Sold Out | Sunday: 5:00pm & 7:30pm $25~$60 \nCelebrate Thanksgiving at Dizzy’s Club with a full menu of sumptuous holiday fare and the sounds of Herlin Riley. The celebrated New Orleans drummer\, brings his vibrant energy to Dizzy’s Club. Known for his melodic finesse and dynamic rhythms\, he has played alongside jazz legends like Ahmad Jamal and Wynton Marsalis. Experience his masterful drumming as he continues to honor the city’s rich musical legacy and inspire the next generation of artists. \nLineup: Herlin Riley ~ drums | Stacy Dillard ~ saxophone | Tyler Bullock ~ piano | Liany Mateo ~ bass \nCover Charge: Thanksgiving ~ $250.00 | Event price includes a three-course menu\, gratuity\, and admission (does not include alcohol). Please Note: There are no physical tickets for this event. Your reservation will be held under your name at the Dizzy’s host stand\, located on the fifth floor of Frederick P. Rose Hall.
URL:https://notoriousjazz.com/event/herlin-riley-and-friends
LOCATION:Dizzy’s Club\, 10 Columbus Circle\, New York City\, NY\, 10019\, United States
CATEGORIES:Club
ATTACH;FMTTYPE=image/jpeg:https://notoriousjazz.com/wp-content/uploads/2024/11/HERLIN-RILEY.jpg
END:VEVENT
BEGIN:VEVENT
DTSTART;TZID=America/New_York:20241203T190000
DTEND;TZID=America/New_York:20241207T223000
DTSTAMP:20260422T075914
CREATED:20241125T063307Z
LAST-MODIFIED:20241125T063307Z
UID:43580-1733252400-1733610600@notoriousjazz.com
SUMMARY:ULYSSES OWENS
DESCRIPTION:Award-winning drummer and bandleader Ulysses Owens\, Jr. returns to Dizzy’s Club with his powerhouse big band for a five-night engagement. Known for his electrifying performances\, Owens crafts a thrilling musical journey through original compositions and vibrant arrangements of works by giants like Terence Blanchard\, John Coltrane\, and Mulgrew Miller. His repertoire serves as a canvas for masterful improvisation\, rich orchestrations\, and spirited performances that carry on the legacy of the great big band drummers who have inspired him. Don’t miss this opportunity to experience the joy and passionate musicianship that defines Owens’ artistry. \nThe Band: Ulysses Owens Jr. ~ drums & music director | Nathaniel Williford ~ trumpet | Noah Halpern ~ trumpet | David Sneider ~ trumpet | Brandon Woody ~ trumpet (12/3-5\, 12/7) | Anthony Hervey ~ trumpet (12/6) | Michael Dease ~ trombone | Pablo Muller-Santiago ~ trombone | Altin Brennan Sencalar ~ trombone | Jack Trathen ~ trombone | Erena Terakubo ~ alto saxophone | Bruce Williams ~ alto saxophone | Diego Rivera ~ tenor saxophone | Jason Hainsworth ~ tenor saxophone | Jason Marshall ~ baritone saxophone | Luther S. Allison ~ piano | Thomas Milovac ~ bass  | Charles Turner III ~ special guest vocalist (12/6-12/7) Matthew Whitaker ~ special guest organist (12/7) \nTickets: $25.00~$65.00 | Saturday @ 7:00pm ~ Sold Out
URL:https://notoriousjazz.com/event/ulysses-owens
LOCATION:Dizzy’s Club\, 10 Columbus Circle\, New York City\, NY\, 10019\, United States
CATEGORIES:Club
ATTACH;FMTTYPE=image/jpeg:https://notoriousjazz.com/wp-content/uploads/2024/11/ULYSSES-OWENS.jpg
END:VEVENT
BEGIN:VEVENT
DTSTART;TZID=America/New_York:20241206T200000
DTEND;TZID=America/New_York:20241207T213000
DTSTAMP:20260422T075914
CREATED:20241201T205935Z
LAST-MODIFIED:20241201T212207Z
UID:43649-1733515200-1733607000@notoriousjazz.com
SUMMARY:JOE FARNSWORTH
DESCRIPTION:One of the most highly regarded jazz drummers on the scene today\, Joe is known for his blazing speed\, precision\, musical\, and melodic playing. After he studied at William Paterson College in New Jersey in 1994 where he began playing with saxophonist Eric Alexander and guitarist Peter Bernstein. \nUpon moving to New York City\, he led the weekend jazz combos at Augie’s\, now Smoke Jazz & Supper Club. He has performed with Junior Cook\, Cecil Payne\, John Ore\, Big John Patton\, Harold Mabern\, Eddie Henderson\, John Jenkins\, and his brothers John and James. His career includes recording over 100 CDs as a leader and sideman\, and on world tours with Pharaoh Sanders\, Horace Silver\, Harold Mabern\, McCoy Tyner\, Cedar Walton\, Diana Krall\, Benny Golson\, George Coleman\, Johnny Griffin\, Lou Donaldson\, Benny Green\, Barry Harris\, Curtis Fuller\, to name a few. \nThe Band: Sarah Hanahan ~ Alto Saxophone | Georgia Heers ~ Vocals | Cameron Campbell ~ Piano | Peter Washington ~ Bass | Joe Farnsworth ~ Drums \nTickets: $20 – $50 | $2.33 – $3.81 Fees
URL:https://notoriousjazz.com/event/joe-farnsworth-2
LOCATION:The Side Door\, Old Lyme Inn\, 85 Lyme Street\, Old Lyme\, CT\, 06371\, United States
CATEGORIES:Club
ATTACH;FMTTYPE=image/jpeg:https://notoriousjazz.com/wp-content/uploads/2024/12/JOE-FARNSWORTH.jpg
END:VEVENT
BEGIN:VEVENT
DTSTART;TZID=America/New_York:20241207T183000
DTEND;TZID=America/New_York:20241207T220000
DTSTAMP:20260422T075914
CREATED:20241202T040646Z
LAST-MODIFIED:20241202T040913Z
UID:43670-1733596200-1733608800@notoriousjazz.com
SUMMARY:STRAIGHT AHEAD
DESCRIPTION:Out of Detroit’s lively jazz scene\, which has produced some of the best musicians in the world\, comes the ground breaking jazz group Straight Ahead. A group of strong\, inventive instrumentalists and vocalists\, they have shown themselves to be powerful and imaginative composers and arrangers. \nWidely recognized for their eclectic and soulful approach to creating music\, the Straight Ahead sound ranges comfortably from mainstream jazz\, latin jazz and jazzy neo-soul. Their live performances are a dynamic celebration of power and joy with a wide range of musical textures\, moods and tempos. \nStraight Ahead was introduced to the world as finalist in the “Sony Innovators” competition. A national competition recognizing exceptional performers in the jazz field. They received international exposure when they were invited to open for the legendary Nina Simone at the Montreux Jazz Festival\, Switzerland. They were the first all woman jazz ensemble signed to Atlantic Records. The ensemble has shared the concert stage with a who’s who of the music world including: Kem\, Jean Luc Ponty\, Nancy Wilson\, Roy Ayers\, Tony Bennett\, George Duke\, Stanley Clarke\, Max Roach\, the Yellowjackets and Dianne Reeves. \nStraight Ahead has established itself as an enduring and prolific ensemble. Recognized for its creativity\, musicianship and dedication to making great music\, the band was inducted into the Detroit Music Awards Hall of Fame. \nThese Grammy-nominated recording artists have travelled extensively in the United States\, the Caribbean and Europe garnering rave reviews. Joy\, Power\, Love\, Wisdom…..Magic! This is the sound of what is to come. This is Straight Ahead! \nTHE BAND: \nAlina Morr- Piano \nMarion Hayden – Bass \nGayelynn McKinney- Drums \nKymberli Wright – Vocals \nIngrid Racine – Trumpet \n  \nTickets: $40.00 Prepaid Cocktail Bar | $75.00 Prepaid Dinner & Show
URL:https://notoriousjazz.com/event/straight-ahead-2
LOCATION:The Blue Llama\, 314 S Main Street\, Ann Arbor\, MI\, 48104\, United States
CATEGORIES:Club
ATTACH;FMTTYPE=image/png:https://notoriousjazz.com/wp-content/uploads/2024/12/STRAIGHT-AHEAD.png
END:VEVENT
BEGIN:VEVENT
DTSTART;TZID=America/New_York:20241212T190000
DTEND;TZID=America/New_York:20241212T223000
DTSTAMP:20260422T075914
CREATED:20241202T042726Z
LAST-MODIFIED:20241202T043008Z
UID:43674-1734030000-1734042600@notoriousjazz.com
SUMMARY:ROBERT HURST
DESCRIPTION:A Detroit Native\, Robert Hursts boasts a distinguished 30+ year career as a composer\, bassist\, educator\, and entrepreneur. Renowned for his work with icons like Sir Paul McCartney\, Wynton Marsalis\, Branford Marsalis\, Diana Krall\, Terence Blanchard\, Nicholas Payton\, Ravi Coltrane\, Kris Davis\, and the legendary Pharaoh Sanders\, Hurst’s talent shines on over 250 recordings\, earning him seven GRAMMY® Awards and numerous RIAA® certifications. Notably\, he was the inaugural bassist for The Tonight Show with Jay Leno\, garnering four EMMY® Awards from his performing\, directing\, acting\, arranging\, and composing on the NBC program. Hurst’s musical prowess extends to 30+ major motion picture scores for hits like The Wood\, Good Night and Good Luck\, and Ocean’s Eleven series. \nCurrently an Associate Professor of Music at the University of Michigan\, Hurst received an NEA Grant for groundbreaking programming at The Charles H. Wright Museum of African American History. In 2024\, he continues to shape the music landscape through curated performances\, acclaimed releases\, and global tours. Recognized in Detroit’s jazz legacy film\, “The Best of the Best: Jazz from Detroit\,” Hurst remains an integral figure in contemporary music and cultural movements. \nJEFF “TAIN” WATTS: \nJeff “Tain” Watts is one of the most in demand jazz drummers in the world today. Jeff Watts majored in classical percussion at Pittsburgh’s Duquesne University\, where he was primarily a timpanist\, followed by enrollment at the Berklee School of Music\, where he pursued jazz studies alongside such talented players as Branford Marsalis\, Kevin Eubanks\, Greg Osby\, Aimee Mann\, Steve Vai and Marvin “Smitty” Smith. Jeff joined the Wynton Marsalis Quartet in 1981 and proceeded to win three Grammy Awards with the ensemble. Watts left Wynton Marsalis in 1988. After working with George Benson\, Harry Connick. Jr. and McCoy Tyner\, he joined the Branford Marsalis Quartet in 1989. Jeff has worked in the film and television industry as both a musician on the Tonight Show with Jay Leno and as an actor\, Rhythm Jones in Spike Lee’s “Mo Better Blues”. Jeff joined Kenny Garrett’s band after returning to New York in 1995 after three years in LA on the Tonight Show. Watts also continued to record and tour with Branford Marsalis as well as Danilo Perez\, Michael Brecker\, Betty Carter\, Kenny Kirkland\, Courtney Pine\, Geri Allen\, Alice Coltrane\, Greg Osby\, Steve Coleman\, Gonzalo Rubalcaba\, and Ravi Coltrane. \nORRIN EVANS: \nDuring his kaleidoscopic quarter-century as a professional jazz musician\, pianist Orrin Evans has become the model of a fiercely independent artist  who pushes the envelope in all directions. Never supported by a major label\, Evans has ascended to top-of-the-pyramid stature on his instrument\, as affirmed by his #1-ranking as “Rising Star Pianist” in the 2018  DownBeat Critics Poll. Grammy nominations for the Smoke Sessions albums The Intangible Between and Presence\, by Evans’ raucous\, risk-friendly Captain Black Big Band\, stamp his bona fides as a bandleader and composer. In addition to CBBB\, Evans’ multifarious leader and collaborative projects include the Eubanks Evans Experience (a duo with eminent guitarist Kevin Eubanks); the Brazilian unit Terreno Comum; Evans’ working trio with bassist Luques Curtis and drummer Mark Whitfield\, Jr.; and Tar Baby (a collective trio of 20 years standing with bassist Eric Revis and drummer Nasheet Waits). One of Tar Baby’s two 2022 releases will be released on Evans’ imprint\, Imani Records\, which he founded in 2001 and relaunched in 2018. \nThe Band: Robert Hurst – Bass | Jeff “Tain” Watts – Drums | Orrin Evans – Piano \nTickets: $95.00 Dinner & Show
URL:https://notoriousjazz.com/event/robert-hurst
LOCATION:The Blue Llama\, 314 S Main Street\, Ann Arbor\, MI\, 48104\, United States
CATEGORIES:Club
ATTACH;FMTTYPE=image/png:https://notoriousjazz.com/wp-content/uploads/2024/12/ROBERT-HURST.png
END:VEVENT
BEGIN:VEVENT
DTSTART;TZID=America/New_York:20241213T190000
DTEND;TZID=America/New_York:20241214T230000
DTSTAMP:20260422T075914
CREATED:20241207T210046Z
LAST-MODIFIED:20241207T210650Z
UID:43770-1734116400-1734217200@notoriousjazz.com
SUMMARY:BILL CHARLAP TRIO
DESCRIPTION:The Bill Charlap Trio – with bassist Peter Washington and drummer Kenny Washington – is a jazz super-group with three brilliant\, accomplished talents. \nTheir dazzling interplay and near-telepathic communication has earned a Grammy Award and multiple nominations\, plus raves from audiences everywhere. Downbeat gave their new live recording\, And Then Again\, 4 ½ stars\, placing them among “the best of the best ensembles in jazz history” playing at “the epitome of their creative powers.” \nTwo Shows ~ 7:00pm & 9:30pm  | Friday 12.13  ~ 7:00pm Sold Out \nTickets: $40.00 + $3.00 fee
URL:https://notoriousjazz.com/event/bill-charlap-trio-7
LOCATION:Jazz Forum Arts\, 1 Dixon Lane\, Tarrytown\, NY\, 10591\, United States
CATEGORIES:Club
ATTACH;FMTTYPE=image/jpeg:https://notoriousjazz.com/wp-content/uploads/2024/12/BILL-CHARLAP-TRIO.jpg
END:VEVENT
BEGIN:VEVENT
DTSTART;TZID=America/New_York:20241213T203000
DTEND;TZID=America/New_York:20241213T233000
DTSTAMP:20260422T075914
CREATED:20241207T191511Z
LAST-MODIFIED:20241207T194734Z
UID:43761-1734121800-1734132600@notoriousjazz.com
SUMMARY:MATT WILSON
DESCRIPTION:Tree Jazz- The Shape of Christmas to Come Palmetto 20242 The year 2024 marks the 60th birthday of the beloved drummer\, composer\, and bandleader Matt Wilson. It also celebrates the 15th anniversary of one of Matt’s acclaimed ensembles\, the Christmas Tree- O\, featuring multi-reed legend Jeff Lederer and revered bassist Paul Sikivie. The band performed their first concert on December 9\, 2009\, in Brooklyn\, NY. They then recorded their seminal album\, Matt Wilson’s Christmas Tree-O\, at Maggie’s Farm studio on a snowy May day in 2010. The album was released in the fall of 2010 by Palmetto Records. Since then\, the band has performed extensively across the United States and Canada. Their annual sold-out engagements at the Jazz Standard (now held at Dizzy’s) have become a New York City holiday tradition. \nThe Band: Matt Wilson – drums | Jeff Lederer – saxophone | Paul Sikivie – bass \nTwo Shows ~ 8:30pm | 10:00pm \nTickets: $15.00 ~ $20.00
URL:https://notoriousjazz.com/event/matt-wilson-2
LOCATION:Firehouse 12\, 45 Crown St\, \, CT\, New Haven\, CT\, 06510\, United States
CATEGORIES:Club
ATTACH;FMTTYPE=image/jpeg:https://notoriousjazz.com/wp-content/uploads/2024/12/MATT-WILSON.jpg
END:VEVENT
BEGIN:VEVENT
DTSTART;TZID=America/New_York:20241219T223000
DTEND;TZID=America/New_York:20241219T235900
DTSTAMP:20260422T075914
CREATED:20241213T155857Z
LAST-MODIFIED:20241213T155857Z
UID:43856-1734647400-1734652740@notoriousjazz.com
SUMMARY:JOE STRASSER
DESCRIPTION:Acclaimed drummer Joe Strasser to New York City in 1990 to attend the famed jazz program at the New School. He’s since played with a “who’s who” of jazz\, including: George Coleman\, Harold Mabern\, Etta Jones\, Cecil Payne\, Jane Monheit\, Hillary Kole\, Peter Bernstein and countless others. Joe also co-led the Hotpants\, a funk band he founded with Roots/Jimmy Fallon saxophonist Ian Hendrickson-Smith. \nCover Charge: $35.00 +2 Drink Minimum \n 
URL:https://notoriousjazz.com/event/joe-strasser
LOCATION:FL
CATEGORIES:Club
ATTACH;FMTTYPE=image/jpeg:https://notoriousjazz.com/wp-content/uploads/2024/12/JOE-STRASSER.jpeg
END:VEVENT
END:VCALENDAR