BEGIN:VCALENDAR
VERSION:2.0
PRODID:-//Notorious Jazz - ECPv6.15.17//NONSGML v1.0//EN
CALSCALE:GREGORIAN
METHOD:PUBLISH
X-WR-CALNAME:Notorious Jazz
X-ORIGINAL-URL:https://notoriousjazz.com
X-WR-CALDESC:Events for Notorious Jazz
REFRESH-INTERVAL;VALUE=DURATION:PT1H
X-Robots-Tag:noindex
X-PUBLISHED-TTL:PT1H
BEGIN:VTIMEZONE
TZID:America/New_York
BEGIN:DAYLIGHT
TZOFFSETFROM:-0500
TZOFFSETTO:-0400
TZNAME:EDT
DTSTART:20240310T070000
END:DAYLIGHT
BEGIN:STANDARD
TZOFFSETFROM:-0400
TZOFFSETTO:-0500
TZNAME:EST
DTSTART:20241103T060000
END:STANDARD
BEGIN:DAYLIGHT
TZOFFSETFROM:-0500
TZOFFSETTO:-0400
TZNAME:EDT
DTSTART:20250309T070000
END:DAYLIGHT
BEGIN:STANDARD
TZOFFSETFROM:-0400
TZOFFSETTO:-0500
TZNAME:EST
DTSTART:20251102T060000
END:STANDARD
BEGIN:DAYLIGHT
TZOFFSETFROM:-0500
TZOFFSETTO:-0400
TZNAME:EDT
DTSTART:20260308T070000
END:DAYLIGHT
BEGIN:STANDARD
TZOFFSETFROM:-0400
TZOFFSETTO:-0500
TZNAME:EST
DTSTART:20261101T060000
END:STANDARD
END:VTIMEZONE
BEGIN:VEVENT
DTSTART;TZID=America/New_York:20250618T080000
DTEND;TZID=America/New_York:20250622T170000
DTSTAMP:20260421T220614
CREATED:20250606T155747Z
LAST-MODIFIED:20250606T155747Z
UID:46101-1750233600-1750611600@notoriousjazz.com
SUMMARY:DANILO PEREZ\, JOHN PATITUCCI\, ADAM CRUZ TRIO
DESCRIPTION:As a solo artist and as a collaborator with jazz giants from Dizzy Gillespie to Wayne Shorter\, for over three decades Grammy-Award Winning Panamanian Pianist-Composer Danilo Pérez has been lauded as one of the most creative forces in contemporary music. With Jazz as the anchoring foundation\, Pérez’s Global Jazz music is a blend of Panamanian roots\, Latin American folk music\, West African rhythms\, European impressionism – promoting music as a borderless and multidimensional bridge between all people. Since 1993 Pérez has released twelve albums which have earned him critical acclaim\, and numerous accolades around the world. He is a recipient of the Doris Duke Artist Award in 2021\, the United States Fellowship 2018\, and the 2009 Smithsonian Legacy Award. \nFor nearly two decades\, Pérez performed alongside bassist John Patitucci as the pianist and key collaborator of the Wayne Shorter Quartet. The quartet became known for an almost telepathic way of communicating musically\, winning the Best Jazz Instrumental Album Grammy Award in 2019 for Blue Note Records release\, EMANON. Patitucci first came to worldwide acclaim in the mid-1980s\, when his work with Chick Corea helped put him at the forefront of the jazz world. Patitucci has recorded and performed throughout the world with his own band and with countless jazz luminaries\, pop\, and classical artists. \nDrummer\, composer\, and educator Adam Cruz was born in New York City and has been a vital creative force on the international jazz scene. He leads his own group\, is an integral part of renowned pianist Danilo Pérez’s trio\, and regularly works with artists such as Tom Harrell\, The Mingus Big Band\, Joey Calderazzo\, Chris Potter\, Steve Wilson and Edward Simon. Adam currently teaches at CCNY and the Berklee Global Jazz Institute. \n*Please Note: All 7PM and 9PM shows at Smoke are Dinner Shows \nTickets: $25 | $30 | $40 | $45 – Wednesday & Thursday\, $35 | $40 | $50 | $55 -Friday & Sunday\, $35 | $50 | $60 | $65 – Saturday \n 
URL:https://notoriousjazz.com/event/danilo-perez-john-patitucci-adam-cruz-trio
LOCATION:Smoke Jazz & Supper Club\, 2751 Broadway\, New York City\, NY\, 10025\, United States
CATEGORIES:Club
ATTACH;FMTTYPE=image/png:https://notoriousjazz.com/wp-content/uploads/2025/06/PEREZ-PATITUCCI-CRUZ-@-SMOKE.png
END:VEVENT
BEGIN:VEVENT
DTSTART;TZID=America/New_York:20250627T193000
DTEND;TZID=America/New_York:20250627T210000
DTSTAMP:20260421T220614
CREATED:20250627T140130Z
LAST-MODIFIED:20250628T202851Z
UID:46308-1751052600-1751058000@notoriousjazz.com
SUMMARY:PIECES OF A DREAM
DESCRIPTION:The group was formed in Philadelphia during 1976 by bassist Cedric Napoleon\, drummer Curtis Harmon\, and keyboardist James Lloyd who were all teenagers at the time. The group based their name on “Pieces of Dreams”\, a Michel Legrand tune recorded by Stanley Turrentine that they regularly performed. In 1981 Pieces of a Dream had a minor soul hit with “Warm Weather” with vocals by singer Barbara Walker and synthesizer by Dexter Wansel\, which was recorded on Elektra Records and co-produced by Dexter Wansel. In late 1983\, the group had their most successful single\, “Fo-Fi-Fo”\, which peaked at No. 13 on the US soul chart. During their time with Elektra Records from 1981 to 1983\, the group’s first three albums were produced by saxophonist Grover Washington\, Jr. \nOver the course of their nearly 50 year career they have released twenty albums\, the last of which was Fired Up in 2021 and the final recording session for bassist Cedric A. Napoleon who died in June 2024. They have never lost their heat! \nCover: $70.25
URL:https://notoriousjazz.com/event/pieces-of-a-dream
LOCATION:Birchmere\, 3701 Mt Vernon Avenue\, Alexandria\, VA\, 22305\, United States
CATEGORIES:Club
ATTACH;FMTTYPE=image/png:https://notoriousjazz.com/wp-content/uploads/2025/06/PIECES-OF-A-DREAM-@-BIRCHMERE.png
END:VEVENT
END:VCALENDAR