BEGIN:VCALENDAR
VERSION:2.0
PRODID:-//Notorious Jazz - ECPv6.15.17//NONSGML v1.0//EN
CALSCALE:GREGORIAN
METHOD:PUBLISH
X-ORIGINAL-URL:https://notoriousjazz.com
X-WR-CALDESC:Events for Notorious Jazz
REFRESH-INTERVAL;VALUE=DURATION:PT1H
X-Robots-Tag:noindex
X-PUBLISHED-TTL:PT1H
BEGIN:VTIMEZONE
TZID:Europe/London
BEGIN:DAYLIGHT
TZOFFSETFROM:+0000
TZOFFSETTO:+0100
TZNAME:BST
DTSTART:20240331T010000
END:DAYLIGHT
BEGIN:STANDARD
TZOFFSETFROM:+0100
TZOFFSETTO:+0000
TZNAME:GMT
DTSTART:20241027T010000
END:STANDARD
BEGIN:DAYLIGHT
TZOFFSETFROM:+0000
TZOFFSETTO:+0100
TZNAME:BST
DTSTART:20250330T010000
END:DAYLIGHT
BEGIN:STANDARD
TZOFFSETFROM:+0100
TZOFFSETTO:+0000
TZNAME:GMT
DTSTART:20251026T010000
END:STANDARD
BEGIN:DAYLIGHT
TZOFFSETFROM:+0000
TZOFFSETTO:+0100
TZNAME:BST
DTSTART:20260329T010000
END:DAYLIGHT
BEGIN:STANDARD
TZOFFSETFROM:+0100
TZOFFSETTO:+0000
TZNAME:GMT
DTSTART:20261025T010000
END:STANDARD
END:VTIMEZONE
BEGIN:VTIMEZONE
TZID:America/New_York
BEGIN:DAYLIGHT
TZOFFSETFROM:-0500
TZOFFSETTO:-0400
TZNAME:EDT
DTSTART:20240310T070000
END:DAYLIGHT
BEGIN:STANDARD
TZOFFSETFROM:-0400
TZOFFSETTO:-0500
TZNAME:EST
DTSTART:20241103T060000
END:STANDARD
BEGIN:DAYLIGHT
TZOFFSETFROM:-0500
TZOFFSETTO:-0400
TZNAME:EDT
DTSTART:20250309T070000
END:DAYLIGHT
BEGIN:STANDARD
TZOFFSETFROM:-0400
TZOFFSETTO:-0500
TZNAME:EST
DTSTART:20251102T060000
END:STANDARD
BEGIN:DAYLIGHT
TZOFFSETFROM:-0500
TZOFFSETTO:-0400
TZNAME:EDT
DTSTART:20260308T070000
END:DAYLIGHT
BEGIN:STANDARD
TZOFFSETFROM:-0400
TZOFFSETTO:-0500
TZNAME:EST
DTSTART:20261101T060000
END:STANDARD
END:VTIMEZONE
BEGIN:VEVENT
DTSTART;TZID=Europe/London:20251001T183000
DTEND;TZID=Europe/London:20251001T195000
DTSTAMP:20260421T121557
CREATED:20250928T020816Z
LAST-MODIFIED:20250928T031914Z
UID:47405-1759343400-1759348200@notoriousjazz.com
SUMMARY:RONNIE SCOTT'S ALL STARS
DESCRIPTION:It has been named jazz’s greatest year. There was definitely something in the air in 1959\, and it wasn’t just NASA: Castro took over Cuba\, Buddy Holly died in a plane crash\, Pan Am started regular flights around the world\, and NASA sent 7 astronauts into space. \nRonnie Scott’s\, of course\, was founded in 1959. The idea of opening a jazz club along the lines of the intimate and bustling venues of New York’s 52nd Street was hatched by two ardent jazz fans who happened to be very much part of a burgeoning modern jazz movement of the late fifties: tenor saxophonist Ronnie Scott who had since the late forties\, wowed the bebop brigade in a series of bands commencing with the nine-piece which featured his business partner to be and fellow saxophonist Pete King. \nThree greats of jazz died – Lester Young\, Billie Holiday and Sidney Bechet but born out of so much world turmoil were a spate of jazz masterpieces. \nIn March\, Miles Davis created the definitive jazz album in A Kind of Blue. In May\, Charles Mingus released an album called Mingus Ah Um – possibly his definitive album. Also in May\, Ornette Coleman’s album The Shape of Jazz To Come became ‘the genesis of avant-garde jazz’\, and John Coltrane recorded Giant Steps from May to December. \nWhat Miles did for harmonic shifts\, The Dave Brubeck Quartet did for rhythmic innovations with Time Out\, challenging the acceptable 4/4 and 3/4 time signatures and even creating the hit Take Five with their 5/4 time signature. \nHaving spent eight months in the Miles Davis Quintet\, Bill Evans released Portrait in Jazz in December with Paul Motian and Scott LaFaro\, often regarded as one of the greatest jazz trios. \nIn the show\, you can expect to hear a sample of music from all of these genre-defining jazz classics performed by the unmatched Ronnie Scott’s All Stars. \nLine-up \nFreddie Gavita ~ trumpet\nAlex Garnett ~ saxophone\nJames Pearson ~ piano\nSam Burgess ~ bass\nSebastian de Krom ~ drums \nTickets: £35 ~ £55 | $40.96 ~ $64.36
URL:https://notoriousjazz.com/event/ronnie-scotts-all-stars
LOCATION:Ronnie Scott’s\, 47 Frith Street\, Soho London\, England\, W1D 4HT\, United Kingdom
CATEGORIES:Club
ATTACH;FMTTYPE=image/png:https://notoriousjazz.com/wp-content/uploads/2025/09/RS-ALL-STARS-@-RONNIE-SCOTTS.png
END:VEVENT
BEGIN:VEVENT
DTSTART;TZID=Europe/London:20251007T063000
DTEND;TZID=Europe/London:20251007T223500
DTSTAMP:20260421T121557
CREATED:20250928T030806Z
LAST-MODIFIED:20250928T031819Z
UID:47412-1759818600-1759876500@notoriousjazz.com
SUMMARY:JOHNATHAN BLAKE
DESCRIPTION:Drummer-composer Johnathan Blake returns to Ronnie Scott’s with music from his powerful new Blue Note album My Life Matters. Originally commissioned by The Jazz Gallery\, the suite is both personal and political – a reflection on racial injustice\, resilience\, and family legacy. With themes that resonate deeply in today’s world\, the music moves between contemplation and confrontation\, anchored by Blake’s unmistakable rhythmic voice. \nHeralded by NPR as the ultimate modernist\, the Philadelphia-raised Johnathan Blake has been one of the most creative drummers of recent times\, backing up heavyweights from the Mingus Big Band\, Pharoah Sanders\, Q-Tip and Dr. Lonnie Smith\, to post-bop innovators Tom Harrell\, Maria Schneider and countless other distinctive voices. \nThe Band: John Ellis ~ saxophone\, ewi | Fabian Almazan ~ piano\, electronics | Jalen Baker ~ vibraphone | Ben Street ~ bass \nCover: £40 – £55 | $40.96 ~ $64.36
URL:https://notoriousjazz.com/event/johnathan-blake
LOCATION:Ronnie Scott’s\, 47 Frith Street\, Soho London\, England\, W1D 4HT\, United Kingdom
CATEGORIES:Club
ATTACH;FMTTYPE=image/png:https://notoriousjazz.com/wp-content/uploads/2025/09/JOHNATHAN-BLAKE-@-RONNIE-SCOTTS.png
END:VEVENT
BEGIN:VEVENT
DTSTART;TZID=America/New_York:20251016T190000
DTEND;TZID=America/New_York:20251019T223000
DTSTAMP:20260421T121557
CREATED:20251007T224202Z
LAST-MODIFIED:20251012T171808Z
UID:47545-1760641200-1760913000@notoriousjazz.com
SUMMARY:ADONIS ROSE & NOJO
DESCRIPTION:Feel the soul of New Orleans come alive as Grammy winner Adonis Rose and the New Orleans Jazz Orchestra present Sacred Spaces\, a powerful ballet that blends music and dance in a celebration of resilience\, community\, and hope. Created in collaboration with the renowned Cleo Parker Robinson Dance Company\, the piece was inspired by the burning of three historic Black churches in Louisiana. \nWith gospel\, funeral dirges\, and second lines woven throughout\, this unforgettable performance transforms tragedy into a stirring tribute to healing and strength and features vocalist Andromeda Turre. \nPerformance Lineup:\nAdonis Rose\, drums / Artistic Director\nAndromeda Turre\, vocals\nDavid Navarro\, trumpet\nMiles Berry\, tenor saxophone\nitch Butler\, trombone\nBrandon McCune\, piano \nTickets: $25.00 ~ $50.00
URL:https://notoriousjazz.com/event/adonis-rose-nojo
LOCATION:Dizzy’s Club\, 10 Columbus Circle\, New York City\, NY\, 10019\, United States
CATEGORIES:Club
ATTACH;FMTTYPE=image/png:https://notoriousjazz.com/wp-content/uploads/2025/10/ADONIS-ROSE-@-DIZZYS-1.png
END:VEVENT
END:VCALENDAR