BEGIN:VCALENDAR
VERSION:2.0
PRODID:-//Notorious Jazz - ECPv6.15.17//NONSGML v1.0//EN
CALSCALE:GREGORIAN
METHOD:PUBLISH
X-ORIGINAL-URL:https://notoriousjazz.com
X-WR-CALDESC:Events for Notorious Jazz
REFRESH-INTERVAL;VALUE=DURATION:PT1H
X-Robots-Tag:noindex
X-PUBLISHED-TTL:PT1H
BEGIN:VTIMEZONE
TZID:America/New_York
BEGIN:DAYLIGHT
TZOFFSETFROM:-0500
TZOFFSETTO:-0400
TZNAME:EDT
DTSTART:20250309T070000
END:DAYLIGHT
BEGIN:STANDARD
TZOFFSETFROM:-0400
TZOFFSETTO:-0500
TZNAME:EST
DTSTART:20251102T060000
END:STANDARD
BEGIN:DAYLIGHT
TZOFFSETFROM:-0500
TZOFFSETTO:-0400
TZNAME:EDT
DTSTART:20260308T070000
END:DAYLIGHT
BEGIN:STANDARD
TZOFFSETFROM:-0400
TZOFFSETTO:-0500
TZNAME:EST
DTSTART:20261101T060000
END:STANDARD
BEGIN:DAYLIGHT
TZOFFSETFROM:-0500
TZOFFSETTO:-0400
TZNAME:EDT
DTSTART:20270314T070000
END:DAYLIGHT
BEGIN:STANDARD
TZOFFSETFROM:-0400
TZOFFSETTO:-0500
TZNAME:EST
DTSTART:20271107T060000
END:STANDARD
END:VTIMEZONE
BEGIN:VEVENT
DTSTART;TZID=America/New_York:20260115T203000
DTEND;TZID=America/New_York:20260115T230000
DTSTAMP:20260421T073700
CREATED:20260107T041818Z
LAST-MODIFIED:20260107T041818Z
UID:48555-1768509000-1768518000@notoriousjazz.com
SUMMARY:JUSTICE MICHAEL
DESCRIPTION:Drummer\, producing and composing Justice Michael hits the stage with special guest Just grooving Band & DJ at TenAtl. Audiences are blown away by the rhythmic sounds that emit from this drummer\, who makes his drum set seem like a natural extension of his limbs. Justice is known for his effortless deep pocket mixed with his own creative flare that hypnotizes  the crowd.  When he plays\, it’s as simple as walking and talking to Justice. \nTwenty two year old Justice graduated from the University of Miami’s Frost School of Music\, with a Bachelor’s degree in Music.  His major was Musicianship\, Artistry Development\, and Entrepreneurship (M.A.D.E.) with a minor in Music Business and Entertainment Industry. \nHe won Amateur Night at the Apollo on three separate occasions.  Since then\, Justice has been seen with his band\, Anonymous DaBand\, opening for jazz superstars such as Najee\, Chrisette Michele\, Pieces of a Dream\, Bobby Caldwell\, Lalah Hathaway and many more. With his growing experiences\, Justice has become known in the drumming industry.  He has performed at the 2024 Atlanta Jazz Festival and recently secured endorsements with Amedia Cymbals\, and Prentice Practice Pads. \nCover: $15.00 ~ Early Bird Until 1.12 | $20.00 ~ Week Of Tickets \nCashApp: $justicemmusic | Venmo: @justicemmusic
URL:https://notoriousjazz.com/event/justice-michael
LOCATION:Ten Atl\, 495 Flat Shoals Avenue SE\, Atlanta\, Georgia\, 30316\, United States
CATEGORIES:Club
ATTACH;FMTTYPE=image/png:https://notoriousjazz.com/wp-content/uploads/2026/01/JUSTICE-MICHAEL-@-TENATL.png
END:VEVENT
END:VCALENDAR