BEGIN:VCALENDAR
VERSION:2.0
PRODID:-//Notorious Jazz - ECPv6.15.17//NONSGML v1.0//EN
CALSCALE:GREGORIAN
METHOD:PUBLISH
X-ORIGINAL-URL:https://notoriousjazz.com
X-WR-CALDESC:Events for Notorious Jazz
REFRESH-INTERVAL;VALUE=DURATION:PT1H
X-Robots-Tag:noindex
X-PUBLISHED-TTL:PT1H
BEGIN:VTIMEZONE
TZID:America/New_York
BEGIN:DAYLIGHT
TZOFFSETFROM:-0500
TZOFFSETTO:-0400
TZNAME:EDT
DTSTART:20250309T070000
END:DAYLIGHT
BEGIN:STANDARD
TZOFFSETFROM:-0400
TZOFFSETTO:-0500
TZNAME:EST
DTSTART:20251102T060000
END:STANDARD
BEGIN:DAYLIGHT
TZOFFSETFROM:-0500
TZOFFSETTO:-0400
TZNAME:EDT
DTSTART:20260308T070000
END:DAYLIGHT
BEGIN:STANDARD
TZOFFSETFROM:-0400
TZOFFSETTO:-0500
TZNAME:EST
DTSTART:20261101T060000
END:STANDARD
BEGIN:DAYLIGHT
TZOFFSETFROM:-0500
TZOFFSETTO:-0400
TZNAME:EDT
DTSTART:20270314T070000
END:DAYLIGHT
BEGIN:STANDARD
TZOFFSETFROM:-0400
TZOFFSETTO:-0500
TZNAME:EST
DTSTART:20271107T060000
END:STANDARD
END:VTIMEZONE
BEGIN:VEVENT
DTSTART;TZID=America/New_York:20260320T190000
DTEND;TZID=America/New_York:20260320T203000
DTSTAMP:20260421T050437
CREATED:20260227T013916Z
LAST-MODIFIED:20260227T013916Z
UID:49039-1774033200-1774038600@notoriousjazz.com
SUMMARY:YORON ISRAEL
DESCRIPTION:Yoron Dael Israel was born on November 24\, 1963\, in Chicago\, Illinois.  The jazz drummer learned to play organ and trumpet as a child\, then switched to drums. As a high school student\, he played in an R&B group led by his uncle. He took his bachelor’s degree at Roosevelt University and his master’s degree at Rutgers\, then became the drummer in a house band for a Chicago jazz club and worked with Hank Crawford\, David Friedman\, Von Freeman\, and Ira Sullivan. \nHe relocated to New York City in 1989 and played that year with Henry Threadgill\, Kenny Burrell\, and Jay Hoggard. In the 1990s he worked with Charles Fambrough\, Art Farmer\, Jim Hall\, Roy Hargrove\, Tom Harrell\, Ahmad Jamal\, Abbey Lincoln\, Joe Lovano\, Russell Malone\, Sonny Rollins\, Vanessa Rubin\, Horace Silver\, Ronald Muldrow and James Williams. \nHe also toured with Tony Bennett and with Steve Coleman in 1995. He taught at Rutgers from 1995 and is now an assistant professor at Berklee College of Music. \nTickets: $42.45 ~ $64.85 fee included
URL:https://notoriousjazz.com/event/yoron-israel
LOCATION:Scullers Jazz Club\, 400 Soldiers Field Road\, Boston\, MA\, 02134\, United States
CATEGORIES:Club
ATTACH;FMTTYPE=image/png:https://notoriousjazz.com/wp-content/uploads/2026/02/YORON-ISRAEL-@-SCULLERS.png
END:VEVENT
BEGIN:VEVENT
DTSTART;TZID=America/New_York:20260328T170000
DTEND;TZID=America/New_York:20260329T220000
DTSTAMP:20260421T050437
CREATED:20260303T043917Z
LAST-MODIFIED:20260303T043917Z
UID:49054-1774717200-1774821600@notoriousjazz.com
SUMMARY:ARTEMIS
DESCRIPTION:ARTEMIS is a powerful ensemble of modern jazz masters\, founded in 2017 by pianist and musical director Renee Rosnes. Each musician is a bandleader and composer and every performance encompasses inspired arrangements of classics and originals. Performances across North America and Europe at major venues and festivals have garnered high praise from audiences and critics alike. \nIt is no wonder that ARTEMIS has been awarded #1 Group of the Year in the Annual Downbeat Readers Poll in 2023\, 2024 and 2025! Their third recording “Arboresque” was released February 28\, 2025. The album is testament to the group’s evolving musical landscape featuring stellar arrangements and riveting originals contributed by all members of the band. Come hear ARTEMIS perform with joy\, passion\, and high-wire intensity – there’s no other band like it! \nRenee Rosnes – piano & keyboard\nIngrid Jensen – trumpet\nNicole Glover – tenor saxophone\nNoriko Ueda – bass\nAllison Miller – drums \nTickets: $35.00 ~ $45.00 +fee | Streaming: $15.00 +fee
URL:https://notoriousjazz.com/event/artemis-4
LOCATION:Keystone Korner Baltimore\, 1350 Lancaster Street\, Baltimore\, MD\, 21231\, United States
CATEGORIES:Club
ATTACH;FMTTYPE=image/png:https://notoriousjazz.com/wp-content/uploads/2026/03/ARTEMIS-@-KEYSTONE-KORNER.png
END:VEVENT
END:VCALENDAR