BEGIN:VCALENDAR
VERSION:2.0
PRODID:-//Notorious Jazz - ECPv6.15.17//NONSGML v1.0//EN
CALSCALE:GREGORIAN
METHOD:PUBLISH
X-ORIGINAL-URL:https://notoriousjazz.com
X-WR-CALDESC:Events for Notorious Jazz
REFRESH-INTERVAL;VALUE=DURATION:PT1H
X-Robots-Tag:noindex
X-PUBLISHED-TTL:PT1H
BEGIN:VTIMEZONE
TZID:America/New_York
BEGIN:DAYLIGHT
TZOFFSETFROM:-0500
TZOFFSETTO:-0400
TZNAME:EDT
DTSTART:20210314T070000
END:DAYLIGHT
BEGIN:STANDARD
TZOFFSETFROM:-0400
TZOFFSETTO:-0500
TZNAME:EST
DTSTART:20211107T060000
END:STANDARD
BEGIN:DAYLIGHT
TZOFFSETFROM:-0500
TZOFFSETTO:-0400
TZNAME:EDT
DTSTART:20220313T070000
END:DAYLIGHT
BEGIN:STANDARD
TZOFFSETFROM:-0400
TZOFFSETTO:-0500
TZNAME:EST
DTSTART:20221106T060000
END:STANDARD
BEGIN:DAYLIGHT
TZOFFSETFROM:-0500
TZOFFSETTO:-0400
TZNAME:EDT
DTSTART:20230312T070000
END:DAYLIGHT
BEGIN:STANDARD
TZOFFSETFROM:-0400
TZOFFSETTO:-0500
TZNAME:EST
DTSTART:20231105T060000
END:STANDARD
END:VTIMEZONE
BEGIN:VEVENT
DTSTART;TZID=America/New_York:20221104T193000
DTEND;TZID=America/New_York:20221106T233000
DTSTAMP:20260424T165428
CREATED:20220703T215355Z
LAST-MODIFIED:20220920T001719Z
UID:30809-1667590200-1667777400@notoriousjazz.com
SUMMARY:DUDUKA DA FONSECA & BRAZILIAN ALL STARS
DESCRIPTION:Duduka Da Fonseca & Brazilian All Stars: Samba Jazz & Bossa Nova \nSpecial Guest: Maucha Adnet – voice \nFeaturing:\nBilly Drewes – sax & flute\nHelio Alves – piano\nPeter Washington – bass\nDuduka Da Fonseca – drums \nBorn in Rio de Janeiro\, Duduka Da Fonseca is a 4-time Grammy Award nominated drummer. He has appeared on over 250 albums alongside American Jazz icons as well as Brazilian Jazz Icons\, including 25 albums as a leader/co-leader\, making him one of the most recorded Brazilian drummers in this idiom. \nAlso born in Rio de Janeiro\, Brazil\, Maucha Adnet started singing professionally at age 15 as part of vocal group Céu da Boca\, from 1978 to 1984. With Céu da Boca\, Maucha toured around Brazil and recorded two albums released by Polygram. From 1984 until 1994\, Maucha performed all over the world with legendary composer Antonio Carlos Jobim and that’s how she ended up in New York\, where she has been living since 1987. \nShowtimes: \nStreaming: Fri\, Sat\, November 4~5\, 7:30 pm\n$10 + $1.70 fee \nLive: Fri\, Sat\, November 4~5\, 7:30 pm & 10:00 pm\n$35 – $45 + $3.46 – $4.16 fee
URL:https://notoriousjazz.com/event/duduka-da-fonseca-brazilian-all-stars
LOCATION:Keystone Korner Baltimore\, 1350 Lancaster Street\, Baltimore\, MD\, 21231\, United States
CATEGORIES:Club
ATTACH;FMTTYPE=image/png:https://notoriousjazz.com/wp-content/uploads/2022/07/DUDUKA-DA-FONSECA-MAUCHA-ADNET.png
END:VEVENT
END:VCALENDAR