BEGIN:VCALENDAR
VERSION:2.0
PRODID:-//Notorious Jazz - ECPv6.15.17//NONSGML v1.0//EN
CALSCALE:GREGORIAN
METHOD:PUBLISH
X-ORIGINAL-URL:https://notoriousjazz.com
X-WR-CALDESC:Events for Notorious Jazz
REFRESH-INTERVAL;VALUE=DURATION:PT1H
X-Robots-Tag:noindex
X-PUBLISHED-TTL:PT1H
BEGIN:VTIMEZONE
TZID:America/Phoenix
BEGIN:STANDARD
TZOFFSETFROM:-0700
TZOFFSETTO:-0700
TZNAME:MST
DTSTART:20220101T000000
END:STANDARD
END:VTIMEZONE
BEGIN:VEVENT
DTSTART;TZID=America/Phoenix:20231013T180000
DTEND;TZID=America/Phoenix:20231013T200000
DTSTAMP:20260423T110157
CREATED:20231008T191155Z
LAST-MODIFIED:20231008T191404Z
UID:37353-1697220000-1697227200@notoriousjazz.com
SUMMARY:LEWIS NASH & THE NY ALL~STARS
DESCRIPTION:11th Anniversary House Party \nPaul Bollenback: Guitar | Dave Kikoski: Piano | Essiet Essiet: Bass | Lewis Nash: Drums \nJoin us for this spectacular private party for 60 guests featuring an intimate performance by Lewis Nash & The NY All-Stars\, complimented by a panoramic birds-eye view of Phoenix. Includes hosted wine and hors d’ouevres.
URL:https://notoriousjazz.com/event/lewis-nash-the-ny-allstars
LOCATION:The Nash\, 110 E. Roosevelt Street\, Phoenix\, AZ\, 85004\, United States
CATEGORIES:Club
ATTACH;FMTTYPE=image/jpeg:https://notoriousjazz.com/wp-content/uploads/2023/10/LEWIS-NASH.jpeg
END:VEVENT
END:VCALENDAR