BEGIN:VCALENDAR
VERSION:2.0
PRODID:-//Notorious Jazz - ECPv6.15.17//NONSGML v1.0//EN
CALSCALE:GREGORIAN
METHOD:PUBLISH
X-WR-CALNAME:Notorious Jazz
X-ORIGINAL-URL:https://notoriousjazz.com
X-WR-CALDESC:Events for Notorious Jazz
REFRESH-INTERVAL;VALUE=DURATION:PT1H
X-Robots-Tag:noindex
X-PUBLISHED-TTL:PT1H
BEGIN:VTIMEZONE
TZID:America/New_York
BEGIN:DAYLIGHT
TZOFFSETFROM:-0500
TZOFFSETTO:-0400
TZNAME:EDT
DTSTART:20220313T070000
END:DAYLIGHT
BEGIN:STANDARD
TZOFFSETFROM:-0400
TZOFFSETTO:-0500
TZNAME:EST
DTSTART:20221106T060000
END:STANDARD
BEGIN:DAYLIGHT
TZOFFSETFROM:-0500
TZOFFSETTO:-0400
TZNAME:EDT
DTSTART:20230312T070000
END:DAYLIGHT
BEGIN:STANDARD
TZOFFSETFROM:-0400
TZOFFSETTO:-0500
TZNAME:EST
DTSTART:20231105T060000
END:STANDARD
BEGIN:DAYLIGHT
TZOFFSETFROM:-0500
TZOFFSETTO:-0400
TZNAME:EDT
DTSTART:20240310T070000
END:DAYLIGHT
BEGIN:STANDARD
TZOFFSETFROM:-0400
TZOFFSETTO:-0500
TZNAME:EST
DTSTART:20241103T060000
END:STANDARD
END:VTIMEZONE
BEGIN:VEVENT
DTSTART;TZID=America/New_York:20231026T200000
DTEND;TZID=America/New_York:20231026T213000
DTSTAMP:20260423T123707
CREATED:20231008T034843Z
LAST-MODIFIED:20231008T034843Z
UID:37315-1698350400-1698355800@notoriousjazz.com
SUMMARY:CLARK TRACEY QUINTET
DESCRIPTION:Line-up: \nCLARK TRACEY drums \nJAMES OWSTON double bass \nGRAHAM HARVEY piano \nALEX CLARKE alto/tenor sax \nEMILY MASSER vocals \nMuch acclaimed jazz drummer Clark Tracey has been leading his own bands since 1981 and currently leads an ever evolving quintet as well as tribute bands to his father\, the late Stan Tracey. His latest quintet features a few of the most exciting young musicians today. \nAlex Clarke on alto and tenor sax is aged 23.  She won the Rising Star in the British Jazz Awards 2 years ago and was runner up in the BBC Young Jazz Musician last year.  Last year she successfully released her debut CD “Only A Year” with Dave Newton\, Dave Green and Clark Tracey. \nEmily Masser is an astonishing vocalist\, still 19 years of age and attending Trinity.  Her vocalese skills have already introduced her to hardened jazzers like Claire Martin and Liane Carroll who have both endorsed her and invited her to sit in with them.  Daughter of Dean Masser\, her years belie her enormous talent\, which began at Chethams School of Music. \nGraham Harvey is one of the UK’s most experienced pianists\, studied at Berkley\, MD of Incognito\, Stacey Kent’s pianist and much sought after as a freelancer. \nJames Owston on bass is 25\, a graduate of Birmingham Conservatoire and again a runner up in the BBC Young Jazz Musician Finals a few years ago. Considered by Clark to be one most technically gifted upright bassists in the UK and is now working with a variety of musicians.
URL:https://notoriousjazz.com/event/clark-tracey-quintet
LOCATION:Spicejazz Soho\, 6 Moor Street\, London\, England\, W1D 5NA\, United Kingdom
CATEGORIES:Club
ATTACH;FMTTYPE=image/jpeg:https://notoriousjazz.com/wp-content/uploads/2023/10/CLARK-TRACEY.jpeg
END:VEVENT
END:VCALENDAR