BEGIN:VCALENDAR
VERSION:2.0
PRODID:-//Notorious Jazz - ECPv6.15.17//NONSGML v1.0//EN
CALSCALE:GREGORIAN
METHOD:PUBLISH
X-ORIGINAL-URL:https://notoriousjazz.com
X-WR-CALDESC:Events for Notorious Jazz
REFRESH-INTERVAL;VALUE=DURATION:PT1H
X-Robots-Tag:noindex
X-PUBLISHED-TTL:PT1H
BEGIN:VTIMEZONE
TZID:America/New_York
BEGIN:DAYLIGHT
TZOFFSETFROM:-0500
TZOFFSETTO:-0400
TZNAME:EDT
DTSTART:20220313T070000
END:DAYLIGHT
BEGIN:STANDARD
TZOFFSETFROM:-0400
TZOFFSETTO:-0500
TZNAME:EST
DTSTART:20221106T060000
END:STANDARD
BEGIN:DAYLIGHT
TZOFFSETFROM:-0500
TZOFFSETTO:-0400
TZNAME:EDT
DTSTART:20230312T070000
END:DAYLIGHT
BEGIN:STANDARD
TZOFFSETFROM:-0400
TZOFFSETTO:-0500
TZNAME:EST
DTSTART:20231105T060000
END:STANDARD
BEGIN:DAYLIGHT
TZOFFSETFROM:-0500
TZOFFSETTO:-0400
TZNAME:EDT
DTSTART:20240310T070000
END:DAYLIGHT
BEGIN:STANDARD
TZOFFSETFROM:-0400
TZOFFSETTO:-0500
TZNAME:EST
DTSTART:20241103T060000
END:STANDARD
END:VTIMEZONE
BEGIN:VEVENT
DTSTART;TZID=America/New_York:20231230T193000
DTEND;TZID=America/New_York:20231230T230000
DTSTAMP:20260423T070625
CREATED:20231211T084458Z
LAST-MODIFIED:20231211T084458Z
UID:38262-1703964600-1703977200@notoriousjazz.com
SUMMARY:HERLIN RILEY QUARTET
DESCRIPTION:New Orleans is a drummer’s town. But in this town full of first class drummers\, Herlin Riley is “the” drummer. The Baron of the Boom Boom. The Pulse that keeps the life flowing through any body of work. \nBorn into a musical family steeped in gospel\, blues\, and jazz\, Herlin was asked by Wynton Marsalis to join him in New York City in 1988 where Herlin stayed for almost two decades\, all the while maintaining a home in New Orleans. He is still a regularly featured musician with the Jazz at Lincoln Center Orchestra\, but has been based back in his hometown for several years now — that is\, when he wasn’t on tour with Ahmad Jamal\, Dr. John\, or Harry Connick Jr. He lights up any stage with just his presence alone\, and always fires up the first class musicians who love to play with him. \nQuartet\nHerlin Riley – drums\, percussion\, vocals\nRoland Guerin – bass\nKyle Roussel – piano\nDerek Douget – saxophones
URL:https://notoriousjazz.com/event/herlin-riley-quartet
LOCATION:Snug Harbor\, 626 Frenchmen Street\, New Orleans\, LA\, 70116\, United States
CATEGORIES:Club
ATTACH;FMTTYPE=image/png:https://notoriousjazz.com/wp-content/uploads/2023/12/HERLIN-RILEY.png
END:VEVENT
END:VCALENDAR